{"text_format":"1","workbook":"xlsx","n_sheets":11,"sheets":["メニュー","受注台帳","印刷対象データ","見積書","納品書受領書","請求書","領収書","得意先マスター","商品マスター","事業主情報","ログイン情報"],"not_rendered":{"charts":0,"images":7,"macros":1,"external_links":0,"defined_names":5,"comments":2,"pivot_tables":0},"unopened":[],"bounds":{"document_bytes":16777216,"sheet_cells":100000,"rows_first":2000,"rows_last":500,"rows_between":2000,"halvings":0,"cell_chars":16384,"cell_head_chars":4096},"cells_cut":0,"cells_raw":0,"read":"whole","date_system":"1900"}

{"sheet":"メニュー","index":0,"n_rows":27,"n_cols":25,"rows_kept":27,"cut":false,"hidden":false,"merged":[]}
[]
[]
[]
[null,null,null,"見積書作成、納品・受領書作成、請求書作成、領収書作成、受注内容確認時等…"]
[null,null,"operation"]
[]
[null,null,null,null,null,null,null,null,null,null,"注文データを"]
[null,null,null,null,null,null,null,null,null,null,"数年間管理する"]
[null,null,null,"1行1案件　該当項目に入力する"]
[]
[]
[]
[]
[]
[]
[null,null,null,"1.　見積日を入力する",null,null,null,null,null,null,"3.　印刷",null,null,null,null,null,null,"1.　納品日を入力する",null,null,null,null,null,null,"3.　印刷"]
[null,null,null,"(B列)",null,null,null,null,null,null,null,null,null,null,null,null,null,"(D列)"]
[]
[null,null,null,null,null,null,null,"2.　案件をコピペ",null,null,null,null,null,null,null,null,null,null,null,null,null,"2.　案件をコピペ"]
[]
[]
[]
[]
[null,null,null,"1.　請求日を入力する",null,null,null,null,null,null,"3.　印刷",null,null,null,null,null,null,"1.　入金日を入力する",null,null,null,null,null,null,"3.　印刷"]
[null,null,null,"(E列)",null,null,null,null,null,null,null,null,null,null,null,null,null,"(F列)"]
[]
[null,null,null,null,null,null,null,"2.　案件をコピペ",null,null,null,null,null,null,null,null,null,null,null,null,null,"2.　案件をコピペ"]

{"sheet":"受注台帳","index":1,"n_rows":200,"n_cols":69,"rows_kept":200,"cut":false,"hidden":false,"merged":[[0,64,0,68],[2,29,2,33],[2,34,2,38],[2,39,2,43],[2,44,2,48],[2,49,2,53],[2,24,2,28],[2,6,3,6],[2,54,2,58],[2,59,2,63],[2,64,2,68],[2,5,3,5],[2,1,3,1],[2,7,2,12],[2,14,2,18],[2,19,2,23],[0,2,0,3],[2,0,3,0],[2,2,3,2],[2,3,3,3],[2,4,3,4]]}
[null,null,"販売管理台帳",null,8,null,null,null,null,null,"←塗りつぶしセルは入力不可保護扱い",null,null,null,null,null,null,null,null,null,null,null,null,null,null,null,null,null,null,null,null,null,null,null,null,null,null,null,null,null,null,null,null,null,null,null,null,null,null,null,null,null,null,null,null,null,null,null,null,null,null,null,null,null,"総合計"]
[null,null,null,null,null,null,null,null,null,null,null,null,null,null,null,null,null,null,null,null,null,null,null,null,null,null,null,null,null,null,null,null,null,null,null,null,null,null,null,null,null,null,null,null,null,null,null,null,null,null,null,null,null,null,null,null,null,null,null,null,null,null,null,null,{"$f":"SUM(BM5:BM200)","v":1407800},null,{"$f":"SUM(BO5:BO200)","v":140780},{"$f":"SUM(BP5:BP200)","v":80},{"$f":"SUM(BQ5:BQ200)","v":1548500}]
["月度","見積日","受注日","納品日","請求日","入金日","伝票番号","注文",null,null,null,null,null,null,"１項目",null,null,null,null,"２項目",null,null,null,null,"３項目",null,null,null,null,"４項目",null,null,null,null,"５項目",null,null,null,null,"６項目",null,null,null,null,"７項目",null,null,null,null,"８項目",null,null,null,null,"９項目",null,null,null,null,"１０項目",null,null,null,null,"合計"]
[null,null,null,null,null,null,null,"得意先\nコード","会社名","担当者","郵便番号","住所1","住所2",null,"商品\nコード","商品名","数量","単価","金額","商品\nコード","商品名","数量","単価","金額","商品\nコード","商品名","数量","単価","金額","商品\nコード","商品名","数量","単価","金額","商品\nコード","商品名","数量","単価","金額","商品\nコード","商品名","数量","単価","金額","商品\nコード","商品名","数量","単価","金額","商品\nコード","商品名","数量","単価","金額","商品\nコード","商品名","数量","単価","金額","商品\nコード","商品名","数量","単価","金額","合計金額","税率","消費税","値引き","合計"]
[{"$f":"IF(ISBLANK(C5),\"\",MONTH(C5))","v":12},"2021-12-20","2021-12-22","2021-12-24","2021-12-26","2021-12-28",22001,1101,{"$f":"IFERROR(VLOOKUP(H5,得意先マスター!$B$7:$H$103,2,FALSE),\"\")","v":"東京アトリエ"},{"$f":"IFERROR(VLOOKUP(H5,得意先マスター!$B$7:$H$103,3,FALSE),\"\")","v":"商品開発部　新庄"},{"$f":"IFERROR(VLOOKUP(H5,得意先マスター!$B$7:$H$103,4,FALSE),\"\")","v":"131-0045"},{"$f":"IFERROR(VLOOKUP(H5,得意先マスター!$B$7:$H$103,5,FALSE),\"\")","v":"東京都墨田区"},{"$f":"IFERROR(VLOOKUP(H5,得意先マスター!$B$7:$H$103,6,FALSE),\"\")","v":"押上１丁目１−２"},null,11101,{"$f":"IFERROR(VLOOKUP(O5,商品マスター!$B$7:$D$53,2,FALSE),\"\")","v":"ミニテーブル"},10,{"$f":"IFERROR(VLOOKUP(O5,商品マスター!$B$7:$D$53,3,FALSE),\"\")","v":1200},{"$f":"IFERROR(Q5*R5,0)","v":12000},11201,{"$f":"IFERROR(VLOOKUP(T5,商品マスター!$B$7:$D$53,2,FALSE),\"\")","v":"隙間に便利なミニテーブル"},20,{"$f":"IFERROR(VLOOKUP(T5,商品マスター!$B$7:$D$53,3,FALSE),\"\")","v":3000},{"$f":"IFERROR(V5*W5,0)","v":60000},12101,{"$f":"IFERROR(VLOOKUP(Y5,商品マスター!$B$7:$D$53,2,FALSE),\"\")","v":"綺麗な歯ブラシ置き場"},30,{"$f":"IFERROR(VLOOKUP(Y5,商品マスター!$B$7:$D$53,3,FALSE),\"\")","v":1200},{"$f":"IFERROR(AA5*AB5,0)","v":36000},12201,{"$f":"IFERROR(VLOOKUP(AD5,商品マスター!$B$7:$D$53,2,FALSE),\"\")","v":"スッキリさせるポケット収納"},40,{"$f":"IFERROR(VLOOKUP(AD5,商品マスター!$B$7:$D$53,3,FALSE),\"\")","v":3000},{"$f":"IFERROR(AF5*AG5,0)","v":120000},13101,{"$f":"IFERROR(VLOOKUP(AI5,商品マスター!$B$7:$D$53,2,FALSE),\"\")","v":"紙物収納ウォールラック"},50,{"$f":"IFERROR(VLOOKUP(AI5,商品マスター!$B$7:$D$53,3,FALSE),\"\")","v":1500},{"$f":"IFERROR(AK5*AL5,0)","v":75000},13201,{"$f":"IFERROR(VLOOKUP(AN5,商品マスター!$B$7:$D$53,2,FALSE),\"\")","v":"コンパクトなマガジンラック"},60,{"$f":"IFERROR(VLOOKUP(AN5,商品マスター!$B$7:$D$53,3,FALSE),\"\")","v":2500},{"$f":"IFERROR(AP5*AQ5,0)","v":150000},13201,{"$f":"IFERROR(VLOOKUP(AS5,商品マスター!$B$7:$D$53,2,FALSE),\"\")","v":"コンパクトなマガジンラック"},70,{"$f":"IFERROR(VLOOKUP(AS5,商品マスター!$B$7:$D$53,3,FALSE),\"\")","v":2500},{"$f":"IFERROR(AU5*AV5,0)","v":175000},13201,{"$f":"IFERROR(VLOOKUP(AX5,商品マスター!$B$7:$D$53,2,FALSE),\"\")","v":"コンパクトなマガジンラック"},80,{"$f":"IFERROR(VLOOKUP(AX5,商品マスター!$B$7:$D$53,3,FALSE),\"\")","v":2500},{"$f":"IFERROR(AZ5*BA5,0)","v":200000},13201,{"$f":"IFERROR(VLOOKUP(BC5,商品マスター!$B$7:$D$53,2,FALSE),\"\")","v":"コンパクトなマガジンラック"},90,{"$f":"IFERROR(VLOOKUP(BC5,商品マスター!$B$7:$D$53,3,FALSE),\"\")","v":2500},{"$f":"IFERROR(BE5*BF5,0)","v":225000},13201,{"$f":"IFERROR(VLOOKUP(BH5,商品マスター!$B$7:$D$53,2,FALSE),\"\")","v":"コンパクトなマガジンラック"},100,{"$f":"IFERROR(VLOOKUP(BH5,商品マスター!$B$7:$D$53,3,FALSE),\"\")","v":2500},{"$f":"IFERROR(BJ5*BK5,0)","v":250000},{"$f":"IFERROR(S5+X5+AC5+AH5+AM5+AR5+AW5+BB5+BG5+BL5, \"\")","v":1303000},0.1,{"$f":"IFERROR(BM5*BN5, \"\")","v":130300},null,{"$f":"BM5+BO5-BP5","v":1433300}]
[{"$f":"IF(ISBLANK(C6),\"\",MONTH(C6))","v":5},"2022-05-10","2022-05-12",null,null,null,22002,1101,{"$f":"IFERROR(VLOOKUP(H6,得意先マスター!$B$7:$H$103,2,FALSE),\"\")","v":"東京アトリエ"},{"$f":"IFERROR(VLOOKUP(H6,得意先マスター!$B$7:$H$103,3,FALSE),\"\")","v":"商品開発部　新庄"},{"$f":"IFERROR(VLOOKUP(H6,得意先マスター!$B$7:$H$103,4,FALSE),\"\")","v":"131-0045"},{"$f":"IFERROR(VLOOKUP(H6,得意先マスター!$B$7:$H$103,5,FALSE),\"\")","v":"東京都墨田区"},{"$f":"IFERROR(VLOOKUP(H6,得意先マスター!$B$7:$H$103,6,FALSE),\"\")","v":"押上１丁目１−２"},null,11101,{"$f":"IFERROR(VLOOKUP(O6,商品マスター!$B$7:$D$53,2,FALSE),\"\")","v":"ミニテーブル"},1,{"$f":"IFERROR(VLOOKUP(O6,商品マスター!$B$7:$D$53,3,FALSE),\"\")","v":1200},{"$f":"IFERROR(Q6*R6,0)","v":1200},11201,{"$f":"IFERROR(VLOOKUP(T6,商品マスター!$B$7:$D$53,2,FALSE),\"\")","v":"隙間に便利なミニテーブル"},2,{"$f":"IFERROR(VLOOKUP(T6,商品マスター!$B$7:$D$53,3,FALSE),\"\")","v":3000},{"$f":"IFERROR(V6*W6,0)","v":6000},12101,{"$f":"IFERROR(VLOOKUP(Y6,商品マスター!$B$7:$D$53,2,FALSE),\"\")","v":"綺麗な歯ブラシ置き場"},3,{"$f":"IFERROR(VLOOKUP(Y6,商品マスター!$B$7:$D$53,3,FALSE),\"\")","v":1200},{"$f":"IFERROR(AA6*AB6,0)","v":3600},12201,{"$f":"IFERROR(VLOOKUP(AD6,商品マスター!$B$7:$D$53,2,FALSE),\"\")","v":"スッキリさせるポケット収納"},4,{"$f":"IFERROR(VLOOKUP(AD6,商品マスター!$B$7:$D$53,3,FALSE),\"\")","v":3000},{"$f":"IFERROR(AF6*AG6,0)","v":12000},13101,{"$f":"IFERROR(VLOOKUP(AI6,商品マスター!$B$7:$D$53,2,FALSE),\"\")","v":"紙物収納ウォールラック"},5,{"$f":"IFERROR(VLOOKUP(AI6,商品マスター!$B$7:$D$53,3,FALSE),\"\")","v":1500},{"$f":"IFERROR(AK6*AL6,0)","v":7500},13201,{"$f":"IFERROR(VLOOKUP(AN6,商品マスター!$B$7:$D$53,2,FALSE),\"\")","v":"コンパクトなマガジンラック"},6,{"$f":"IFERROR(VLOOKUP(AN6,商品マスター!$B$7:$D$53,3,FALSE),\"\")","v":2500},{"$f":"IFERROR(AP6*AQ6,0)","v":15000},null,{"$f":"IFERROR(VLOOKUP(AS6,商品マスター!$B$7:$D$53,2,FALSE),\"\")","v":""},null,{"$f":"IFERROR(VLOOKUP(AS6,商品マスター!$B$7:$D$53,3,FALSE),\"\")","v":""},{"$f":"IFERROR(AU6*AV6,0)","v":0},null,{"$f":"IFERROR(VLOOKUP(AX6,商品マスター!$B$7:$D$53,2,FALSE),\"\")","v":""},null,{"$f":"IFERROR(VLOOKUP(AX6,商品マスター!$B$7:$D$53,3,FALSE),\"\")","v":""},{"$f":"IFERROR(AZ6*BA6,0)","v":0},null,{"$f":"IFERROR(VLOOKUP(BC6,商品マスター!$B$7:$D$53,2,FALSE),\"\")","v":""},null,{"$f":"IFERROR(VLOOKUP(BC6,商品マスター!$B$7:$D$53,3,FALSE),\"\")","v":""},{"$f":"IFERROR(BE6*BF6,0)","v":0},null,{"$f":"IFERROR(VLOOKUP(BH6,商品マスター!$B$7:$D$53,2,FALSE),\"\")","v":""},null,{"$f":"IFERROR(VLOOKUP(BH6,商品マスター!$B$7:$D$53,3,FALSE),\"\")","v":""},{"$f":"IFERROR(BJ6*BK6,0)","v":0},{"$f":"IFERROR(S6+X6+AC6+AH6+AM6+AR6+AW6+BB6+BG6+BL6, \"\")","v":45300},0.1,{"$f":"IFERROR(BM6*BN6, \"\")","v":4530},30,{"$f":"BM6+BO6-BP6","v":49800}]
[{"$f":"IF(ISBLANK(C7),\"\",MONTH(C7))","v":6},"2022-06-01","2022-06-03","2022-06-05",null,null,22003,2101,{"$f":"IFERROR(VLOOKUP(H7,得意先マスター!$B$7:$H$103,2,FALSE),\"\")","v":"東京ヒルズ"},{"$f":"IFERROR(VLOOKUP(H7,得意先マスター!$B$7:$H$103,3,FALSE),\"\")","v":"営業部　山下"},{"$f":"IFERROR(VLOOKUP(H7,得意先マスター!$B$7:$H$103,4,FALSE),\"\")","v":"123-4567"},{"$f":"IFERROR(VLOOKUP(H7,得意先マスター!$B$7:$H$103,5,FALSE),\"\")","v":"東京都港区"},{"$f":"IFERROR(VLOOKUP(H7,得意先マスター!$B$7:$H$103,6,FALSE),\"\")","v":"六本木10-20-30"},null,11201,{"$f":"IFERROR(VLOOKUP(O7,商品マスター!$B$7:$D$53,2,FALSE),\"\")","v":"隙間に便利なミニテーブル"},2,{"$f":"IFERROR(VLOOKUP(O7,商品マスター!$B$7:$D$53,3,FALSE),\"\")","v":3000},{"$f":"IFERROR(Q7*R7,0)","v":6000},null,{"$f":"IFERROR(VLOOKUP(T7,商品マスター!$B$7:$D$53,2,FALSE),\"\")","v":""},null,{"$f":"IFERROR(VLOOKUP(T7,商品マスター!$B$7:$D$53,3,FALSE),\"\")","v":""},{"$f":"IFERROR(V7*W7,0)","v":0},null,{"$f":"IFERROR(VLOOKUP(Y7,商品マスター!$B$7:$D$53,2,FALSE),\"\")","v":""},null,{"$f":"IFERROR(VLOOKUP(Y7,商品マスター!$B$7:$D$53,3,FALSE),\"\")","v":""},{"$f":"IFERROR(AA7*AB7,0)","v":0},null,{"$f":"IFERROR(VLOOKUP(AD7,商品マスター!$B$7:$D$53,2,FALSE),\"\")","v":""},null,{"$f":"IFERROR(VLOOKUP(AD7,商品マスター!$B$7:$D$53,3,FALSE),\"\")","v":""},{"$f":"IFERROR(AF7*AG7,0)","v":0},null,{"$f":"IFERROR(VLOOKUP(AI7,商品マスター!$B$7:$D$53,2,FALSE),\"\")","v":""},null,{"$f":"IFERROR(VLOOKUP(AI7,商品マスター!$B$7:$D$53,3,FALSE),\"\")","v":""},{"$f":"IFERROR(AK7*AL7,0)","v":0},null,{"$f":"IFERROR(VLOOKUP(AN7,商品マスター!$B$7:$D$53,2,FALSE),\"\")","v":""},null,{"$f":"IFERROR(VLOOKUP(AN7,商品マスター!$B$7:$D$53,3,FALSE),\"\")","v":""},{"$f":"IFERROR(AP7*AQ7,0)","v":0},null,{"$f":"IFERROR(VLOOKUP(AS7,商品マスター!$B$7:$D$53,2,FALSE),\"\")","v":""},null,{"$f":"IFERROR(VLOOKUP(AS7,商品マスター!$B$7:$D$53,3,FALSE),\"\")","v":""},{"$f":"IFERROR(AU7*AV7,0)","v":0},null,{"$f":"IFERROR(VLOOKUP(AX7,商品マスター!$B$7:$D$53,2,FALSE),\"\")","v":""},null,{"$f":"IFERROR(VLOOKUP(AX7,商品マスター!$B$7:$D$53,3,FALSE),\"\")","v":""},{"$f":"IFERROR(AZ7*BA7,0)","v":0},null,{"$f":"IFERROR(VLOOKUP(BC7,商品マスター!$B$7:$D$53,2,FALSE),\"\")","v":""},null,{"$f":"IFERROR(VLOOKUP(BC7,商品マスター!$B$7:$D$53,3,FALSE),\"\")","v":""},{"$f":"IFERROR(BE7*BF7,0)","v":0},null,{"$f":"IFERROR(VLOOKUP(BH7,商品マスター!$B$7:$D$53,2,FALSE),\"\")","v":""},null,{"$f":"IFERROR(VLOOKUP(BH7,商品マスター!$B$7:$D$53,3,FALSE),\"\")","v":""},{"$f":"IFERROR(BJ7*BK7,0)","v":0},{"$f":"IFERROR(S7+X7+AC7+AH7+AM7+AR7+AW7+BB7+BG7+BL7, \"\")","v":6000},0.1,{"$f":"IFERROR(BM7*BN7, \"\")","v":600},null,{"$f":"BM7+BO7-BP7","v":6600}]
[6,"2022-06-10","2022-06-11","2022-06-15","2022-06-15","2022-06-30",22004,2101,{"$f":"IFERROR(VLOOKUP(H8,得意先マスター!$B$7:$H$103,2,FALSE),\"\")","v":"東京ヒルズ"},{"$f":"IFERROR(VLOOKUP(H8,得意先マスター!$B$7:$H$103,3,FALSE),\"\")","v":"営業部　山下"},{"$f":"IFERROR(VLOOKUP(H8,得意先マスター!$B$7:$H$103,4,FALSE),\"\")","v":"123-4567"},{"$f":"IFERROR(VLOOKUP(H8,得意先マスター!$B$7:$H$103,5,FALSE),\"\")","v":"東京都港区"},{"$f":"IFERROR(VLOOKUP(H8,得意先マスター!$B$7:$H$103,6,FALSE),\"\")","v":"六本木10-20-30"},null,12102,{"$f":"IFERROR(VLOOKUP(O8,商品マスター!$B$7:$D$53,2,FALSE),\"\")","v":"バタフライチェア　ネイビー"},5,{"$f":"IFERROR(VLOOKUP(O8,商品マスター!$B$7:$D$53,3,FALSE),\"\")","v":4900},24500,13102,{"$f":"IFERROR(VLOOKUP(T8,商品マスター!$B$7:$D$53,2,FALSE),\"\")","v":"木製折りたたみラック"},10,{"$f":"IFERROR(VLOOKUP(T8,商品マスター!$B$7:$D$53,3,FALSE),\"\")","v":2900},29000,null,{"$f":"IFERROR(VLOOKUP(Y8,商品マスター!$B$7:$D$53,2,FALSE),\"\")","v":""},null,{"$f":"IFERROR(VLOOKUP(Y8,商品マスター!$B$7:$D$53,3,FALSE),\"\")","v":""},0,null,{"$f":"IFERROR(VLOOKUP(AD8,商品マスター!$B$7:$D$53,2,FALSE),\"\")","v":""},null,{"$f":"IFERROR(VLOOKUP(AD8,商品マスター!$B$7:$D$53,3,FALSE),\"\")","v":""},0,null,{"$f":"IFERROR(VLOOKUP(AI8,商品マスター!$B$7:$D$53,2,FALSE),\"\")","v":""},null,{"$f":"IFERROR(VLOOKUP(AI8,商品マスター!$B$7:$D$53,3,FALSE),\"\")","v":""},0,null,{"$f":"IFERROR(VLOOKUP(AN8,商品マスター!$B$7:$D$53,2,FALSE),\"\")","v":""},null,{"$f":"IFERROR(VLOOKUP(AN8,商品マスター!$B$7:$D$53,3,FALSE),\"\")","v":""},0,null,{"$f":"IFERROR(VLOOKUP(AS8,商品マスター!$B$7:$D$53,2,FALSE),\"\")","v":""},null,{"$f":"IFERROR(VLOOKUP(AS8,商品マスター!$B$7:$D$53,3,FALSE),\"\")","v":""},0,null,{"$f":"IFERROR(VLOOKUP(AX8,商品マスター!$B$7:$D$53,2,FALSE),\"\")","v":""},null,{"$f":"IFERROR(VLOOKUP(AX8,商品マスター!$B$7:$D$53,3,FALSE),\"\")","v":""},0,null,{"$f":"IFERROR(VLOOKUP(BC8,商品マスター!$B$7:$D$53,2,FALSE),\"\")","v":""},null,{"$f":"IFERROR(VLOOKUP(BC8,商品マスター!$B$7:$D$53,3,FALSE),\"\")","v":""},0,null,{"$f":"IFERROR(VLOOKUP(BH8,商品マスター!$B$7:$D$53,2,FALSE),\"\")","v":""},null,{"$f":"IFERROR(VLOOKUP(BH8,商品マスター!$B$7:$D$53,3,FALSE),\"\")","v":""},0,53500,0.1,5350,50,58800]
["",null,null,null,null,null,null,null,{"$f":"IFERROR(VLOOKUP(H9,得意先マスター!$B$7:$H$103,2,FALSE),\"\")","v":""},{"$f":"IFERROR(VLOOKUP(H9,得意先マスター!$B$7:$H$103,3,FALSE),\"\")","v":""},{"$f":"IFERROR(VLOOKUP(H9,得意先マスター!$B$7:$H$103,4,FALSE),\"\")","v":""},{"$f":"IFERROR(VLOOKUP(H9,得意先マスター!$B$7:$H$103,5,FALSE),\"\")","v":""},{"$f":"IFERROR(VLOOKUP(H9,得意先マスター!$B$7:$H$103,6,FALSE),\"\")","v":""},null,null,{"$f":"IFERROR(VLOOKUP(O9,商品マスター!$B$7:$D$53,2,FALSE),\"\")","v":""},null,{"$f":"IFERROR(VLOOKUP(O9,商品マスター!$B$7:$D$53,3,FALSE),\"\")","v":""},0,null,{"$f":"IFERROR(VLOOKUP(T9,商品マスター!$B$7:$D$53,2,FALSE),\"\")","v":""},null,{"$f":"IFERROR(VLOOKUP(T9,商品マスター!$B$7:$D$53,3,FALSE),\"\")","v":""},0,null,{"$f":"IFERROR(VLOOKUP(Y9,商品マスター!$B$7:$D$53,2,FALSE),\"\")","v":""},null,{"$f":"IFERROR(VLOOKUP(Y9,商品マスター!$B$7:$D$53,3,FALSE),\"\")","v":""},0,null,{"$f":"IFERROR(VLOOKUP(AD9,商品マスター!$B$7:$D$53,2,FALSE),\"\")","v":""},null,{"$f":"IFERROR(VLOOKUP(AD9,商品マスター!$B$7:$D$53,3,FALSE),\"\")","v":""},0,null,{"$f":"IFERROR(VLOOKUP(AI9,商品マスター!$B$7:$D$53,2,FALSE),\"\")","v":""},null,{"$f":"IFERROR(VLOOKUP(AI9,商品マスター!$B$7:$D$53,3,FALSE),\"\")","v":""},0,null,{"$f":"IFERROR(VLOOKUP(AN9,商品マスター!$B$7:$D$53,2,FALSE),\"\")","v":""},null,{"$f":"IFERROR(VLOOKUP(AN9,商品マスター!$B$7:$D$53,3,FALSE),\"\")","v":""},0,null,{"$f":"IFERROR(VLOOKUP(AS9,商品マスター!$B$7:$D$53,2,FALSE),\"\")","v":""},null,{"$f":"IFERROR(VLOOKUP(AS9,商品マスター!$B$7:$D$53,3,FALSE),\"\")","v":""},0,null,{"$f":"IFERROR(VLOOKUP(AX9,商品マスター!$B$7:$D$53,2,FALSE),\"\")","v":""},null,{"$f":"IFERROR(VLOOKUP(AX9,商品マスター!$B$7:$D$53,3,FALSE),\"\")","v":""},0,null,{"$f":"IFERROR(VLOOKUP(BC9,商品マスター!$B$7:$D$53,2,FALSE),\"\")","v":""},null,{"$f":"IFERROR(VLOOKUP(BC9,商品マスター!$B$7:$D$53,3,FALSE),\"\")","v":""},0,null,{"$f":"IFERROR(VLOOKUP(BH9,商品マスター!$B$7:$D$53,2,FALSE),\"\")","v":""},null,{"$f":"IFERROR(VLOOKUP(BH9,商品マスター!$B$7:$D$53,3,FALSE),\"\")","v":""},0,0,0.1,0,null,0]
["",null,null,null,null,null,null,null,{"$f":"IFERROR(VLOOKUP(H10,得意先マスター!$B$7:$H$103,2,FALSE),\"\")","v":""},{"$f":"IFERROR(VLOOKUP(H10,得意先マスター!$B$7:$H$103,3,FALSE),\"\")","v":""},{"$f":"IFERROR(VLOOKUP(H10,得意先マスター!$B$7:$H$103,4,FALSE),\"\")","v":""},{"$f":"IFERROR(VLOOKUP(H10,得意先マスター!$B$7:$H$103,5,FALSE),\"\")","v":""},{"$f":"IFERROR(VLOOKUP(H10,得意先マスター!$B$7:$H$103,6,FALSE),\"\")","v":""},null,null,{"$f":"IFERROR(VLOOKUP(O10,商品マスター!$B$7:$D$53,2,FALSE),\"\")","v":""},null,{"$f":"IFERROR(VLOOKUP(O10,商品マスター!$B$7:$D$53,3,FALSE),\"\")","v":""},0,null,{"$f":"IFERROR(VLOOKUP(T10,商品マスター!$B$7:$D$53,2,FALSE),\"\")","v":""},null,{"$f":"IFERROR(VLOOKUP(T10,商品マスター!$B$7:$D$53,3,FALSE),\"\")","v":""},0,null,{"$f":"IFERROR(VLOOKUP(Y10,商品マスター!$B$7:$D$53,2,FALSE),\"\")","v":""},null,{"$f":"IFERROR(VLOOKUP(Y10,商品マスター!$B$7:$D$53,3,FALSE),\"\")","v":""},0,null,{"$f":"IFERROR(VLOOKUP(AD10,商品マスター!$B$7:$D$53,2,FALSE),\"\")","v":""},null,{"$f":"IFERROR(VLOOKUP(AD10,商品マスター!$B$7:$D$53,3,FALSE),\"\")","v":""},0,null,{"$f":"IFERROR(VLOOKUP(AI10,商品マスター!$B$7:$D$53,2,FALSE),\"\")","v":""},null,{"$f":"IFERROR(VLOOKUP(AI10,商品マスター!$B$7:$D$53,3,FALSE),\"\")","v":""},0,null,{"$f":"IFERROR(VLOOKUP(AN10,商品マスター!$B$7:$D$53,2,FALSE),\"\")","v":""},null,{"$f":"IFERROR(VLOOKUP(AN10,商品マスター!$B$7:$D$53,3,FALSE),\"\")","v":""},0,null,{"$f":"IFERROR(VLOOKUP(AS10,商品マスター!$B$7:$D$53,2,FALSE),\"\")","v":""},null,{"$f":"IFERROR(VLOOKUP(AS10,商品マスター!$B$7:$D$53,3,FALSE),\"\")","v":""},0,null,{"$f":"IFERROR(VLOOKUP(AX10,商品マスター!$B$7:$D$53,2,FALSE),\"\")","v":""},null,{"$f":"IFERROR(VLOOKUP(AX10,商品マスター!$B$7:$D$53,3,FALSE),\"\")","v":""},0,null,{"$f":"IFERROR(VLOOKUP(BC10,商品マスター!$B$7:$D$53,2,FALSE),\"\")","v":""},null,{"$f":"IFERROR(VLOOKUP(BC10,商品マスター!$B$7:$D$53,3,FALSE),\"\")","v":""},0,null,{"$f":"IFERROR(VLOOKUP(BH10,商品マスター!$B$7:$D$53,2,FALSE),\"\")","v":""},null,{"$f":"IFERROR(VLOOKUP(BH10,商品マスター!$B$7:$D$53,3,FALSE),\"\")","v":""},0,0,0.1,0,null,0]
["",null,null,null,null,null,null,null,{"$f":"IFERROR(VLOOKUP(H11,得意先マスター!$B$7:$H$103,2,FALSE),\"\")","v":""},{"$f":"IFERROR(VLOOKUP(H11,得意先マスター!$B$7:$H$103,3,FALSE),\"\")","v":""},{"$f":"IFERROR(VLOOKUP(H11,得意先マスター!$B$7:$H$103,4,FALSE),\"\")","v":""},{"$f":"IFERROR(VLOOKUP(H11,得意先マスター!$B$7:$H$103,5,FALSE),\"\")","v":""},{"$f":"IFERROR(VLOOKUP(H11,得意先マスター!$B$7:$H$103,6,FALSE),\"\")","v":""},null,null,{"$f":"IFERROR(VLOOKUP(O11,商品マスター!$B$7:$D$53,2,FALSE),\"\")","v":""},null,{"$f":"IFERROR(VLOOKUP(O11,商品マスター!$B$7:$D$53,3,FALSE),\"\")","v":""},0,null,{"$f":"IFERROR(VLOOKUP(T11,商品マスター!$B$7:$D$53,2,FALSE),\"\")","v":""},null,{"$f":"IFERROR(VLOOKUP(T11,商品マスター!$B$7:$D$53,3,FALSE),\"\")","v":""},0,null,{"$f":"IFERROR(VLOOKUP(Y11,商品マスター!$B$7:$D$53,2,FALSE),\"\")","v":""},null,{"$f":"IFERROR(VLOOKUP(Y11,商品マスター!$B$7:$D$53,3,FALSE),\"\")","v":""},0,null,{"$f":"IFERROR(VLOOKUP(AD11,商品マスター!$B$7:$D$53,2,FALSE),\"\")","v":""},null,{"$f":"IFERROR(VLOOKUP(AD11,商品マスター!$B$7:$D$53,3,FALSE),\"\")","v":""},0,null,{"$f":"IFERROR(VLOOKUP(AI11,商品マスター!$B$7:$D$53,2,FALSE),\"\")","v":""},null,{"$f":"IFERROR(VLOOKUP(AI11,商品マスター!$B$7:$D$53,3,FALSE),\"\")","v":""},0,null,{"$f":"IFERROR(VLOOKUP(AN11,商品マスター!$B$7:$D$53,2,FALSE),\"\")","v":""},null,{"$f":"IFERROR(VLOOKUP(AN11,商品マスター!$B$7:$D$53,3,FALSE),\"\")","v":""},0,null,{"$f":"IFERROR(VLOOKUP(AS11,商品マスター!$B$7:$D$53,2,FALSE),\"\")","v":""},null,{"$f":"IFERROR(VLOOKUP(AS11,商品マスター!$B$7:$D$53,3,FALSE),\"\")","v":""},0,null,{"$f":"IFERROR(VLOOKUP(AX11,商品マスター!$B$7:$D$53,2,FALSE),\"\")","v":""},null,{"$f":"IFERROR(VLOOKUP(AX11,商品マスター!$B$7:$D$53,3,FALSE),\"\")","v":""},0,null,{"$f":"IFERROR(VLOOKUP(BC11,商品マスター!$B$7:$D$53,2,FALSE),\"\")","v":""},null,{"$f":"IFERROR(VLOOKUP(BC11,商品マスター!$B$7:$D$53,3,FALSE),\"\")","v":""},0,null,{"$f":"IFERROR(VLOOKUP(BH11,商品マスター!$B$7:$D$53,2,FALSE),\"\")","v":""},null,{"$f":"IFERROR(VLOOKUP(BH11,商品マスター!$B$7:$D$53,3,FALSE),\"\")","v":""},0,0,0.1,0,null,0]
["",null,null,null,null,null,null,null,{"$f":"IFERROR(VLOOKUP(H12,得意先マスター!$B$7:$H$103,2,FALSE),\"\")","v":""},{"$f":"IFERROR(VLOOKUP(H12,得意先マスター!$B$7:$H$103,3,FALSE),\"\")","v":""},{"$f":"IFERROR(VLOOKUP(H12,得意先マスター!$B$7:$H$103,4,FALSE),\"\")","v":""},{"$f":"IFERROR(VLOOKUP(H12,得意先マスター!$B$7:$H$103,5,FALSE),\"\")","v":""},{"$f":"IFERROR(VLOOKUP(H12,得意先マスター!$B$7:$H$103,6,FALSE),\"\")","v":""},null,null,{"$f":"IFERROR(VLOOKUP(O12,商品マスター!$B$7:$D$53,2,FALSE),\"\")","v":""},null,{"$f":"IFERROR(VLOOKUP(O12,商品マスター!$B$7:$D$53,3,FALSE),\"\")","v":""},0,null,{"$f":"IFERROR(VLOOKUP(T12,商品マスター!$B$7:$D$53,2,FALSE),\"\")","v":""},null,{"$f":"IFERROR(VLOOKUP(T12,商品マスター!$B$7:$D$53,3,FALSE),\"\")","v":""},0,null,{"$f":"IFERROR(VLOOKUP(Y12,商品マスター!$B$7:$D$53,2,FALSE),\"\")","v":""},null,{"$f":"IFERROR(VLOOKUP(Y12,商品マスター!$B$7:$D$53,3,FALSE),\"\")","v":""},0,null,{"$f":"IFERROR(VLOOKUP(AD12,商品マスター!$B$7:$D$53,2,FALSE),\"\")","v":""},null,{"$f":"IFERROR(VLOOKUP(AD12,商品マスター!$B$7:$D$53,3,FALSE),\"\")","v":""},0,null,{"$f":"IFERROR(VLOOKUP(AI12,商品マスター!$B$7:$D$53,2,FALSE),\"\")","v":""},null,{"$f":"IFERROR(VLOOKUP(AI12,商品マスター!$B$7:$D$53,3,FALSE),\"\")","v":""},0,null,{"$f":"IFERROR(VLOOKUP(AN12,商品マスター!$B$7:$D$53,2,FALSE),\"\")","v":""},null,{"$f":"IFERROR(VLOOKUP(AN12,商品マスター!$B$7:$D$53,3,FALSE),\"\")","v":""},0,null,{"$f":"IFERROR(VLOOKUP(AS12,商品マスター!$B$7:$D$53,2,FALSE),\"\")","v":""},null,{"$f":"IFERROR(VLOOKUP(AS12,商品マスター!$B$7:$D$53,3,FALSE),\"\")","v":""},0,null,{"$f":"IFERROR(VLOOKUP(AX12,商品マスター!$B$7:$D$53,2,FALSE),\"\")","v":""},null,{"$f":"IFERROR(VLOOKUP(AX12,商品マスター!$B$7:$D$53,3,FALSE),\"\")","v":""},0,null,{"$f":"IFERROR(VLOOKUP(BC12,商品マスター!$B$7:$D$53,2,FALSE),\"\")","v":""},null,{"$f":"IFERROR(VLOOKUP(BC12,商品マスター!$B$7:$D$53,3,FALSE),\"\")","v":""},0,null,{"$f":"IFERROR(VLOOKUP(BH12,商品マスター!$B$7:$D$53,2,FALSE),\"\")","v":""},null,{"$f":"IFERROR(VLOOKUP(BH12,商品マスター!$B$7:$D$53,3,FALSE),\"\")","v":""},0,0,0.1,0,null,0]
["",null,null,null,null,null,null,null,{"$f":"IFERROR(VLOOKUP(H13,得意先マスター!$B$7:$H$103,2,FALSE),\"\")","v":""},{"$f":"IFERROR(VLOOKUP(H13,得意先マスター!$B$7:$H$103,3,FALSE),\"\")","v":""},{"$f":"IFERROR(VLOOKUP(H13,得意先マスター!$B$7:$H$103,4,FALSE),\"\")","v":""},{"$f":"IFERROR(VLOOKUP(H13,得意先マスター!$B$7:$H$103,5,FALSE),\"\")","v":""},{"$f":"IFERROR(VLOOKUP(H13,得意先マスター!$B$7:$H$103,6,FALSE),\"\")","v":""},null,null,{"$f":"IFERROR(VLOOKUP(O13,商品マスター!$B$7:$D$53,2,FALSE),\"\")","v":""},null,{"$f":"IFERROR(VLOOKUP(O13,商品マスター!$B$7:$D$53,3,FALSE),\"\")","v":""},0,null,{"$f":"IFERROR(VLOOKUP(T13,商品マスター!$B$7:$D$53,2,FALSE),\"\")","v":""},null,{"$f":"IFERROR(VLOOKUP(T13,商品マスター!$B$7:$D$53,3,FALSE),\"\")","v":""},0,null,{"$f":"IFERROR(VLOOKUP(Y13,商品マスター!$B$7:$D$53,2,FALSE),\"\")","v":""},null,{"$f":"IFERROR(VLOOKUP(Y13,商品マスター!$B$7:$D$53,3,FALSE),\"\")","v":""},0,null,{"$f":"IFERROR(VLOOKUP(AD13,商品マスター!$B$7:$D$53,2,FALSE),\"\")","v":""},null,{"$f":"IFERROR(VLOOKUP(AD13,商品マスター!$B$7:$D$53,3,FALSE),\"\")","v":""},0,null,{"$f":"IFERROR(VLOOKUP(AI13,商品マスター!$B$7:$D$53,2,FALSE),\"\")","v":""},null,{"$f":"IFERROR(VLOOKUP(AI13,商品マスター!$B$7:$D$53,3,FALSE),\"\")","v":""},0,null,{"$f":"IFERROR(VLOOKUP(AN13,商品マスター!$B$7:$D$53,2,FALSE),\"\")","v":""},null,{"$f":"IFERROR(VLOOKUP(AN13,商品マスター!$B$7:$D$53,3,FALSE),\"\")","v":""},0,null,{"$f":"IFERROR(VLOOKUP(AS13,商品マスター!$B$7:$D$53,2,FALSE),\"\")","v":""},null,{"$f":"IFERROR(VLOOKUP(AS13,商品マスター!$B$7:$D$53,3,FALSE),\"\")","v":""},0,null,{"$f":"IFERROR(VLOOKUP(AX13,商品マスター!$B$7:$D$53,2,FALSE),\"\")","v":""},null,{"$f":"IFERROR(VLOOKUP(AX13,商品マスター!$B$7:$D$53,3,FALSE),\"\")","v":""},0,null,{"$f":"IFERROR(VLOOKUP(BC13,商品マスター!$B$7:$D$53,2,FALSE),\"\")","v":""},null,{"$f":"IFERROR(VLOOKUP(BC13,商品マスター!$B$7:$D$53,3,FALSE),\"\")","v":""},0,null,{"$f":"IFERROR(VLOOKUP(BH13,商品マスター!$B$7:$D$53,2,FALSE),\"\")","v":""},null,{"$f":"IFERROR(VLOOKUP(BH13,商品マスター!$B$7:$D$53,3,FALSE),\"\")","v":""},0,0,0.1,0,null,0]
["",null,null,null,null,null,null,null,{"$f":"IFERROR(VLOOKUP(H14,得意先マスター!$B$7:$H$103,2,FALSE),\"\")","v":""},{"$f":"IFERROR(VLOOKUP(H14,得意先マスター!$B$7:$H$103,3,FALSE),\"\")","v":""},{"$f":"IFERROR(VLOOKUP(H14,得意先マスター!$B$7:$H$103,4,FALSE),\"\")","v":""},{"$f":"IFERROR(VLOOKUP(H14,得意先マスター!$B$7:$H$103,5,FALSE),\"\")","v":""},{"$f":"IFERROR(VLOOKUP(H14,得意先マスター!$B$7:$H$103,6,FALSE),\"\")","v":""},null,null,{"$f":"IFERROR(VLOOKUP(O14,商品マスター!$B$7:$D$53,2,FALSE),\"\")","v":""},null,{"$f":"IFERROR(VLOOKUP(O14,商品マスター!$B$7:$D$53,3,FALSE),\"\")","v":""},0,null,{"$f":"IFERROR(VLOOKUP(T14,商品マスター!$B$7:$D$53,2,FALSE),\"\")","v":""},null,{"$f":"IFERROR(VLOOKUP(T14,商品マスター!$B$7:$D$53,3,FALSE),\"\")","v":""},0,null,{"$f":"IFERROR(VLOOKUP(Y14,商品マスター!$B$7:$D$53,2,FALSE),\"\")","v":""},null,{"$f":"IFERROR(VLOOKUP(Y14,商品マスター!$B$7:$D$53,3,FALSE),\"\")","v":""},0,null,{"$f":"IFERROR(VLOOKUP(AD14,商品マスター!$B$7:$D$53,2,FALSE),\"\")","v":""},null,{"$f":"IFERROR(VLOOKUP(AD14,商品マスター!$B$7:$D$53,3,FALSE),\"\")","v":""},0,null,{"$f":"IFERROR(VLOOKUP(AI14,商品マスター!$B$7:$D$53,2,FALSE),\"\")","v":""},null,{"$f":"IFERROR(VLOOKUP(AI14,商品マスター!$B$7:$D$53,3,FALSE),\"\")","v":""},0,null,{"$f":"IFERROR(VLOOKUP(AN14,商品マスター!$B$7:$D$53,2,FALSE),\"\")","v":""},null,{"$f":"IFERROR(VLOOKUP(AN14,商品マスター!$B$7:$D$53,3,FALSE),\"\")","v":""},0,null,{"$f":"IFERROR(VLOOKUP(AS14,商品マスター!$B$7:$D$53,2,FALSE),\"\")","v":""},null,{"$f":"IFERROR(VLOOKUP(AS14,商品マスター!$B$7:$D$53,3,FALSE),\"\")","v":""},0,null,{"$f":"IFERROR(VLOOKUP(AX14,商品マスター!$B$7:$D$53,2,FALSE),\"\")","v":""},null,{"$f":"IFERROR(VLOOKUP(AX14,商品マスター!$B$7:$D$53,3,FALSE),\"\")","v":""},0,null,{"$f":"IFERROR(VLOOKUP(BC14,商品マスター!$B$7:$D$53,2,FALSE),\"\")","v":""},null,{"$f":"IFERROR(VLOOKUP(BC14,商品マスター!$B$7:$D$53,3,FALSE),\"\")","v":""},0,null,{"$f":"IFERROR(VLOOKUP(BH14,商品マスター!$B$7:$D$53,2,FALSE),\"\")","v":""},null,{"$f":"IFERROR(VLOOKUP(BH14,商品マスター!$B$7:$D$53,3,FALSE),\"\")","v":""},0,0,0.1,0,null,0]
["",null,null,null,null,null,null,null,{"$f":"IFERROR(VLOOKUP(H15,得意先マスター!$B$7:$H$103,2,FALSE),\"\")","v":""},{"$f":"IFERROR(VLOOKUP(H15,得意先マスター!$B$7:$H$103,3,FALSE),\"\")","v":""},{"$f":"IFERROR(VLOOKUP(H15,得意先マスター!$B$7:$H$103,4,FALSE),\"\")","v":""},{"$f":"IFERROR(VLOOKUP(H15,得意先マスター!$B$7:$H$103,5,FALSE),\"\")","v":""},{"$f":"IFERROR(VLOOKUP(H15,得意先マスター!$B$7:$H$103,6,FALSE),\"\")","v":""},null,null,{"$f":"IFERROR(VLOOKUP(O15,商品マスター!$B$7:$D$53,2,FALSE),\"\")","v":""},null,{"$f":"IFERROR(VLOOKUP(O15,商品マスター!$B$7:$D$53,3,FALSE),\"\")","v":""},0,null,{"$f":"IFERROR(VLOOKUP(T15,商品マスター!$B$7:$D$53,2,FALSE),\"\")","v":""},null,{"$f":"IFERROR(VLOOKUP(T15,商品マスター!$B$7:$D$53,3,FALSE),\"\")","v":""},0,null,{"$f":"IFERROR(VLOOKUP(Y15,商品マスター!$B$7:$D$53,2,FALSE),\"\")","v":""},null,{"$f":"IFERROR(VLOOKUP(Y15,商品マスター!$B$7:$D$53,3,FALSE),\"\")","v":""},0,null,{"$f":"IFERROR(VLOOKUP(AD15,商品マスター!$B$7:$D$53,2,FALSE),\"\")","v":""},null,{"$f":"IFERROR(VLOOKUP(AD15,商品マスター!$B$7:$D$53,3,FALSE),\"\")","v":""},0,null,{"$f":"IFERROR(VLOOKUP(AI15,商品マスター!$B$7:$D$53,2,FALSE),\"\")","v":""},null,{"$f":"IFERROR(VLOOKUP(AI15,商品マスター!$B$7:$D$53,3,FALSE),\"\")","v":""},0,null,{"$f":"IFERROR(VLOOKUP(AN15,商品マスター!$B$7:$D$53,2,FALSE),\"\")","v":""},null,{"$f":"IFERROR(VLOOKUP(AN15,商品マスター!$B$7:$D$53,3,FALSE),\"\")","v":""},0,null,{"$f":"IFERROR(VLOOKUP(AS15,商品マスター!$B$7:$D$53,2,FALSE),\"\")","v":""},null,{"$f":"IFERROR(VLOOKUP(AS15,商品マスター!$B$7:$D$53,3,FALSE),\"\")","v":""},0,null,{"$f":"IFERROR(VLOOKUP(AX15,商品マスター!$B$7:$D$53,2,FALSE),\"\")","v":""},null,{"$f":"IFERROR(VLOOKUP(AX15,商品マスター!$B$7:$D$53,3,FALSE),\"\")","v":""},0,null,{"$f":"IFERROR(VLOOKUP(BC15,商品マスター!$B$7:$D$53,2,FALSE),\"\")","v":""},null,{"$f":"IFERROR(VLOOKUP(BC15,商品マスター!$B$7:$D$53,3,FALSE),\"\")","v":""},0,null,{"$f":"IFERROR(VLOOKUP(BH15,商品マスター!$B$7:$D$53,2,FALSE),\"\")","v":""},null,{"$f":"IFERROR(VLOOKUP(BH15,商品マスター!$B$7:$D$53,3,FALSE),\"\")","v":""},0,0,0.1,0,null,0]
["",null,null,null,null,null,null,null,{"$f":"IFERROR(VLOOKUP(H16,得意先マスター!$B$7:$H$103,2,FALSE),\"\")","v":""},{"$f":"IFERROR(VLOOKUP(H16,得意先マスター!$B$7:$H$103,3,FALSE),\"\")","v":""},{"$f":"IFERROR(VLOOKUP(H16,得意先マスター!$B$7:$H$103,4,FALSE),\"\")","v":""},{"$f":"IFERROR(VLOOKUP(H16,得意先マスター!$B$7:$H$103,5,FALSE),\"\")","v":""},{"$f":"IFERROR(VLOOKUP(H16,得意先マスター!$B$7:$H$103,6,FALSE),\"\")","v":""},null,null,{"$f":"IFERROR(VLOOKUP(O16,商品マスター!$B$7:$D$53,2,FALSE),\"\")","v":""},null,{"$f":"IFERROR(VLOOKUP(O16,商品マスター!$B$7:$D$53,3,FALSE),\"\")","v":""},0,null,{"$f":"IFERROR(VLOOKUP(T16,商品マスター!$B$7:$D$53,2,FALSE),\"\")","v":""},null,{"$f":"IFERROR(VLOOKUP(T16,商品マスター!$B$7:$D$53,3,FALSE),\"\")","v":""},0,null,{"$f":"IFERROR(VLOOKUP(Y16,商品マスター!$B$7:$D$53,2,FALSE),\"\")","v":""},null,{"$f":"IFERROR(VLOOKUP(Y16,商品マスター!$B$7:$D$53,3,FALSE),\"\")","v":""},0,null,{"$f":"IFERROR(VLOOKUP(AD16,商品マスター!$B$7:$D$53,2,FALSE),\"\")","v":""},null,{"$f":"IFERROR(VLOOKUP(AD16,商品マスター!$B$7:$D$53,3,FALSE),\"\")","v":""},0,null,{"$f":"IFERROR(VLOOKUP(AI16,商品マスター!$B$7:$D$53,2,FALSE),\"\")","v":""},null,{"$f":"IFERROR(VLOOKUP(AI16,商品マスター!$B$7:$D$53,3,FALSE),\"\")","v":""},0,null,{"$f":"IFERROR(VLOOKUP(AN16,商品マスター!$B$7:$D$53,2,FALSE),\"\")","v":""},null,{"$f":"IFERROR(VLOOKUP(AN16,商品マスター!$B$7:$D$53,3,FALSE),\"\")","v":""},0,null,{"$f":"IFERROR(VLOOKUP(AS16,商品マスター!$B$7:$D$53,2,FALSE),\"\")","v":""},null,{"$f":"IFERROR(VLOOKUP(AS16,商品マスター!$B$7:$D$53,3,FALSE),\"\")","v":""},0,null,{"$f":"IFERROR(VLOOKUP(AX16,商品マスター!$B$7:$D$53,2,FALSE),\"\")","v":""},null,{"$f":"IFERROR(VLOOKUP(AX16,商品マスター!$B$7:$D$53,3,FALSE),\"\")","v":""},0,null,{"$f":"IFERROR(VLOOKUP(BC16,商品マスター!$B$7:$D$53,2,FALSE),\"\")","v":""},null,{"$f":"IFERROR(VLOOKUP(BC16,商品マスター!$B$7:$D$53,3,FALSE),\"\")","v":""},0,null,{"$f":"IFERROR(VLOOKUP(BH16,商品マスター!$B$7:$D$53,2,FALSE),\"\")","v":""},null,{"$f":"IFERROR(VLOOKUP(BH16,商品マスター!$B$7:$D$53,3,FALSE),\"\")","v":""},0,0,0.1,0,null,0]
["",null,null,null,null,null,null,null,{"$f":"IFERROR(VLOOKUP(H17,得意先マスター!$B$7:$H$103,2,FALSE),\"\")","v":""},{"$f":"IFERROR(VLOOKUP(H17,得意先マスター!$B$7:$H$103,3,FALSE),\"\")","v":""},{"$f":"IFERROR(VLOOKUP(H17,得意先マスター!$B$7:$H$103,4,FALSE),\"\")","v":""},{"$f":"IFERROR(VLOOKUP(H17,得意先マスター!$B$7:$H$103,5,FALSE),\"\")","v":""},{"$f":"IFERROR(VLOOKUP(H17,得意先マスター!$B$7:$H$103,6,FALSE),\"\")","v":""},null,null,{"$f":"IFERROR(VLOOKUP(O17,商品マスター!$B$7:$D$53,2,FALSE),\"\")","v":""},null,{"$f":"IFERROR(VLOOKUP(O17,商品マスター!$B$7:$D$53,3,FALSE),\"\")","v":""},0,null,{"$f":"IFERROR(VLOOKUP(T17,商品マスター!$B$7:$D$53,2,FALSE),\"\")","v":""},null,{"$f":"IFERROR(VLOOKUP(T17,商品マスター!$B$7:$D$53,3,FALSE),\"\")","v":""},0,null,{"$f":"IFERROR(VLOOKUP(Y17,商品マスター!$B$7:$D$53,2,FALSE),\"\")","v":""},null,{"$f":"IFERROR(VLOOKUP(Y17,商品マスター!$B$7:$D$53,3,FALSE),\"\")","v":""},0,null,{"$f":"IFERROR(VLOOKUP(AD17,商品マスター!$B$7:$D$53,2,FALSE),\"\")","v":""},null,{"$f":"IFERROR(VLOOKUP(AD17,商品マスター!$B$7:$D$53,3,FALSE),\"\")","v":""},0,null,{"$f":"IFERROR(VLOOKUP(AI17,商品マスター!$B$7:$D$53,2,FALSE),\"\")","v":""},null,{"$f":"IFERROR(VLOOKUP(AI17,商品マスター!$B$7:$D$53,3,FALSE),\"\")","v":""},0,null,{"$f":"IFERROR(VLOOKUP(AN17,商品マスター!$B$7:$D$53,2,FALSE),\"\")","v":""},null,{"$f":"IFERROR(VLOOKUP(AN17,商品マスター!$B$7:$D$53,3,FALSE),\"\")","v":""},0,null,{"$f":"IFERROR(VLOOKUP(AS17,商品マスター!$B$7:$D$53,2,FALSE),\"\")","v":""},null,{"$f":"IFERROR(VLOOKUP(AS17,商品マスター!$B$7:$D$53,3,FALSE),\"\")","v":""},0,null,{"$f":"IFERROR(VLOOKUP(AX17,商品マスター!$B$7:$D$53,2,FALSE),\"\")","v":""},null,{"$f":"IFERROR(VLOOKUP(AX17,商品マスター!$B$7:$D$53,3,FALSE),\"\")","v":""},0,null,{"$f":"IFERROR(VLOOKUP(BC17,商品マスター!$B$7:$D$53,2,FALSE),\"\")","v":""},null,{"$f":"IFERROR(VLOOKUP(BC17,商品マスター!$B$7:$D$53,3,FALSE),\"\")","v":""},0,null,{"$f":"IFERROR(VLOOKUP(BH17,商品マスター!$B$7:$D$53,2,FALSE),\"\")","v":""},null,{"$f":"IFERROR(VLOOKUP(BH17,商品マスター!$B$7:$D$53,3,FALSE),\"\")","v":""},0,0,0.1,0,null,0]
["",null,null,null,null,null,null,null,{"$f":"IFERROR(VLOOKUP(H18,得意先マスター!$B$7:$H$103,2,FALSE),\"\")","v":""},{"$f":"IFERROR(VLOOKUP(H18,得意先マスター!$B$7:$H$103,3,FALSE),\"\")","v":""},{"$f":"IFERROR(VLOOKUP(H18,得意先マスター!$B$7:$H$103,4,FALSE),\"\")","v":""},{"$f":"IFERROR(VLOOKUP(H18,得意先マスター!$B$7:$H$103,5,FALSE),\"\")","v":""},{"$f":"IFERROR(VLOOKUP(H18,得意先マスター!$B$7:$H$103,6,FALSE),\"\")","v":""},null,null,{"$f":"IFERROR(VLOOKUP(O18,商品マスター!$B$7:$D$53,2,FALSE),\"\")","v":""},null,{"$f":"IFERROR(VLOOKUP(O18,商品マスター!$B$7:$D$53,3,FALSE),\"\")","v":""},0,null,{"$f":"IFERROR(VLOOKUP(T18,商品マスター!$B$7:$D$53,2,FALSE),\"\")","v":""},null,{"$f":"IFERROR(VLOOKUP(T18,商品マスター!$B$7:$D$53,3,FALSE),\"\")","v":""},0,null,{"$f":"IFERROR(VLOOKUP(Y18,商品マスター!$B$7:$D$53,2,FALSE),\"\")","v":""},null,{"$f":"IFERROR(VLOOKUP(Y18,商品マスター!$B$7:$D$53,3,FALSE),\"\")","v":""},0,null,{"$f":"IFERROR(VLOOKUP(AD18,商品マスター!$B$7:$D$53,2,FALSE),\"\")","v":""},null,{"$f":"IFERROR(VLOOKUP(AD18,商品マスター!$B$7:$D$53,3,FALSE),\"\")","v":""},0,null,{"$f":"IFERROR(VLOOKUP(AI18,商品マスター!$B$7:$D$53,2,FALSE),\"\")","v":""},null,{"$f":"IFERROR(VLOOKUP(AI18,商品マスター!$B$7:$D$53,3,FALSE),\"\")","v":""},0,null,{"$f":"IFERROR(VLOOKUP(AN18,商品マスター!$B$7:$D$53,2,FALSE),\"\")","v":""},null,{"$f":"IFERROR(VLOOKUP(AN18,商品マスター!$B$7:$D$53,3,FALSE),\"\")","v":""},0,null,{"$f":"IFERROR(VLOOKUP(AS18,商品マスター!$B$7:$D$53,2,FALSE),\"\")","v":""},null,{"$f":"IFERROR(VLOOKUP(AS18,商品マスター!$B$7:$D$53,3,FALSE),\"\")","v":""},0,null,{"$f":"IFERROR(VLOOKUP(AX18,商品マスター!$B$7:$D$53,2,FALSE),\"\")","v":""},null,{"$f":"IFERROR(VLOOKUP(AX18,商品マスター!$B$7:$D$53,3,FALSE),\"\")","v":""},0,null,{"$f":"IFERROR(VLOOKUP(BC18,商品マスター!$B$7:$D$53,2,FALSE),\"\")","v":""},null,{"$f":"IFERROR(VLOOKUP(BC18,商品マスター!$B$7:$D$53,3,FALSE),\"\")","v":""},0,null,{"$f":"IFERROR(VLOOKUP(BH18,商品マスター!$B$7:$D$53,2,FALSE),\"\")","v":""},null,{"$f":"IFERROR(VLOOKUP(BH18,商品マスター!$B$7:$D$53,3,FALSE),\"\")","v":""},0,0,0.1,0,null,0]
["",null,null,null,null,null,null,null,{"$f":"IFERROR(VLOOKUP(H19,得意先マスター!$B$7:$H$103,2,FALSE),\"\")","v":""},{"$f":"IFERROR(VLOOKUP(H19,得意先マスター!$B$7:$H$103,3,FALSE),\"\")","v":""},{"$f":"IFERROR(VLOOKUP(H19,得意先マスター!$B$7:$H$103,4,FALSE),\"\")","v":""},{"$f":"IFERROR(VLOOKUP(H19,得意先マスター!$B$7:$H$103,5,FALSE),\"\")","v":""},{"$f":"IFERROR(VLOOKUP(H19,得意先マスター!$B$7:$H$103,6,FALSE),\"\")","v":""},null,null,{"$f":"IFERROR(VLOOKUP(O19,商品マスター!$B$7:$D$53,2,FALSE),\"\")","v":""},null,{"$f":"IFERROR(VLOOKUP(O19,商品マスター!$B$7:$D$53,3,FALSE),\"\")","v":""},0,null,{"$f":"IFERROR(VLOOKUP(T19,商品マスター!$B$7:$D$53,2,FALSE),\"\")","v":""},null,{"$f":"IFERROR(VLOOKUP(T19,商品マスター!$B$7:$D$53,3,FALSE),\"\")","v":""},0,null,{"$f":"IFERROR(VLOOKUP(Y19,商品マスター!$B$7:$D$53,2,FALSE),\"\")","v":""},null,{"$f":"IFERROR(VLOOKUP(Y19,商品マスター!$B$7:$D$53,3,FALSE),\"\")","v":""},0,null,{"$f":"IFERROR(VLOOKUP(AD19,商品マスター!$B$7:$D$53,2,FALSE),\"\")","v":""},null,{"$f":"IFERROR(VLOOKUP(AD19,商品マスター!$B$7:$D$53,3,FALSE),\"\")","v":""},0,null,{"$f":"IFERROR(VLOOKUP(AI19,商品マスター!$B$7:$D$53,2,FALSE),\"\")","v":""},null,{"$f":"IFERROR(VLOOKUP(AI19,商品マスター!$B$7:$D$53,3,FALSE),\"\")","v":""},0,null,{"$f":"IFERROR(VLOOKUP(AN19,商品マスター!$B$7:$D$53,2,FALSE),\"\")","v":""},null,{"$f":"IFERROR(VLOOKUP(AN19,商品マスター!$B$7:$D$53,3,FALSE),\"\")","v":""},0,null,{"$f":"IFERROR(VLOOKUP(AS19,商品マスター!$B$7:$D$53,2,FALSE),\"\")","v":""},null,{"$f":"IFERROR(VLOOKUP(AS19,商品マスター!$B$7:$D$53,3,FALSE),\"\")","v":""},0,null,{"$f":"IFERROR(VLOOKUP(AX19,商品マスター!$B$7:$D$53,2,FALSE),\"\")","v":""},null,{"$f":"IFERROR(VLOOKUP(AX19,商品マスター!$B$7:$D$53,3,FALSE),\"\")","v":""},0,null,{"$f":"IFERROR(VLOOKUP(BC19,商品マスター!$B$7:$D$53,2,FALSE),\"\")","v":""},null,{"$f":"IFERROR(VLOOKUP(BC19,商品マスター!$B$7:$D$53,3,FALSE),\"\")","v":""},0,null,{"$f":"IFERROR(VLOOKUP(BH19,商品マスター!$B$7:$D$53,2,FALSE),\"\")","v":""},null,{"$f":"IFERROR(VLOOKUP(BH19,商品マスター!$B$7:$D$53,3,FALSE),\"\")","v":""},0,0,0.1,0,null,0]
["",null,null,null,null,null,null,null,{"$f":"IFERROR(VLOOKUP(H20,得意先マスター!$B$7:$H$103,2,FALSE),\"\")","v":""},{"$f":"IFERROR(VLOOKUP(H20,得意先マスター!$B$7:$H$103,3,FALSE),\"\")","v":""},{"$f":"IFERROR(VLOOKUP(H20,得意先マスター!$B$7:$H$103,4,FALSE),\"\")","v":""},{"$f":"IFERROR(VLOOKUP(H20,得意先マスター!$B$7:$H$103,5,FALSE),\"\")","v":""},{"$f":"IFERROR(VLOOKUP(H20,得意先マスター!$B$7:$H$103,6,FALSE),\"\")","v":""},null,null,{"$f":"IFERROR(VLOOKUP(O20,商品マスター!$B$7:$D$53,2,FALSE),\"\")","v":""},null,{"$f":"IFERROR(VLOOKUP(O20,商品マスター!$B$7:$D$53,3,FALSE),\"\")","v":""},0,null,{"$f":"IFERROR(VLOOKUP(T20,商品マスター!$B$7:$D$53,2,FALSE),\"\")","v":""},null,{"$f":"IFERROR(VLOOKUP(T20,商品マスター!$B$7:$D$53,3,FALSE),\"\")","v":""},0,null,{"$f":"IFERROR(VLOOKUP(Y20,商品マスター!$B$7:$D$53,2,FALSE),\"\")","v":""},null,{"$f":"IFERROR(VLOOKUP(Y20,商品マスター!$B$7:$D$53,3,FALSE),\"\")","v":""},0,null,{"$f":"IFERROR(VLOOKUP(AD20,商品マスター!$B$7:$D$53,2,FALSE),\"\")","v":""},null,{"$f":"IFERROR(VLOOKUP(AD20,商品マスター!$B$7:$D$53,3,FALSE),\"\")","v":""},0,null,{"$f":"IFERROR(VLOOKUP(AI20,商品マスター!$B$7:$D$53,2,FALSE),\"\")","v":""},null,{"$f":"IFERROR(VLOOKUP(AI20,商品マスター!$B$7:$D$53,3,FALSE),\"\")","v":""},0,null,{"$f":"IFERROR(VLOOKUP(AN20,商品マスター!$B$7:$D$53,2,FALSE),\"\")","v":""},null,{"$f":"IFERROR(VLOOKUP(AN20,商品マスター!$B$7:$D$53,3,FALSE),\"\")","v":""},0,null,{"$f":"IFERROR(VLOOKUP(AS20,商品マスター!$B$7:$D$53,2,FALSE),\"\")","v":""},null,{"$f":"IFERROR(VLOOKUP(AS20,商品マスター!$B$7:$D$53,3,FALSE),\"\")","v":""},0,null,{"$f":"IFERROR(VLOOKUP(AX20,商品マスター!$B$7:$D$53,2,FALSE),\"\")","v":""},null,{"$f":"IFERROR(VLOOKUP(AX20,商品マスター!$B$7:$D$53,3,FALSE),\"\")","v":""},0,null,{"$f":"IFERROR(VLOOKUP(BC20,商品マスター!$B$7:$D$53,2,FALSE),\"\")","v":""},null,{"$f":"IFERROR(VLOOKUP(BC20,商品マスター!$B$7:$D$53,3,FALSE),\"\")","v":""},0,null,{"$f":"IFERROR(VLOOKUP(BH20,商品マスター!$B$7:$D$53,2,FALSE),\"\")","v":""},null,{"$f":"IFERROR(VLOOKUP(BH20,商品マスター!$B$7:$D$53,3,FALSE),\"\")","v":""},0,0,0.1,0,null,0]
["",null,null,null,null,null,null,null,{"$f":"IFERROR(VLOOKUP(H21,得意先マスター!$B$7:$H$103,2,FALSE),\"\")","v":""},{"$f":"IFERROR(VLOOKUP(H21,得意先マスター!$B$7:$H$103,3,FALSE),\"\")","v":""},{"$f":"IFERROR(VLOOKUP(H21,得意先マスター!$B$7:$H$103,4,FALSE),\"\")","v":""},{"$f":"IFERROR(VLOOKUP(H21,得意先マスター!$B$7:$H$103,5,FALSE),\"\")","v":""},{"$f":"IFERROR(VLOOKUP(H21,得意先マスター!$B$7:$H$103,6,FALSE),\"\")","v":""},null,null,{"$f":"IFERROR(VLOOKUP(O21,商品マスター!$B$7:$D$53,2,FALSE),\"\")","v":""},null,{"$f":"IFERROR(VLOOKUP(O21,商品マスター!$B$7:$D$53,3,FALSE),\"\")","v":""},0,null,{"$f":"IFERROR(VLOOKUP(T21,商品マスター!$B$7:$D$53,2,FALSE),\"\")","v":""},null,{"$f":"IFERROR(VLOOKUP(T21,商品マスター!$B$7:$D$53,3,FALSE),\"\")","v":""},0,null,{"$f":"IFERROR(VLOOKUP(Y21,商品マスター!$B$7:$D$53,2,FALSE),\"\")","v":""},null,{"$f":"IFERROR(VLOOKUP(Y21,商品マスター!$B$7:$D$53,3,FALSE),\"\")","v":""},0,null,{"$f":"IFERROR(VLOOKUP(AD21,商品マスター!$B$7:$D$53,2,FALSE),\"\")","v":""},null,{"$f":"IFERROR(VLOOKUP(AD21,商品マスター!$B$7:$D$53,3,FALSE),\"\")","v":""},0,null,{"$f":"IFERROR(VLOOKUP(AI21,商品マスター!$B$7:$D$53,2,FALSE),\"\")","v":""},null,{"$f":"IFERROR(VLOOKUP(AI21,商品マスター!$B$7:$D$53,3,FALSE),\"\")","v":""},0,null,{"$f":"IFERROR(VLOOKUP(AN21,商品マスター!$B$7:$D$53,2,FALSE),\"\")","v":""},null,{"$f":"IFERROR(VLOOKUP(AN21,商品マスター!$B$7:$D$53,3,FALSE),\"\")","v":""},0,null,{"$f":"IFERROR(VLOOKUP(AS21,商品マスター!$B$7:$D$53,2,FALSE),\"\")","v":""},null,{"$f":"IFERROR(VLOOKUP(AS21,商品マスター!$B$7:$D$53,3,FALSE),\"\")","v":""},0,null,{"$f":"IFERROR(VLOOKUP(AX21,商品マスター!$B$7:$D$53,2,FALSE),\"\")","v":""},null,{"$f":"IFERROR(VLOOKUP(AX21,商品マスター!$B$7:$D$53,3,FALSE),\"\")","v":""},0,null,{"$f":"IFERROR(VLOOKUP(BC21,商品マスター!$B$7:$D$53,2,FALSE),\"\")","v":""},null,{"$f":"IFERROR(VLOOKUP(BC21,商品マスター!$B$7:$D$53,3,FALSE),\"\")","v":""},0,null,{"$f":"IFERROR(VLOOKUP(BH21,商品マスター!$B$7:$D$53,2,FALSE),\"\")","v":""},null,{"$f":"IFERROR(VLOOKUP(BH21,商品マスター!$B$7:$D$53,3,FALSE),\"\")","v":""},0,0,0.1,0,null,0]
["",null,null,null,null,null,null,null,{"$f":"IFERROR(VLOOKUP(H22,得意先マスター!$B$7:$H$103,2,FALSE),\"\")","v":""},{"$f":"IFERROR(VLOOKUP(H22,得意先マスター!$B$7:$H$103,3,FALSE),\"\")","v":""},{"$f":"IFERROR(VLOOKUP(H22,得意先マスター!$B$7:$H$103,4,FALSE),\"\")","v":""},{"$f":"IFERROR(VLOOKUP(H22,得意先マスター!$B$7:$H$103,5,FALSE),\"\")","v":""},{"$f":"IFERROR(VLOOKUP(H22,得意先マスター!$B$7:$H$103,6,FALSE),\"\")","v":""},null,null,{"$f":"IFERROR(VLOOKUP(O22,商品マスター!$B$7:$D$53,2,FALSE),\"\")","v":""},null,{"$f":"IFERROR(VLOOKUP(O22,商品マスター!$B$7:$D$53,3,FALSE),\"\")","v":""},0,null,{"$f":"IFERROR(VLOOKUP(T22,商品マスター!$B$7:$D$53,2,FALSE),\"\")","v":""},null,{"$f":"IFERROR(VLOOKUP(T22,商品マスター!$B$7:$D$53,3,FALSE),\"\")","v":""},0,null,{"$f":"IFERROR(VLOOKUP(Y22,商品マスター!$B$7:$D$53,2,FALSE),\"\")","v":""},null,{"$f":"IFERROR(VLOOKUP(Y22,商品マスター!$B$7:$D$53,3,FALSE),\"\")","v":""},0,null,{"$f":"IFERROR(VLOOKUP(AD22,商品マスター!$B$7:$D$53,2,FALSE),\"\")","v":""},null,{"$f":"IFERROR(VLOOKUP(AD22,商品マスター!$B$7:$D$53,3,FALSE),\"\")","v":""},0,null,{"$f":"IFERROR(VLOOKUP(AI22,商品マスター!$B$7:$D$53,2,FALSE),\"\")","v":""},null,{"$f":"IFERROR(VLOOKUP(AI22,商品マスター!$B$7:$D$53,3,FALSE),\"\")","v":""},0,null,{"$f":"IFERROR(VLOOKUP(AN22,商品マスター!$B$7:$D$53,2,FALSE),\"\")","v":""},null,{"$f":"IFERROR(VLOOKUP(AN22,商品マスター!$B$7:$D$53,3,FALSE),\"\")","v":""},0,null,{"$f":"IFERROR(VLOOKUP(AS22,商品マスター!$B$7:$D$53,2,FALSE),\"\")","v":""},null,{"$f":"IFERROR(VLOOKUP(AS22,商品マスター!$B$7:$D$53,3,FALSE),\"\")","v":""},0,null,{"$f":"IFERROR(VLOOKUP(AX22,商品マスター!$B$7:$D$53,2,FALSE),\"\")","v":""},null,{"$f":"IFERROR(VLOOKUP(AX22,商品マスター!$B$7:$D$53,3,FALSE),\"\")","v":""},0,null,{"$f":"IFERROR(VLOOKUP(BC22,商品マスター!$B$7:$D$53,2,FALSE),\"\")","v":""},null,{"$f":"IFERROR(VLOOKUP(BC22,商品マスター!$B$7:$D$53,3,FALSE),\"\")","v":""},0,null,{"$f":"IFERROR(VLOOKUP(BH22,商品マスター!$B$7:$D$53,2,FALSE),\"\")","v":""},null,{"$f":"IFERROR(VLOOKUP(BH22,商品マスター!$B$7:$D$53,3,FALSE),\"\")","v":""},0,0,0.1,0,null,0]
["",null,null,null,null,null,null,null,{"$f":"IFERROR(VLOOKUP(H23,得意先マスター!$B$7:$H$103,2,FALSE),\"\")","v":""},{"$f":"IFERROR(VLOOKUP(H23,得意先マスター!$B$7:$H$103,3,FALSE),\"\")","v":""},{"$f":"IFERROR(VLOOKUP(H23,得意先マスター!$B$7:$H$103,4,FALSE),\"\")","v":""},{"$f":"IFERROR(VLOOKUP(H23,得意先マスター!$B$7:$H$103,5,FALSE),\"\")","v":""},{"$f":"IFERROR(VLOOKUP(H23,得意先マスター!$B$7:$H$103,6,FALSE),\"\")","v":""},null,null,{"$f":"IFERROR(VLOOKUP(O23,商品マスター!$B$7:$D$53,2,FALSE),\"\")","v":""},null,{"$f":"IFERROR(VLOOKUP(O23,商品マスター!$B$7:$D$53,3,FALSE),\"\")","v":""},0,null,{"$f":"IFERROR(VLOOKUP(T23,商品マスター!$B$7:$D$53,2,FALSE),\"\")","v":""},null,{"$f":"IFERROR(VLOOKUP(T23,商品マスター!$B$7:$D$53,3,FALSE),\"\")","v":""},0,null,{"$f":"IFERROR(VLOOKUP(Y23,商品マスター!$B$7:$D$53,2,FALSE),\"\")","v":""},null,{"$f":"IFERROR(VLOOKUP(Y23,商品マスター!$B$7:$D$53,3,FALSE),\"\")","v":""},0,null,{"$f":"IFERROR(VLOOKUP(AD23,商品マスター!$B$7:$D$53,2,FALSE),\"\")","v":""},null,{"$f":"IFERROR(VLOOKUP(AD23,商品マスター!$B$7:$D$53,3,FALSE),\"\")","v":""},0,null,{"$f":"IFERROR(VLOOKUP(AI23,商品マスター!$B$7:$D$53,2,FALSE),\"\")","v":""},null,{"$f":"IFERROR(VLOOKUP(AI23,商品マスター!$B$7:$D$53,3,FALSE),\"\")","v":""},0,null,{"$f":"IFERROR(VLOOKUP(AN23,商品マスター!$B$7:$D$53,2,FALSE),\"\")","v":""},null,{"$f":"IFERROR(VLOOKUP(AN23,商品マスター!$B$7:$D$53,3,FALSE),\"\")","v":""},0,null,{"$f":"IFERROR(VLOOKUP(AS23,商品マスター!$B$7:$D$53,2,FALSE),\"\")","v":""},null,{"$f":"IFERROR(VLOOKUP(AS23,商品マスター!$B$7:$D$53,3,FALSE),\"\")","v":""},0,null,{"$f":"IFERROR(VLOOKUP(AX23,商品マスター!$B$7:$D$53,2,FALSE),\"\")","v":""},null,{"$f":"IFERROR(VLOOKUP(AX23,商品マスター!$B$7:$D$53,3,FALSE),\"\")","v":""},0,null,{"$f":"IFERROR(VLOOKUP(BC23,商品マスター!$B$7:$D$53,2,FALSE),\"\")","v":""},null,{"$f":"IFERROR(VLOOKUP(BC23,商品マスター!$B$7:$D$53,3,FALSE),\"\")","v":""},0,null,{"$f":"IFERROR(VLOOKUP(BH23,商品マスター!$B$7:$D$53,2,FALSE),\"\")","v":""},null,{"$f":"IFERROR(VLOOKUP(BH23,商品マスター!$B$7:$D$53,3,FALSE),\"\")","v":""},0,0,0.1,0,null,0]
["",null,null,null,null,null,null,null,{"$f":"IFERROR(VLOOKUP(H24,得意先マスター!$B$7:$H$103,2,FALSE),\"\")","v":""},{"$f":"IFERROR(VLOOKUP(H24,得意先マスター!$B$7:$H$103,3,FALSE),\"\")","v":""},{"$f":"IFERROR(VLOOKUP(H24,得意先マスター!$B$7:$H$103,4,FALSE),\"\")","v":""},{"$f":"IFERROR(VLOOKUP(H24,得意先マスター!$B$7:$H$103,5,FALSE),\"\")","v":""},{"$f":"IFERROR(VLOOKUP(H24,得意先マスター!$B$7:$H$103,6,FALSE),\"\")","v":""},null,null,{"$f":"IFERROR(VLOOKUP(O24,商品マスター!$B$7:$D$53,2,FALSE),\"\")","v":""},null,{"$f":"IFERROR(VLOOKUP(O24,商品マスター!$B$7:$D$53,3,FALSE),\"\")","v":""},0,null,{"$f":"IFERROR(VLOOKUP(T24,商品マスター!$B$7:$D$53,2,FALSE),\"\")","v":""},null,{"$f":"IFERROR(VLOOKUP(T24,商品マスター!$B$7:$D$53,3,FALSE),\"\")","v":""},0,null,{"$f":"IFERROR(VLOOKUP(Y24,商品マスター!$B$7:$D$53,2,FALSE),\"\")","v":""},null,{"$f":"IFERROR(VLOOKUP(Y24,商品マスター!$B$7:$D$53,3,FALSE),\"\")","v":""},0,null,{"$f":"IFERROR(VLOOKUP(AD24,商品マスター!$B$7:$D$53,2,FALSE),\"\")","v":""},null,{"$f":"IFERROR(VLOOKUP(AD24,商品マスター!$B$7:$D$53,3,FALSE),\"\")","v":""},0,null,{"$f":"IFERROR(VLOOKUP(AI24,商品マスター!$B$7:$D$53,2,FALSE),\"\")","v":""},null,{"$f":"IFERROR(VLOOKUP(AI24,商品マスター!$B$7:$D$53,3,FALSE),\"\")","v":""},0,null,{"$f":"IFERROR(VLOOKUP(AN24,商品マスター!$B$7:$D$53,2,FALSE),\"\")","v":""},null,{"$f":"IFERROR(VLOOKUP(AN24,商品マスター!$B$7:$D$53,3,FALSE),\"\")","v":""},0,null,{"$f":"IFERROR(VLOOKUP(AS24,商品マスター!$B$7:$D$53,2,FALSE),\"\")","v":""},null,{"$f":"IFERROR(VLOOKUP(AS24,商品マスター!$B$7:$D$53,3,FALSE),\"\")","v":""},0,null,{"$f":"IFERROR(VLOOKUP(AX24,商品マスター!$B$7:$D$53,2,FALSE),\"\")","v":""},null,{"$f":"IFERROR(VLOOKUP(AX24,商品マスター!$B$7:$D$53,3,FALSE),\"\")","v":""},0,null,{"$f":"IFERROR(VLOOKUP(BC24,商品マスター!$B$7:$D$53,2,FALSE),\"\")","v":""},null,{"$f":"IFERROR(VLOOKUP(BC24,商品マスター!$B$7:$D$53,3,FALSE),\"\")","v":""},0,null,{"$f":"IFERROR(VLOOKUP(BH24,商品マスター!$B$7:$D$53,2,FALSE),\"\")","v":""},null,{"$f":"IFERROR(VLOOKUP(BH24,商品マスター!$B$7:$D$53,3,FALSE),\"\")","v":""},0,0,0.1,0,null,0]
["",null,null,null,null,null,null,null,{"$f":"IFERROR(VLOOKUP(H25,得意先マスター!$B$7:$H$103,2,FALSE),\"\")","v":""},{"$f":"IFERROR(VLOOKUP(H25,得意先マスター!$B$7:$H$103,3,FALSE),\"\")","v":""},{"$f":"IFERROR(VLOOKUP(H25,得意先マスター!$B$7:$H$103,4,FALSE),\"\")","v":""},{"$f":"IFERROR(VLOOKUP(H25,得意先マスター!$B$7:$H$103,5,FALSE),\"\")","v":""},{"$f":"IFERROR(VLOOKUP(H25,得意先マスター!$B$7:$H$103,6,FALSE),\"\")","v":""},null,null,{"$f":"IFERROR(VLOOKUP(O25,商品マスター!$B$7:$D$53,2,FALSE),\"\")","v":""},null,{"$f":"IFERROR(VLOOKUP(O25,商品マスター!$B$7:$D$53,3,FALSE),\"\")","v":""},0,null,{"$f":"IFERROR(VLOOKUP(T25,商品マスター!$B$7:$D$53,2,FALSE),\"\")","v":""},null,{"$f":"IFERROR(VLOOKUP(T25,商品マスター!$B$7:$D$53,3,FALSE),\"\")","v":""},0,null,{"$f":"IFERROR(VLOOKUP(Y25,商品マスター!$B$7:$D$53,2,FALSE),\"\")","v":""},null,{"$f":"IFERROR(VLOOKUP(Y25,商品マスター!$B$7:$D$53,3,FALSE),\"\")","v":""},0,null,{"$f":"IFERROR(VLOOKUP(AD25,商品マスター!$B$7:$D$53,2,FALSE),\"\")","v":""},null,{"$f":"IFERROR(VLOOKUP(AD25,商品マスター!$B$7:$D$53,3,FALSE),\"\")","v":""},0,null,{"$f":"IFERROR(VLOOKUP(AI25,商品マスター!$B$7:$D$53,2,FALSE),\"\")","v":""},null,{"$f":"IFERROR(VLOOKUP(AI25,商品マスター!$B$7:$D$53,3,FALSE),\"\")","v":""},0,null,{"$f":"IFERROR(VLOOKUP(AN25,商品マスター!$B$7:$D$53,2,FALSE),\"\")","v":""},null,{"$f":"IFERROR(VLOOKUP(AN25,商品マスター!$B$7:$D$53,3,FALSE),\"\")","v":""},0,null,{"$f":"IFERROR(VLOOKUP(AS25,商品マスター!$B$7:$D$53,2,FALSE),\"\")","v":""},null,{"$f":"IFERROR(VLOOKUP(AS25,商品マスター!$B$7:$D$53,3,FALSE),\"\")","v":""},0,null,{"$f":"IFERROR(VLOOKUP(AX25,商品マスター!$B$7:$D$53,2,FALSE),\"\")","v":""},null,{"$f":"IFERROR(VLOOKUP(AX25,商品マスター!$B$7:$D$53,3,FALSE),\"\")","v":""},0,null,{"$f":"IFERROR(VLOOKUP(BC25,商品マスター!$B$7:$D$53,2,FALSE),\"\")","v":""},null,{"$f":"IFERROR(VLOOKUP(BC25,商品マスター!$B$7:$D$53,3,FALSE),\"\")","v":""},0,null,{"$f":"IFERROR(VLOOKUP(BH25,商品マスター!$B$7:$D$53,2,FALSE),\"\")","v":""},null,{"$f":"IFERROR(VLOOKUP(BH25,商品マスター!$B$7:$D$53,3,FALSE),\"\")","v":""},0,0,0.1,0,null,0]
["",null,null,null,null,null,null,null,{"$f":"IFERROR(VLOOKUP(H26,得意先マスター!$B$7:$H$103,2,FALSE),\"\")","v":""},{"$f":"IFERROR(VLOOKUP(H26,得意先マスター!$B$7:$H$103,3,FALSE),\"\")","v":""},{"$f":"IFERROR(VLOOKUP(H26,得意先マスター!$B$7:$H$103,4,FALSE),\"\")","v":""},{"$f":"IFERROR(VLOOKUP(H26,得意先マスター!$B$7:$H$103,5,FALSE),\"\")","v":""},{"$f":"IFERROR(VLOOKUP(H26,得意先マスター!$B$7:$H$103,6,FALSE),\"\")","v":""},null,null,{"$f":"IFERROR(VLOOKUP(O26,商品マスター!$B$7:$D$53,2,FALSE),\"\")","v":""},null,{"$f":"IFERROR(VLOOKUP(O26,商品マスター!$B$7:$D$53,3,FALSE),\"\")","v":""},0,null,{"$f":"IFERROR(VLOOKUP(T26,商品マスター!$B$7:$D$53,2,FALSE),\"\")","v":""},null,{"$f":"IFERROR(VLOOKUP(T26,商品マスター!$B$7:$D$53,3,FALSE),\"\")","v":""},0,null,{"$f":"IFERROR(VLOOKUP(Y26,商品マスター!$B$7:$D$53,2,FALSE),\"\")","v":""},null,{"$f":"IFERROR(VLOOKUP(Y26,商品マスター!$B$7:$D$53,3,FALSE),\"\")","v":""},0,null,{"$f":"IFERROR(VLOOKUP(AD26,商品マスター!$B$7:$D$53,2,FALSE),\"\")","v":""},null,{"$f":"IFERROR(VLOOKUP(AD26,商品マスター!$B$7:$D$53,3,FALSE),\"\")","v":""},0,null,{"$f":"IFERROR(VLOOKUP(AI26,商品マスター!$B$7:$D$53,2,FALSE),\"\")","v":""},null,{"$f":"IFERROR(VLOOKUP(AI26,商品マスター!$B$7:$D$53,3,FALSE),\"\")","v":""},0,null,{"$f":"IFERROR(VLOOKUP(AN26,商品マスター!$B$7:$D$53,2,FALSE),\"\")","v":""},null,{"$f":"IFERROR(VLOOKUP(AN26,商品マスター!$B$7:$D$53,3,FALSE),\"\")","v":""},0,null,{"$f":"IFERROR(VLOOKUP(AS26,商品マスター!$B$7:$D$53,2,FALSE),\"\")","v":""},null,{"$f":"IFERROR(VLOOKUP(AS26,商品マスター!$B$7:$D$53,3,FALSE),\"\")","v":""},0,null,{"$f":"IFERROR(VLOOKUP(AX26,商品マスター!$B$7:$D$53,2,FALSE),\"\")","v":""},null,{"$f":"IFERROR(VLOOKUP(AX26,商品マスター!$B$7:$D$53,3,FALSE),\"\")","v":""},0,null,{"$f":"IFERROR(VLOOKUP(BC26,商品マスター!$B$7:$D$53,2,FALSE),\"\")","v":""},null,{"$f":"IFERROR(VLOOKUP(BC26,商品マスター!$B$7:$D$53,3,FALSE),\"\")","v":""},0,null,{"$f":"IFERROR(VLOOKUP(BH26,商品マスター!$B$7:$D$53,2,FALSE),\"\")","v":""},null,{"$f":"IFERROR(VLOOKUP(BH26,商品マスター!$B$7:$D$53,3,FALSE),\"\")","v":""},0,0,0.1,0,null,0]
["",null,null,null,null,null,null,null,{"$f":"IFERROR(VLOOKUP(H27,得意先マスター!$B$7:$H$103,2,FALSE),\"\")","v":""},{"$f":"IFERROR(VLOOKUP(H27,得意先マスター!$B$7:$H$103,3,FALSE),\"\")","v":""},{"$f":"IFERROR(VLOOKUP(H27,得意先マスター!$B$7:$H$103,4,FALSE),\"\")","v":""},{"$f":"IFERROR(VLOOKUP(H27,得意先マスター!$B$7:$H$103,5,FALSE),\"\")","v":""},{"$f":"IFERROR(VLOOKUP(H27,得意先マスター!$B$7:$H$103,6,FALSE),\"\")","v":""},null,null,{"$f":"IFERROR(VLOOKUP(O27,商品マスター!$B$7:$D$53,2,FALSE),\"\")","v":""},null,{"$f":"IFERROR(VLOOKUP(O27,商品マスター!$B$7:$D$53,3,FALSE),\"\")","v":""},0,null,{"$f":"IFERROR(VLOOKUP(T27,商品マスター!$B$7:$D$53,2,FALSE),\"\")","v":""},null,{"$f":"IFERROR(VLOOKUP(T27,商品マスター!$B$7:$D$53,3,FALSE),\"\")","v":""},0,null,{"$f":"IFERROR(VLOOKUP(Y27,商品マスター!$B$7:$D$53,2,FALSE),\"\")","v":""},null,{"$f":"IFERROR(VLOOKUP(Y27,商品マスター!$B$7:$D$53,3,FALSE),\"\")","v":""},0,null,{"$f":"IFERROR(VLOOKUP(AD27,商品マスター!$B$7:$D$53,2,FALSE),\"\")","v":""},null,{"$f":"IFERROR(VLOOKUP(AD27,商品マスター!$B$7:$D$53,3,FALSE),\"\")","v":""},0,null,{"$f":"IFERROR(VLOOKUP(AI27,商品マスター!$B$7:$D$53,2,FALSE),\"\")","v":""},null,{"$f":"IFERROR(VLOOKUP(AI27,商品マスター!$B$7:$D$53,3,FALSE),\"\")","v":""},0,null,{"$f":"IFERROR(VLOOKUP(AN27,商品マスター!$B$7:$D$53,2,FALSE),\"\")","v":""},null,{"$f":"IFERROR(VLOOKUP(AN27,商品マスター!$B$7:$D$53,3,FALSE),\"\")","v":""},0,null,{"$f":"IFERROR(VLOOKUP(AS27,商品マスター!$B$7:$D$53,2,FALSE),\"\")","v":""},null,{"$f":"IFERROR(VLOOKUP(AS27,商品マスター!$B$7:$D$53,3,FALSE),\"\")","v":""},0,null,{"$f":"IFERROR(VLOOKUP(AX27,商品マスター!$B$7:$D$53,2,FALSE),\"\")","v":""},null,{"$f":"IFERROR(VLOOKUP(AX27,商品マスター!$B$7:$D$53,3,FALSE),\"\")","v":""},0,null,{"$f":"IFERROR(VLOOKUP(BC27,商品マスター!$B$7:$D$53,2,FALSE),\"\")","v":""},null,{"$f":"IFERROR(VLOOKUP(BC27,商品マスター!$B$7:$D$53,3,FALSE),\"\")","v":""},0,null,{"$f":"IFERROR(VLOOKUP(BH27,商品マスター!$B$7:$D$53,2,FALSE),\"\")","v":""},null,{"$f":"IFERROR(VLOOKUP(BH27,商品マスター!$B$7:$D$53,3,FALSE),\"\")","v":""},0,0,0.1,0,null,0]
["",null,null,null,null,null,null,null,{"$f":"IFERROR(VLOOKUP(H28,得意先マスター!$B$7:$H$103,2,FALSE),\"\")","v":""},{"$f":"IFERROR(VLOOKUP(H28,得意先マスター!$B$7:$H$103,3,FALSE),\"\")","v":""},{"$f":"IFERROR(VLOOKUP(H28,得意先マスター!$B$7:$H$103,4,FALSE),\"\")","v":""},{"$f":"IFERROR(VLOOKUP(H28,得意先マスター!$B$7:$H$103,5,FALSE),\"\")","v":""},{"$f":"IFERROR(VLOOKUP(H28,得意先マスター!$B$7:$H$103,6,FALSE),\"\")","v":""},null,null,{"$f":"IFERROR(VLOOKUP(O28,商品マスター!$B$7:$D$53,2,FALSE),\"\")","v":""},null,{"$f":"IFERROR(VLOOKUP(O28,商品マスター!$B$7:$D$53,3,FALSE),\"\")","v":""},0,null,{"$f":"IFERROR(VLOOKUP(T28,商品マスター!$B$7:$D$53,2,FALSE),\"\")","v":""},null,{"$f":"IFERROR(VLOOKUP(T28,商品マスター!$B$7:$D$53,3,FALSE),\"\")","v":""},0,null,{"$f":"IFERROR(VLOOKUP(Y28,商品マスター!$B$7:$D$53,2,FALSE),\"\")","v":""},null,{"$f":"IFERROR(VLOOKUP(Y28,商品マスター!$B$7:$D$53,3,FALSE),\"\")","v":""},0,null,{"$f":"IFERROR(VLOOKUP(AD28,商品マスター!$B$7:$D$53,2,FALSE),\"\")","v":""},null,{"$f":"IFERROR(VLOOKUP(AD28,商品マスター!$B$7:$D$53,3,FALSE),\"\")","v":""},0,null,{"$f":"IFERROR(VLOOKUP(AI28,商品マスター!$B$7:$D$53,2,FALSE),\"\")","v":""},null,{"$f":"IFERROR(VLOOKUP(AI28,商品マスター!$B$7:$D$53,3,FALSE),\"\")","v":""},0,null,{"$f":"IFERROR(VLOOKUP(AN28,商品マスター!$B$7:$D$53,2,FALSE),\"\")","v":""},null,{"$f":"IFERROR(VLOOKUP(AN28,商品マスター!$B$7:$D$53,3,FALSE),\"\")","v":""},0,null,{"$f":"IFERROR(VLOOKUP(AS28,商品マスター!$B$7:$D$53,2,FALSE),\"\")","v":""},null,{"$f":"IFERROR(VLOOKUP(AS28,商品マスター!$B$7:$D$53,3,FALSE),\"\")","v":""},0,null,{"$f":"IFERROR(VLOOKUP(AX28,商品マスター!$B$7:$D$53,2,FALSE),\"\")","v":""},null,{"$f":"IFERROR(VLOOKUP(AX28,商品マスター!$B$7:$D$53,3,FALSE),\"\")","v":""},0,null,{"$f":"IFERROR(VLOOKUP(BC28,商品マスター!$B$7:$D$53,2,FALSE),\"\")","v":""},null,{"$f":"IFERROR(VLOOKUP(BC28,商品マスター!$B$7:$D$53,3,FALSE),\"\")","v":""},0,null,{"$f":"IFERROR(VLOOKUP(BH28,商品マスター!$B$7:$D$53,2,FALSE),\"\")","v":""},null,{"$f":"IFERROR(VLOOKUP(BH28,商品マスター!$B$7:$D$53,3,FALSE),\"\")","v":""},0,0,0.1,0,null,0]
["",null,null,null,null,null,null,null,{"$f":"IFERROR(VLOOKUP(H29,得意先マスター!$B$7:$H$103,2,FALSE),\"\")","v":""},{"$f":"IFERROR(VLOOKUP(H29,得意先マスター!$B$7:$H$103,3,FALSE),\"\")","v":""},{"$f":"IFERROR(VLOOKUP(H29,得意先マスター!$B$7:$H$103,4,FALSE),\"\")","v":""},{"$f":"IFERROR(VLOOKUP(H29,得意先マスター!$B$7:$H$103,5,FALSE),\"\")","v":""},{"$f":"IFERROR(VLOOKUP(H29,得意先マスター!$B$7:$H$103,6,FALSE),\"\")","v":""},null,null,{"$f":"IFERROR(VLOOKUP(O29,商品マスター!$B$7:$D$53,2,FALSE),\"\")","v":""},null,{"$f":"IFERROR(VLOOKUP(O29,商品マスター!$B$7:$D$53,3,FALSE),\"\")","v":""},0,null,{"$f":"IFERROR(VLOOKUP(T29,商品マスター!$B$7:$D$53,2,FALSE),\"\")","v":""},null,{"$f":"IFERROR(VLOOKUP(T29,商品マスター!$B$7:$D$53,3,FALSE),\"\")","v":""},0,null,{"$f":"IFERROR(VLOOKUP(Y29,商品マスター!$B$7:$D$53,2,FALSE),\"\")","v":""},null,{"$f":"IFERROR(VLOOKUP(Y29,商品マスター!$B$7:$D$53,3,FALSE),\"\")","v":""},0,null,{"$f":"IFERROR(VLOOKUP(AD29,商品マスター!$B$7:$D$53,2,FALSE),\"\")","v":""},null,{"$f":"IFERROR(VLOOKUP(AD29,商品マスター!$B$7:$D$53,3,FALSE),\"\")","v":""},0,null,{"$f":"IFERROR(VLOOKUP(AI29,商品マスター!$B$7:$D$53,2,FALSE),\"\")","v":""},null,{"$f":"IFERROR(VLOOKUP(AI29,商品マスター!$B$7:$D$53,3,FALSE),\"\")","v":""},0,null,{"$f":"IFERROR(VLOOKUP(AN29,商品マスター!$B$7:$D$53,2,FALSE),\"\")","v":""},null,{"$f":"IFERROR(VLOOKUP(AN29,商品マスター!$B$7:$D$53,3,FALSE),\"\")","v":""},0,null,{"$f":"IFERROR(VLOOKUP(AS29,商品マスター!$B$7:$D$53,2,FALSE),\"\")","v":""},null,{"$f":"IFERROR(VLOOKUP(AS29,商品マスター!$B$7:$D$53,3,FALSE),\"\")","v":""},0,null,{"$f":"IFERROR(VLOOKUP(AX29,商品マスター!$B$7:$D$53,2,FALSE),\"\")","v":""},null,{"$f":"IFERROR(VLOOKUP(AX29,商品マスター!$B$7:$D$53,3,FALSE),\"\")","v":""},0,null,{"$f":"IFERROR(VLOOKUP(BC29,商品マスター!$B$7:$D$53,2,FALSE),\"\")","v":""},null,{"$f":"IFERROR(VLOOKUP(BC29,商品マスター!$B$7:$D$53,3,FALSE),\"\")","v":""},0,null,{"$f":"IFERROR(VLOOKUP(BH29,商品マスター!$B$7:$D$53,2,FALSE),\"\")","v":""},null,{"$f":"IFERROR(VLOOKUP(BH29,商品マスター!$B$7:$D$53,3,FALSE),\"\")","v":""},0,0,0.1,0,null,0]
["",null,null,null,null,null,null,null,{"$f":"IFERROR(VLOOKUP(H30,得意先マスター!$B$7:$H$103,2,FALSE),\"\")","v":""},{"$f":"IFERROR(VLOOKUP(H30,得意先マスター!$B$7:$H$103,3,FALSE),\"\")","v":""},{"$f":"IFERROR(VLOOKUP(H30,得意先マスター!$B$7:$H$103,4,FALSE),\"\")","v":""},{"$f":"IFERROR(VLOOKUP(H30,得意先マスター!$B$7:$H$103,5,FALSE),\"\")","v":""},{"$f":"IFERROR(VLOOKUP(H30,得意先マスター!$B$7:$H$103,6,FALSE),\"\")","v":""},null,null,{"$f":"IFERROR(VLOOKUP(O30,商品マスター!$B$7:$D$53,2,FALSE),\"\")","v":""},null,{"$f":"IFERROR(VLOOKUP(O30,商品マスター!$B$7:$D$53,3,FALSE),\"\")","v":""},0,null,{"$f":"IFERROR(VLOOKUP(T30,商品マスター!$B$7:$D$53,2,FALSE),\"\")","v":""},null,{"$f":"IFERROR(VLOOKUP(T30,商品マスター!$B$7:$D$53,3,FALSE),\"\")","v":""},0,null,{"$f":"IFERROR(VLOOKUP(Y30,商品マスター!$B$7:$D$53,2,FALSE),\"\")","v":""},null,{"$f":"IFERROR(VLOOKUP(Y30,商品マスター!$B$7:$D$53,3,FALSE),\"\")","v":""},0,null,{"$f":"IFERROR(VLOOKUP(AD30,商品マスター!$B$7:$D$53,2,FALSE),\"\")","v":""},null,{"$f":"IFERROR(VLOOKUP(AD30,商品マスター!$B$7:$D$53,3,FALSE),\"\")","v":""},0,null,{"$f":"IFERROR(VLOOKUP(AI30,商品マスター!$B$7:$D$53,2,FALSE),\"\")","v":""},null,{"$f":"IFERROR(VLOOKUP(AI30,商品マスター!$B$7:$D$53,3,FALSE),\"\")","v":""},0,null,{"$f":"IFERROR(VLOOKUP(AN30,商品マスター!$B$7:$D$53,2,FALSE),\"\")","v":""},null,{"$f":"IFERROR(VLOOKUP(AN30,商品マスター!$B$7:$D$53,3,FALSE),\"\")","v":""},0,null,{"$f":"IFERROR(VLOOKUP(AS30,商品マスター!$B$7:$D$53,2,FALSE),\"\")","v":""},null,{"$f":"IFERROR(VLOOKUP(AS30,商品マスター!$B$7:$D$53,3,FALSE),\"\")","v":""},0,null,{"$f":"IFERROR(VLOOKUP(AX30,商品マスター!$B$7:$D$53,2,FALSE),\"\")","v":""},null,{"$f":"IFERROR(VLOOKUP(AX30,商品マスター!$B$7:$D$53,3,FALSE),\"\")","v":""},0,null,{"$f":"IFERROR(VLOOKUP(BC30,商品マスター!$B$7:$D$53,2,FALSE),\"\")","v":""},null,{"$f":"IFERROR(VLOOKUP(BC30,商品マスター!$B$7:$D$53,3,FALSE),\"\")","v":""},0,null,{"$f":"IFERROR(VLOOKUP(BH30,商品マスター!$B$7:$D$53,2,FALSE),\"\")","v":""},null,{"$f":"IFERROR(VLOOKUP(BH30,商品マスター!$B$7:$D$53,3,FALSE),\"\")","v":""},0,0,0.1,0,null,0]
["",null,null,null,null,null,null,null,{"$f":"IFERROR(VLOOKUP(H31,得意先マスター!$B$7:$H$103,2,FALSE),\"\")","v":""},{"$f":"IFERROR(VLOOKUP(H31,得意先マスター!$B$7:$H$103,3,FALSE),\"\")","v":""},{"$f":"IFERROR(VLOOKUP(H31,得意先マスター!$B$7:$H$103,4,FALSE),\"\")","v":""},{"$f":"IFERROR(VLOOKUP(H31,得意先マスター!$B$7:$H$103,5,FALSE),\"\")","v":""},{"$f":"IFERROR(VLOOKUP(H31,得意先マスター!$B$7:$H$103,6,FALSE),\"\")","v":""},null,null,{"$f":"IFERROR(VLOOKUP(O31,商品マスター!$B$7:$D$53,2,FALSE),\"\")","v":""},null,{"$f":"IFERROR(VLOOKUP(O31,商品マスター!$B$7:$D$53,3,FALSE),\"\")","v":""},0,null,{"$f":"IFERROR(VLOOKUP(T31,商品マスター!$B$7:$D$53,2,FALSE),\"\")","v":""},null,{"$f":"IFERROR(VLOOKUP(T31,商品マスター!$B$7:$D$53,3,FALSE),\"\")","v":""},0,null,{"$f":"IFERROR(VLOOKUP(Y31,商品マスター!$B$7:$D$53,2,FALSE),\"\")","v":""},null,{"$f":"IFERROR(VLOOKUP(Y31,商品マスター!$B$7:$D$53,3,FALSE),\"\")","v":""},0,null,{"$f":"IFERROR(VLOOKUP(AD31,商品マスター!$B$7:$D$53,2,FALSE),\"\")","v":""},null,{"$f":"IFERROR(VLOOKUP(AD31,商品マスター!$B$7:$D$53,3,FALSE),\"\")","v":""},0,null,{"$f":"IFERROR(VLOOKUP(AI31,商品マスター!$B$7:$D$53,2,FALSE),\"\")","v":""},null,{"$f":"IFERROR(VLOOKUP(AI31,商品マスター!$B$7:$D$53,3,FALSE),\"\")","v":""},0,null,{"$f":"IFERROR(VLOOKUP(AN31,商品マスター!$B$7:$D$53,2,FALSE),\"\")","v":""},null,{"$f":"IFERROR(VLOOKUP(AN31,商品マスター!$B$7:$D$53,3,FALSE),\"\")","v":""},0,null,{"$f":"IFERROR(VLOOKUP(AS31,商品マスター!$B$7:$D$53,2,FALSE),\"\")","v":""},null,{"$f":"IFERROR(VLOOKUP(AS31,商品マスター!$B$7:$D$53,3,FALSE),\"\")","v":""},0,null,{"$f":"IFERROR(VLOOKUP(AX31,商品マスター!$B$7:$D$53,2,FALSE),\"\")","v":""},null,{"$f":"IFERROR(VLOOKUP(AX31,商品マスター!$B$7:$D$53,3,FALSE),\"\")","v":""},0,null,{"$f":"IFERROR(VLOOKUP(BC31,商品マスター!$B$7:$D$53,2,FALSE),\"\")","v":""},null,{"$f":"IFERROR(VLOOKUP(BC31,商品マスター!$B$7:$D$53,3,FALSE),\"\")","v":""},0,null,{"$f":"IFERROR(VLOOKUP(BH31,商品マスター!$B$7:$D$53,2,FALSE),\"\")","v":""},null,{"$f":"IFERROR(VLOOKUP(BH31,商品マスター!$B$7:$D$53,3,FALSE),\"\")","v":""},0,0,0.1,0,null,0]
["",null,null,null,null,null,null,null,{"$f":"IFERROR(VLOOKUP(H32,得意先マスター!$B$7:$H$103,2,FALSE),\"\")","v":""},{"$f":"IFERROR(VLOOKUP(H32,得意先マスター!$B$7:$H$103,3,FALSE),\"\")","v":""},{"$f":"IFERROR(VLOOKUP(H32,得意先マスター!$B$7:$H$103,4,FALSE),\"\")","v":""},{"$f":"IFERROR(VLOOKUP(H32,得意先マスター!$B$7:$H$103,5,FALSE),\"\")","v":""},{"$f":"IFERROR(VLOOKUP(H32,得意先マスター!$B$7:$H$103,6,FALSE),\"\")","v":""},null,null,{"$f":"IFERROR(VLOOKUP(O32,商品マスター!$B$7:$D$53,2,FALSE),\"\")","v":""},null,{"$f":"IFERROR(VLOOKUP(O32,商品マスター!$B$7:$D$53,3,FALSE),\"\")","v":""},0,null,{"$f":"IFERROR(VLOOKUP(T32,商品マスター!$B$7:$D$53,2,FALSE),\"\")","v":""},null,{"$f":"IFERROR(VLOOKUP(T32,商品マスター!$B$7:$D$53,3,FALSE),\"\")","v":""},0,null,{"$f":"IFERROR(VLOOKUP(Y32,商品マスター!$B$7:$D$53,2,FALSE),\"\")","v":""},null,{"$f":"IFERROR(VLOOKUP(Y32,商品マスター!$B$7:$D$53,3,FALSE),\"\")","v":""},0,null,{"$f":"IFERROR(VLOOKUP(AD32,商品マスター!$B$7:$D$53,2,FALSE),\"\")","v":""},null,{"$f":"IFERROR(VLOOKUP(AD32,商品マスター!$B$7:$D$53,3,FALSE),\"\")","v":""},0,null,{"$f":"IFERROR(VLOOKUP(AI32,商品マスター!$B$7:$D$53,2,FALSE),\"\")","v":""},null,{"$f":"IFERROR(VLOOKUP(AI32,商品マスター!$B$7:$D$53,3,FALSE),\"\")","v":""},0,null,{"$f":"IFERROR(VLOOKUP(AN32,商品マスター!$B$7:$D$53,2,FALSE),\"\")","v":""},null,{"$f":"IFERROR(VLOOKUP(AN32,商品マスター!$B$7:$D$53,3,FALSE),\"\")","v":""},0,null,{"$f":"IFERROR(VLOOKUP(AS32,商品マスター!$B$7:$D$53,2,FALSE),\"\")","v":""},null,{"$f":"IFERROR(VLOOKUP(AS32,商品マスター!$B$7:$D$53,3,FALSE),\"\")","v":""},0,null,{"$f":"IFERROR(VLOOKUP(AX32,商品マスター!$B$7:$D$53,2,FALSE),\"\")","v":""},null,{"$f":"IFERROR(VLOOKUP(AX32,商品マスター!$B$7:$D$53,3,FALSE),\"\")","v":""},0,null,{"$f":"IFERROR(VLOOKUP(BC32,商品マスター!$B$7:$D$53,2,FALSE),\"\")","v":""},null,{"$f":"IFERROR(VLOOKUP(BC32,商品マスター!$B$7:$D$53,3,FALSE),\"\")","v":""},0,null,{"$f":"IFERROR(VLOOKUP(BH32,商品マスター!$B$7:$D$53,2,FALSE),\"\")","v":""},null,{"$f":"IFERROR(VLOOKUP(BH32,商品マスター!$B$7:$D$53,3,FALSE),\"\")","v":""},0,0,0.1,0,null,0]
["",null,null,null,null,null,null,null,{"$f":"IFERROR(VLOOKUP(H33,得意先マスター!$B$7:$H$103,2,FALSE),\"\")","v":""},{"$f":"IFERROR(VLOOKUP(H33,得意先マスター!$B$7:$H$103,3,FALSE),\"\")","v":""},{"$f":"IFERROR(VLOOKUP(H33,得意先マスター!$B$7:$H$103,4,FALSE),\"\")","v":""},{"$f":"IFERROR(VLOOKUP(H33,得意先マスター!$B$7:$H$103,5,FALSE),\"\")","v":""},{"$f":"IFERROR(VLOOKUP(H33,得意先マスター!$B$7:$H$103,6,FALSE),\"\")","v":""},null,null,{"$f":"IFERROR(VLOOKUP(O33,商品マスター!$B$7:$D$53,2,FALSE),\"\")","v":""},null,{"$f":"IFERROR(VLOOKUP(O33,商品マスター!$B$7:$D$53,3,FALSE),\"\")","v":""},0,null,{"$f":"IFERROR(VLOOKUP(T33,商品マスター!$B$7:$D$53,2,FALSE),\"\")","v":""},null,{"$f":"IFERROR(VLOOKUP(T33,商品マスター!$B$7:$D$53,3,FALSE),\"\")","v":""},0,null,{"$f":"IFERROR(VLOOKUP(Y33,商品マスター!$B$7:$D$53,2,FALSE),\"\")","v":""},null,{"$f":"IFERROR(VLOOKUP(Y33,商品マスター!$B$7:$D$53,3,FALSE),\"\")","v":""},0,null,{"$f":"IFERROR(VLOOKUP(AD33,商品マスター!$B$7:$D$53,2,FALSE),\"\")","v":""},null,{"$f":"IFERROR(VLOOKUP(AD33,商品マスター!$B$7:$D$53,3,FALSE),\"\")","v":""},0,null,{"$f":"IFERROR(VLOOKUP(AI33,商品マスター!$B$7:$D$53,2,FALSE),\"\")","v":""},null,{"$f":"IFERROR(VLOOKUP(AI33,商品マスター!$B$7:$D$53,3,FALSE),\"\")","v":""},0,null,{"$f":"IFERROR(VLOOKUP(AN33,商品マスター!$B$7:$D$53,2,FALSE),\"\")","v":""},null,{"$f":"IFERROR(VLOOKUP(AN33,商品マスター!$B$7:$D$53,3,FALSE),\"\")","v":""},0,null,{"$f":"IFERROR(VLOOKUP(AS33,商品マスター!$B$7:$D$53,2,FALSE),\"\")","v":""},null,{"$f":"IFERROR(VLOOKUP(AS33,商品マスター!$B$7:$D$53,3,FALSE),\"\")","v":""},0,null,{"$f":"IFERROR(VLOOKUP(AX33,商品マスター!$B$7:$D$53,2,FALSE),\"\")","v":""},null,{"$f":"IFERROR(VLOOKUP(AX33,商品マスター!$B$7:$D$53,3,FALSE),\"\")","v":""},0,null,{"$f":"IFERROR(VLOOKUP(BC33,商品マスター!$B$7:$D$53,2,FALSE),\"\")","v":""},null,{"$f":"IFERROR(VLOOKUP(BC33,商品マスター!$B$7:$D$53,3,FALSE),\"\")","v":""},0,null,{"$f":"IFERROR(VLOOKUP(BH33,商品マスター!$B$7:$D$53,2,FALSE),\"\")","v":""},null,{"$f":"IFERROR(VLOOKUP(BH33,商品マスター!$B$7:$D$53,3,FALSE),\"\")","v":""},0,0,0.1,0,null,0]
["",null,null,null,null,null,null,null,{"$f":"IFERROR(VLOOKUP(H34,得意先マスター!$B$7:$H$103,2,FALSE),\"\")","v":""},{"$f":"IFERROR(VLOOKUP(H34,得意先マスター!$B$7:$H$103,3,FALSE),\"\")","v":""},{"$f":"IFERROR(VLOOKUP(H34,得意先マスター!$B$7:$H$103,4,FALSE),\"\")","v":""},{"$f":"IFERROR(VLOOKUP(H34,得意先マスター!$B$7:$H$103,5,FALSE),\"\")","v":""},{"$f":"IFERROR(VLOOKUP(H34,得意先マスター!$B$7:$H$103,6,FALSE),\"\")","v":""},null,null,{"$f":"IFERROR(VLOOKUP(O34,商品マスター!$B$7:$D$53,2,FALSE),\"\")","v":""},null,{"$f":"IFERROR(VLOOKUP(O34,商品マスター!$B$7:$D$53,3,FALSE),\"\")","v":""},0,null,{"$f":"IFERROR(VLOOKUP(T34,商品マスター!$B$7:$D$53,2,FALSE),\"\")","v":""},null,{"$f":"IFERROR(VLOOKUP(T34,商品マスター!$B$7:$D$53,3,FALSE),\"\")","v":""},0,null,{"$f":"IFERROR(VLOOKUP(Y34,商品マスター!$B$7:$D$53,2,FALSE),\"\")","v":""},null,{"$f":"IFERROR(VLOOKUP(Y34,商品マスター!$B$7:$D$53,3,FALSE),\"\")","v":""},0,null,{"$f":"IFERROR(VLOOKUP(AD34,商品マスター!$B$7:$D$53,2,FALSE),\"\")","v":""},null,{"$f":"IFERROR(VLOOKUP(AD34,商品マスター!$B$7:$D$53,3,FALSE),\"\")","v":""},0,null,{"$f":"IFERROR(VLOOKUP(AI34,商品マスター!$B$7:$D$53,2,FALSE),\"\")","v":""},null,{"$f":"IFERROR(VLOOKUP(AI34,商品マスター!$B$7:$D$53,3,FALSE),\"\")","v":""},0,null,{"$f":"IFERROR(VLOOKUP(AN34,商品マスター!$B$7:$D$53,2,FALSE),\"\")","v":""},null,{"$f":"IFERROR(VLOOKUP(AN34,商品マスター!$B$7:$D$53,3,FALSE),\"\")","v":""},0,null,{"$f":"IFERROR(VLOOKUP(AS34,商品マスター!$B$7:$D$53,2,FALSE),\"\")","v":""},null,{"$f":"IFERROR(VLOOKUP(AS34,商品マスター!$B$7:$D$53,3,FALSE),\"\")","v":""},0,null,{"$f":"IFERROR(VLOOKUP(AX34,商品マスター!$B$7:$D$53,2,FALSE),\"\")","v":""},null,{"$f":"IFERROR(VLOOKUP(AX34,商品マスター!$B$7:$D$53,3,FALSE),\"\")","v":""},0,null,{"$f":"IFERROR(VLOOKUP(BC34,商品マスター!$B$7:$D$53,2,FALSE),\"\")","v":""},null,{"$f":"IFERROR(VLOOKUP(BC34,商品マスター!$B$7:$D$53,3,FALSE),\"\")","v":""},0,null,{"$f":"IFERROR(VLOOKUP(BH34,商品マスター!$B$7:$D$53,2,FALSE),\"\")","v":""},null,{"$f":"IFERROR(VLOOKUP(BH34,商品マスター!$B$7:$D$53,3,FALSE),\"\")","v":""},0,0,0.1,0,null,0]
["",null,null,null,null,null,null,null,{"$f":"IFERROR(VLOOKUP(H35,得意先マスター!$B$7:$H$103,2,FALSE),\"\")","v":""},{"$f":"IFERROR(VLOOKUP(H35,得意先マスター!$B$7:$H$103,3,FALSE),\"\")","v":""},{"$f":"IFERROR(VLOOKUP(H35,得意先マスター!$B$7:$H$103,4,FALSE),\"\")","v":""},{"$f":"IFERROR(VLOOKUP(H35,得意先マスター!$B$7:$H$103,5,FALSE),\"\")","v":""},{"$f":"IFERROR(VLOOKUP(H35,得意先マスター!$B$7:$H$103,6,FALSE),\"\")","v":""},null,null,{"$f":"IFERROR(VLOOKUP(O35,商品マスター!$B$7:$D$53,2,FALSE),\"\")","v":""},null,{"$f":"IFERROR(VLOOKUP(O35,商品マスター!$B$7:$D$53,3,FALSE),\"\")","v":""},0,null,{"$f":"IFERROR(VLOOKUP(T35,商品マスター!$B$7:$D$53,2,FALSE),\"\")","v":""},null,{"$f":"IFERROR(VLOOKUP(T35,商品マスター!$B$7:$D$53,3,FALSE),\"\")","v":""},0,null,{"$f":"IFERROR(VLOOKUP(Y35,商品マスター!$B$7:$D$53,2,FALSE),\"\")","v":""},null,{"$f":"IFERROR(VLOOKUP(Y35,商品マスター!$B$7:$D$53,3,FALSE),\"\")","v":""},0,null,{"$f":"IFERROR(VLOOKUP(AD35,商品マスター!$B$7:$D$53,2,FALSE),\"\")","v":""},null,{"$f":"IFERROR(VLOOKUP(AD35,商品マスター!$B$7:$D$53,3,FALSE),\"\")","v":""},0,null,{"$f":"IFERROR(VLOOKUP(AI35,商品マスター!$B$7:$D$53,2,FALSE),\"\")","v":""},null,{"$f":"IFERROR(VLOOKUP(AI35,商品マスター!$B$7:$D$53,3,FALSE),\"\")","v":""},0,null,{"$f":"IFERROR(VLOOKUP(AN35,商品マスター!$B$7:$D$53,2,FALSE),\"\")","v":""},null,{"$f":"IFERROR(VLOOKUP(AN35,商品マスター!$B$7:$D$53,3,FALSE),\"\")","v":""},0,null,{"$f":"IFERROR(VLOOKUP(AS35,商品マスター!$B$7:$D$53,2,FALSE),\"\")","v":""},null,{"$f":"IFERROR(VLOOKUP(AS35,商品マスター!$B$7:$D$53,3,FALSE),\"\")","v":""},0,null,{"$f":"IFERROR(VLOOKUP(AX35,商品マスター!$B$7:$D$53,2,FALSE),\"\")","v":""},null,{"$f":"IFERROR(VLOOKUP(AX35,商品マスター!$B$7:$D$53,3,FALSE),\"\")","v":""},0,null,{"$f":"IFERROR(VLOOKUP(BC35,商品マスター!$B$7:$D$53,2,FALSE),\"\")","v":""},null,{"$f":"IFERROR(VLOOKUP(BC35,商品マスター!$B$7:$D$53,3,FALSE),\"\")","v":""},0,null,{"$f":"IFERROR(VLOOKUP(BH35,商品マスター!$B$7:$D$53,2,FALSE),\"\")","v":""},null,{"$f":"IFERROR(VLOOKUP(BH35,商品マスター!$B$7:$D$53,3,FALSE),\"\")","v":""},0,0,0.1,0,null,0]
["",null,null,null,null,null,null,null,{"$f":"IFERROR(VLOOKUP(H36,得意先マスター!$B$7:$H$103,2,FALSE),\"\")","v":""},{"$f":"IFERROR(VLOOKUP(H36,得意先マスター!$B$7:$H$103,3,FALSE),\"\")","v":""},{"$f":"IFERROR(VLOOKUP(H36,得意先マスター!$B$7:$H$103,4,FALSE),\"\")","v":""},{"$f":"IFERROR(VLOOKUP(H36,得意先マスター!$B$7:$H$103,5,FALSE),\"\")","v":""},{"$f":"IFERROR(VLOOKUP(H36,得意先マスター!$B$7:$H$103,6,FALSE),\"\")","v":""},null,null,{"$f":"IFERROR(VLOOKUP(O36,商品マスター!$B$7:$D$53,2,FALSE),\"\")","v":""},null,{"$f":"IFERROR(VLOOKUP(O36,商品マスター!$B$7:$D$53,3,FALSE),\"\")","v":""},0,null,{"$f":"IFERROR(VLOOKUP(T36,商品マスター!$B$7:$D$53,2,FALSE),\"\")","v":""},null,{"$f":"IFERROR(VLOOKUP(T36,商品マスター!$B$7:$D$53,3,FALSE),\"\")","v":""},0,null,{"$f":"IFERROR(VLOOKUP(Y36,商品マスター!$B$7:$D$53,2,FALSE),\"\")","v":""},null,{"$f":"IFERROR(VLOOKUP(Y36,商品マスター!$B$7:$D$53,3,FALSE),\"\")","v":""},0,null,{"$f":"IFERROR(VLOOKUP(AD36,商品マスター!$B$7:$D$53,2,FALSE),\"\")","v":""},null,{"$f":"IFERROR(VLOOKUP(AD36,商品マスター!$B$7:$D$53,3,FALSE),\"\")","v":""},0,null,{"$f":"IFERROR(VLOOKUP(AI36,商品マスター!$B$7:$D$53,2,FALSE),\"\")","v":""},null,{"$f":"IFERROR(VLOOKUP(AI36,商品マスター!$B$7:$D$53,3,FALSE),\"\")","v":""},0,null,{"$f":"IFERROR(VLOOKUP(AN36,商品マスター!$B$7:$D$53,2,FALSE),\"\")","v":""},null,{"$f":"IFERROR(VLOOKUP(AN36,商品マスター!$B$7:$D$53,3,FALSE),\"\")","v":""},0,null,{"$f":"IFERROR(VLOOKUP(AS36,商品マスター!$B$7:$D$53,2,FALSE),\"\")","v":""},null,{"$f":"IFERROR(VLOOKUP(AS36,商品マスター!$B$7:$D$53,3,FALSE),\"\")","v":""},0,null,{"$f":"IFERROR(VLOOKUP(AX36,商品マスター!$B$7:$D$53,2,FALSE),\"\")","v":""},null,{"$f":"IFERROR(VLOOKUP(AX36,商品マスター!$B$7:$D$53,3,FALSE),\"\")","v":""},0,null,{"$f":"IFERROR(VLOOKUP(BC36,商品マスター!$B$7:$D$53,2,FALSE),\"\")","v":""},null,{"$f":"IFERROR(VLOOKUP(BC36,商品マスター!$B$7:$D$53,3,FALSE),\"\")","v":""},0,null,{"$f":"IFERROR(VLOOKUP(BH36,商品マスター!$B$7:$D$53,2,FALSE),\"\")","v":""},null,{"$f":"IFERROR(VLOOKUP(BH36,商品マスター!$B$7:$D$53,3,FALSE),\"\")","v":""},0,0,0.1,0,null,0]
["",null,null,null,null,null,null,null,{"$f":"IFERROR(VLOOKUP(H37,得意先マスター!$B$7:$H$103,2,FALSE),\"\")","v":""},{"$f":"IFERROR(VLOOKUP(H37,得意先マスター!$B$7:$H$103,3,FALSE),\"\")","v":""},{"$f":"IFERROR(VLOOKUP(H37,得意先マスター!$B$7:$H$103,4,FALSE),\"\")","v":""},{"$f":"IFERROR(VLOOKUP(H37,得意先マスター!$B$7:$H$103,5,FALSE),\"\")","v":""},{"$f":"IFERROR(VLOOKUP(H37,得意先マスター!$B$7:$H$103,6,FALSE),\"\")","v":""},null,null,{"$f":"IFERROR(VLOOKUP(O37,商品マスター!$B$7:$D$53,2,FALSE),\"\")","v":""},null,{"$f":"IFERROR(VLOOKUP(O37,商品マスター!$B$7:$D$53,3,FALSE),\"\")","v":""},0,null,{"$f":"IFERROR(VLOOKUP(T37,商品マスター!$B$7:$D$53,2,FALSE),\"\")","v":""},null,{"$f":"IFERROR(VLOOKUP(T37,商品マスター!$B$7:$D$53,3,FALSE),\"\")","v":""},0,null,{"$f":"IFERROR(VLOOKUP(Y37,商品マスター!$B$7:$D$53,2,FALSE),\"\")","v":""},null,{"$f":"IFERROR(VLOOKUP(Y37,商品マスター!$B$7:$D$53,3,FALSE),\"\")","v":""},0,null,{"$f":"IFERROR(VLOOKUP(AD37,商品マスター!$B$7:$D$53,2,FALSE),\"\")","v":""},null,{"$f":"IFERROR(VLOOKUP(AD37,商品マスター!$B$7:$D$53,3,FALSE),\"\")","v":""},0,null,{"$f":"IFERROR(VLOOKUP(AI37,商品マスター!$B$7:$D$53,2,FALSE),\"\")","v":""},null,{"$f":"IFERROR(VLOOKUP(AI37,商品マスター!$B$7:$D$53,3,FALSE),\"\")","v":""},0,null,{"$f":"IFERROR(VLOOKUP(AN37,商品マスター!$B$7:$D$53,2,FALSE),\"\")","v":""},null,{"$f":"IFERROR(VLOOKUP(AN37,商品マスター!$B$7:$D$53,3,FALSE),\"\")","v":""},0,null,{"$f":"IFERROR(VLOOKUP(AS37,商品マスター!$B$7:$D$53,2,FALSE),\"\")","v":""},null,{"$f":"IFERROR(VLOOKUP(AS37,商品マスター!$B$7:$D$53,3,FALSE),\"\")","v":""},0,null,{"$f":"IFERROR(VLOOKUP(AX37,商品マスター!$B$7:$D$53,2,FALSE),\"\")","v":""},null,{"$f":"IFERROR(VLOOKUP(AX37,商品マスター!$B$7:$D$53,3,FALSE),\"\")","v":""},0,null,{"$f":"IFERROR(VLOOKUP(BC37,商品マスター!$B$7:$D$53,2,FALSE),\"\")","v":""},null,{"$f":"IFERROR(VLOOKUP(BC37,商品マスター!$B$7:$D$53,3,FALSE),\"\")","v":""},0,null,{"$f":"IFERROR(VLOOKUP(BH37,商品マスター!$B$7:$D$53,2,FALSE),\"\")","v":""},null,{"$f":"IFERROR(VLOOKUP(BH37,商品マスター!$B$7:$D$53,3,FALSE),\"\")","v":""},0,0,0.1,0,null,0]
["",null,null,null,null,null,null,null,{"$f":"IFERROR(VLOOKUP(H38,得意先マスター!$B$7:$H$103,2,FALSE),\"\")","v":""},{"$f":"IFERROR(VLOOKUP(H38,得意先マスター!$B$7:$H$103,3,FALSE),\"\")","v":""},{"$f":"IFERROR(VLOOKUP(H38,得意先マスター!$B$7:$H$103,4,FALSE),\"\")","v":""},{"$f":"IFERROR(VLOOKUP(H38,得意先マスター!$B$7:$H$103,5,FALSE),\"\")","v":""},{"$f":"IFERROR(VLOOKUP(H38,得意先マスター!$B$7:$H$103,6,FALSE),\"\")","v":""},null,null,{"$f":"IFERROR(VLOOKUP(O38,商品マスター!$B$7:$D$53,2,FALSE),\"\")","v":""},null,{"$f":"IFERROR(VLOOKUP(O38,商品マスター!$B$7:$D$53,3,FALSE),\"\")","v":""},0,null,{"$f":"IFERROR(VLOOKUP(T38,商品マスター!$B$7:$D$53,2,FALSE),\"\")","v":""},null,{"$f":"IFERROR(VLOOKUP(T38,商品マスター!$B$7:$D$53,3,FALSE),\"\")","v":""},0,null,{"$f":"IFERROR(VLOOKUP(Y38,商品マスター!$B$7:$D$53,2,FALSE),\"\")","v":""},null,{"$f":"IFERROR(VLOOKUP(Y38,商品マスター!$B$7:$D$53,3,FALSE),\"\")","v":""},0,null,{"$f":"IFERROR(VLOOKUP(AD38,商品マスター!$B$7:$D$53,2,FALSE),\"\")","v":""},null,{"$f":"IFERROR(VLOOKUP(AD38,商品マスター!$B$7:$D$53,3,FALSE),\"\")","v":""},0,null,{"$f":"IFERROR(VLOOKUP(AI38,商品マスター!$B$7:$D$53,2,FALSE),\"\")","v":""},null,{"$f":"IFERROR(VLOOKUP(AI38,商品マスター!$B$7:$D$53,3,FALSE),\"\")","v":""},0,null,{"$f":"IFERROR(VLOOKUP(AN38,商品マスター!$B$7:$D$53,2,FALSE),\"\")","v":""},null,{"$f":"IFERROR(VLOOKUP(AN38,商品マスター!$B$7:$D$53,3,FALSE),\"\")","v":""},0,null,{"$f":"IFERROR(VLOOKUP(AS38,商品マスター!$B$7:$D$53,2,FALSE),\"\")","v":""},null,{"$f":"IFERROR(VLOOKUP(AS38,商品マスター!$B$7:$D$53,3,FALSE),\"\")","v":""},0,null,{"$f":"IFERROR(VLOOKUP(AX38,商品マスター!$B$7:$D$53,2,FALSE),\"\")","v":""},null,{"$f":"IFERROR(VLOOKUP(AX38,商品マスター!$B$7:$D$53,3,FALSE),\"\")","v":""},0,null,{"$f":"IFERROR(VLOOKUP(BC38,商品マスター!$B$7:$D$53,2,FALSE),\"\")","v":""},null,{"$f":"IFERROR(VLOOKUP(BC38,商品マスター!$B$7:$D$53,3,FALSE),\"\")","v":""},0,null,{"$f":"IFERROR(VLOOKUP(BH38,商品マスター!$B$7:$D$53,2,FALSE),\"\")","v":""},null,{"$f":"IFERROR(VLOOKUP(BH38,商品マスター!$B$7:$D$53,3,FALSE),\"\")","v":""},0,0,0.1,0,null,0]
["",null,null,null,null,null,null,null,{"$f":"IFERROR(VLOOKUP(H39,得意先マスター!$B$7:$H$103,2,FALSE),\"\")","v":""},{"$f":"IFERROR(VLOOKUP(H39,得意先マスター!$B$7:$H$103,3,FALSE),\"\")","v":""},{"$f":"IFERROR(VLOOKUP(H39,得意先マスター!$B$7:$H$103,4,FALSE),\"\")","v":""},{"$f":"IFERROR(VLOOKUP(H39,得意先マスター!$B$7:$H$103,5,FALSE),\"\")","v":""},{"$f":"IFERROR(VLOOKUP(H39,得意先マスター!$B$7:$H$103,6,FALSE),\"\")","v":""},null,null,{"$f":"IFERROR(VLOOKUP(O39,商品マスター!$B$7:$D$53,2,FALSE),\"\")","v":""},null,{"$f":"IFERROR(VLOOKUP(O39,商品マスター!$B$7:$D$53,3,FALSE),\"\")","v":""},0,null,{"$f":"IFERROR(VLOOKUP(T39,商品マスター!$B$7:$D$53,2,FALSE),\"\")","v":""},null,{"$f":"IFERROR(VLOOKUP(T39,商品マスター!$B$7:$D$53,3,FALSE),\"\")","v":""},0,null,{"$f":"IFERROR(VLOOKUP(Y39,商品マスター!$B$7:$D$53,2,FALSE),\"\")","v":""},null,{"$f":"IFERROR(VLOOKUP(Y39,商品マスター!$B$7:$D$53,3,FALSE),\"\")","v":""},0,null,{"$f":"IFERROR(VLOOKUP(AD39,商品マスター!$B$7:$D$53,2,FALSE),\"\")","v":""},null,{"$f":"IFERROR(VLOOKUP(AD39,商品マスター!$B$7:$D$53,3,FALSE),\"\")","v":""},0,null,{"$f":"IFERROR(VLOOKUP(AI39,商品マスター!$B$7:$D$53,2,FALSE),\"\")","v":""},null,{"$f":"IFERROR(VLOOKUP(AI39,商品マスター!$B$7:$D$53,3,FALSE),\"\")","v":""},0,null,{"$f":"IFERROR(VLOOKUP(AN39,商品マスター!$B$7:$D$53,2,FALSE),\"\")","v":""},null,{"$f":"IFERROR(VLOOKUP(AN39,商品マスター!$B$7:$D$53,3,FALSE),\"\")","v":""},0,null,{"$f":"IFERROR(VLOOKUP(AS39,商品マスター!$B$7:$D$53,2,FALSE),\"\")","v":""},null,{"$f":"IFERROR(VLOOKUP(AS39,商品マスター!$B$7:$D$53,3,FALSE),\"\")","v":""},0,null,{"$f":"IFERROR(VLOOKUP(AX39,商品マスター!$B$7:$D$53,2,FALSE),\"\")","v":""},null,{"$f":"IFERROR(VLOOKUP(AX39,商品マスター!$B$7:$D$53,3,FALSE),\"\")","v":""},0,null,{"$f":"IFERROR(VLOOKUP(BC39,商品マスター!$B$7:$D$53,2,FALSE),\"\")","v":""},null,{"$f":"IFERROR(VLOOKUP(BC39,商品マスター!$B$7:$D$53,3,FALSE),\"\")","v":""},0,null,{"$f":"IFERROR(VLOOKUP(BH39,商品マスター!$B$7:$D$53,2,FALSE),\"\")","v":""},null,{"$f":"IFERROR(VLOOKUP(BH39,商品マスター!$B$7:$D$53,3,FALSE),\"\")","v":""},0,0,0.1,0,null,0]
["",null,null,null,null,null,null,null,{"$f":"IFERROR(VLOOKUP(H40,得意先マスター!$B$7:$H$103,2,FALSE),\"\")","v":""},{"$f":"IFERROR(VLOOKUP(H40,得意先マスター!$B$7:$H$103,3,FALSE),\"\")","v":""},{"$f":"IFERROR(VLOOKUP(H40,得意先マスター!$B$7:$H$103,4,FALSE),\"\")","v":""},{"$f":"IFERROR(VLOOKUP(H40,得意先マスター!$B$7:$H$103,5,FALSE),\"\")","v":""},{"$f":"IFERROR(VLOOKUP(H40,得意先マスター!$B$7:$H$103,6,FALSE),\"\")","v":""},null,null,{"$f":"IFERROR(VLOOKUP(O40,商品マスター!$B$7:$D$53,2,FALSE),\"\")","v":""},null,{"$f":"IFERROR(VLOOKUP(O40,商品マスター!$B$7:$D$53,3,FALSE),\"\")","v":""},0,null,{"$f":"IFERROR(VLOOKUP(T40,商品マスター!$B$7:$D$53,2,FALSE),\"\")","v":""},null,{"$f":"IFERROR(VLOOKUP(T40,商品マスター!$B$7:$D$53,3,FALSE),\"\")","v":""},0,null,{"$f":"IFERROR(VLOOKUP(Y40,商品マスター!$B$7:$D$53,2,FALSE),\"\")","v":""},null,{"$f":"IFERROR(VLOOKUP(Y40,商品マスター!$B$7:$D$53,3,FALSE),\"\")","v":""},0,null,{"$f":"IFERROR(VLOOKUP(AD40,商品マスター!$B$7:$D$53,2,FALSE),\"\")","v":""},null,{"$f":"IFERROR(VLOOKUP(AD40,商品マスター!$B$7:$D$53,3,FALSE),\"\")","v":""},0,null,{"$f":"IFERROR(VLOOKUP(AI40,商品マスター!$B$7:$D$53,2,FALSE),\"\")","v":""},null,{"$f":"IFERROR(VLOOKUP(AI40,商品マスター!$B$7:$D$53,3,FALSE),\"\")","v":""},0,null,{"$f":"IFERROR(VLOOKUP(AN40,商品マスター!$B$7:$D$53,2,FALSE),\"\")","v":""},null,{"$f":"IFERROR(VLOOKUP(AN40,商品マスター!$B$7:$D$53,3,FALSE),\"\")","v":""},0,null,{"$f":"IFERROR(VLOOKUP(AS40,商品マスター!$B$7:$D$53,2,FALSE),\"\")","v":""},null,{"$f":"IFERROR(VLOOKUP(AS40,商品マスター!$B$7:$D$53,3,FALSE),\"\")","v":""},0,null,{"$f":"IFERROR(VLOOKUP(AX40,商品マスター!$B$7:$D$53,2,FALSE),\"\")","v":""},null,{"$f":"IFERROR(VLOOKUP(AX40,商品マスター!$B$7:$D$53,3,FALSE),\"\")","v":""},0,null,{"$f":"IFERROR(VLOOKUP(BC40,商品マスター!$B$7:$D$53,2,FALSE),\"\")","v":""},null,{"$f":"IFERROR(VLOOKUP(BC40,商品マスター!$B$7:$D$53,3,FALSE),\"\")","v":""},0,null,{"$f":"IFERROR(VLOOKUP(BH40,商品マスター!$B$7:$D$53,2,FALSE),\"\")","v":""},null,{"$f":"IFERROR(VLOOKUP(BH40,商品マスター!$B$7:$D$53,3,FALSE),\"\")","v":""},0,0,0.1,0,null,0]
["",null,null,null,null,null,null,null,{"$f":"IFERROR(VLOOKUP(H41,得意先マスター!$B$7:$H$103,2,FALSE),\"\")","v":""},{"$f":"IFERROR(VLOOKUP(H41,得意先マスター!$B$7:$H$103,3,FALSE),\"\")","v":""},{"$f":"IFERROR(VLOOKUP(H41,得意先マスター!$B$7:$H$103,4,FALSE),\"\")","v":""},{"$f":"IFERROR(VLOOKUP(H41,得意先マスター!$B$7:$H$103,5,FALSE),\"\")","v":""},{"$f":"IFERROR(VLOOKUP(H41,得意先マスター!$B$7:$H$103,6,FALSE),\"\")","v":""},null,null,{"$f":"IFERROR(VLOOKUP(O41,商品マスター!$B$7:$D$53,2,FALSE),\"\")","v":""},null,{"$f":"IFERROR(VLOOKUP(O41,商品マスター!$B$7:$D$53,3,FALSE),\"\")","v":""},0,null,{"$f":"IFERROR(VLOOKUP(T41,商品マスター!$B$7:$D$53,2,FALSE),\"\")","v":""},null,{"$f":"IFERROR(VLOOKUP(T41,商品マスター!$B$7:$D$53,3,FALSE),\"\")","v":""},0,null,{"$f":"IFERROR(VLOOKUP(Y41,商品マスター!$B$7:$D$53,2,FALSE),\"\")","v":""},null,{"$f":"IFERROR(VLOOKUP(Y41,商品マスター!$B$7:$D$53,3,FALSE),\"\")","v":""},0,null,{"$f":"IFERROR(VLOOKUP(AD41,商品マスター!$B$7:$D$53,2,FALSE),\"\")","v":""},null,{"$f":"IFERROR(VLOOKUP(AD41,商品マスター!$B$7:$D$53,3,FALSE),\"\")","v":""},0,null,{"$f":"IFERROR(VLOOKUP(AI41,商品マスター!$B$7:$D$53,2,FALSE),\"\")","v":""},null,{"$f":"IFERROR(VLOOKUP(AI41,商品マスター!$B$7:$D$53,3,FALSE),\"\")","v":""},0,null,{"$f":"IFERROR(VLOOKUP(AN41,商品マスター!$B$7:$D$53,2,FALSE),\"\")","v":""},null,{"$f":"IFERROR(VLOOKUP(AN41,商品マスター!$B$7:$D$53,3,FALSE),\"\")","v":""},0,null,{"$f":"IFERROR(VLOOKUP(AS41,商品マスター!$B$7:$D$53,2,FALSE),\"\")","v":""},null,{"$f":"IFERROR(VLOOKUP(AS41,商品マスター!$B$7:$D$53,3,FALSE),\"\")","v":""},0,null,{"$f":"IFERROR(VLOOKUP(AX41,商品マスター!$B$7:$D$53,2,FALSE),\"\")","v":""},null,{"$f":"IFERROR(VLOOKUP(AX41,商品マスター!$B$7:$D$53,3,FALSE),\"\")","v":""},0,null,{"$f":"IFERROR(VLOOKUP(BC41,商品マスター!$B$7:$D$53,2,FALSE),\"\")","v":""},null,{"$f":"IFERROR(VLOOKUP(BC41,商品マスター!$B$7:$D$53,3,FALSE),\"\")","v":""},0,null,{"$f":"IFERROR(VLOOKUP(BH41,商品マスター!$B$7:$D$53,2,FALSE),\"\")","v":""},null,{"$f":"IFERROR(VLOOKUP(BH41,商品マスター!$B$7:$D$53,3,FALSE),\"\")","v":""},0,0,0.1,0,null,0]
["",null,null,null,null,null,null,null,{"$f":"IFERROR(VLOOKUP(H42,得意先マスター!$B$7:$H$103,2,FALSE),\"\")","v":""},{"$f":"IFERROR(VLOOKUP(H42,得意先マスター!$B$7:$H$103,3,FALSE),\"\")","v":""},{"$f":"IFERROR(VLOOKUP(H42,得意先マスター!$B$7:$H$103,4,FALSE),\"\")","v":""},{"$f":"IFERROR(VLOOKUP(H42,得意先マスター!$B$7:$H$103,5,FALSE),\"\")","v":""},{"$f":"IFERROR(VLOOKUP(H42,得意先マスター!$B$7:$H$103,6,FALSE),\"\")","v":""},null,null,{"$f":"IFERROR(VLOOKUP(O42,商品マスター!$B$7:$D$53,2,FALSE),\"\")","v":""},null,{"$f":"IFERROR(VLOOKUP(O42,商品マスター!$B$7:$D$53,3,FALSE),\"\")","v":""},0,null,{"$f":"IFERROR(VLOOKUP(T42,商品マスター!$B$7:$D$53,2,FALSE),\"\")","v":""},null,{"$f":"IFERROR(VLOOKUP(T42,商品マスター!$B$7:$D$53,3,FALSE),\"\")","v":""},0,null,{"$f":"IFERROR(VLOOKUP(Y42,商品マスター!$B$7:$D$53,2,FALSE),\"\")","v":""},null,{"$f":"IFERROR(VLOOKUP(Y42,商品マスター!$B$7:$D$53,3,FALSE),\"\")","v":""},0,null,{"$f":"IFERROR(VLOOKUP(AD42,商品マスター!$B$7:$D$53,2,FALSE),\"\")","v":""},null,{"$f":"IFERROR(VLOOKUP(AD42,商品マスター!$B$7:$D$53,3,FALSE),\"\")","v":""},0,null,{"$f":"IFERROR(VLOOKUP(AI42,商品マスター!$B$7:$D$53,2,FALSE),\"\")","v":""},null,{"$f":"IFERROR(VLOOKUP(AI42,商品マスター!$B$7:$D$53,3,FALSE),\"\")","v":""},0,null,{"$f":"IFERROR(VLOOKUP(AN42,商品マスター!$B$7:$D$53,2,FALSE),\"\")","v":""},null,{"$f":"IFERROR(VLOOKUP(AN42,商品マスター!$B$7:$D$53,3,FALSE),\"\")","v":""},0,null,{"$f":"IFERROR(VLOOKUP(AS42,商品マスター!$B$7:$D$53,2,FALSE),\"\")","v":""},null,{"$f":"IFERROR(VLOOKUP(AS42,商品マスター!$B$7:$D$53,3,FALSE),\"\")","v":""},0,null,{"$f":"IFERROR(VLOOKUP(AX42,商品マスター!$B$7:$D$53,2,FALSE),\"\")","v":""},null,{"$f":"IFERROR(VLOOKUP(AX42,商品マスター!$B$7:$D$53,3,FALSE),\"\")","v":""},0,null,{"$f":"IFERROR(VLOOKUP(BC42,商品マスター!$B$7:$D$53,2,FALSE),\"\")","v":""},null,{"$f":"IFERROR(VLOOKUP(BC42,商品マスター!$B$7:$D$53,3,FALSE),\"\")","v":""},0,null,{"$f":"IFERROR(VLOOKUP(BH42,商品マスター!$B$7:$D$53,2,FALSE),\"\")","v":""},null,{"$f":"IFERROR(VLOOKUP(BH42,商品マスター!$B$7:$D$53,3,FALSE),\"\")","v":""},0,0,0.1,0,null,0]
["",null,null,null,null,null,null,null,{"$f":"IFERROR(VLOOKUP(H43,得意先マスター!$B$7:$H$103,2,FALSE),\"\")","v":""},{"$f":"IFERROR(VLOOKUP(H43,得意先マスター!$B$7:$H$103,3,FALSE),\"\")","v":""},{"$f":"IFERROR(VLOOKUP(H43,得意先マスター!$B$7:$H$103,4,FALSE),\"\")","v":""},{"$f":"IFERROR(VLOOKUP(H43,得意先マスター!$B$7:$H$103,5,FALSE),\"\")","v":""},{"$f":"IFERROR(VLOOKUP(H43,得意先マスター!$B$7:$H$103,6,FALSE),\"\")","v":""},null,null,{"$f":"IFERROR(VLOOKUP(O43,商品マスター!$B$7:$D$53,2,FALSE),\"\")","v":""},null,{"$f":"IFERROR(VLOOKUP(O43,商品マスター!$B$7:$D$53,3,FALSE),\"\")","v":""},0,null,{"$f":"IFERROR(VLOOKUP(T43,商品マスター!$B$7:$D$53,2,FALSE),\"\")","v":""},null,{"$f":"IFERROR(VLOOKUP(T43,商品マスター!$B$7:$D$53,3,FALSE),\"\")","v":""},0,null,{"$f":"IFERROR(VLOOKUP(Y43,商品マスター!$B$7:$D$53,2,FALSE),\"\")","v":""},null,{"$f":"IFERROR(VLOOKUP(Y43,商品マスター!$B$7:$D$53,3,FALSE),\"\")","v":""},0,null,{"$f":"IFERROR(VLOOKUP(AD43,商品マスター!$B$7:$D$53,2,FALSE),\"\")","v":""},null,{"$f":"IFERROR(VLOOKUP(AD43,商品マスター!$B$7:$D$53,3,FALSE),\"\")","v":""},0,null,{"$f":"IFERROR(VLOOKUP(AI43,商品マスター!$B$7:$D$53,2,FALSE),\"\")","v":""},null,{"$f":"IFERROR(VLOOKUP(AI43,商品マスター!$B$7:$D$53,3,FALSE),\"\")","v":""},0,null,{"$f":"IFERROR(VLOOKUP(AN43,商品マスター!$B$7:$D$53,2,FALSE),\"\")","v":""},null,{"$f":"IFERROR(VLOOKUP(AN43,商品マスター!$B$7:$D$53,3,FALSE),\"\")","v":""},0,null,{"$f":"IFERROR(VLOOKUP(AS43,商品マスター!$B$7:$D$53,2,FALSE),\"\")","v":""},null,{"$f":"IFERROR(VLOOKUP(AS43,商品マスター!$B$7:$D$53,3,FALSE),\"\")","v":""},0,null,{"$f":"IFERROR(VLOOKUP(AX43,商品マスター!$B$7:$D$53,2,FALSE),\"\")","v":""},null,{"$f":"IFERROR(VLOOKUP(AX43,商品マスター!$B$7:$D$53,3,FALSE),\"\")","v":""},0,null,{"$f":"IFERROR(VLOOKUP(BC43,商品マスター!$B$7:$D$53,2,FALSE),\"\")","v":""},null,{"$f":"IFERROR(VLOOKUP(BC43,商品マスター!$B$7:$D$53,3,FALSE),\"\")","v":""},0,null,{"$f":"IFERROR(VLOOKUP(BH43,商品マスター!$B$7:$D$53,2,FALSE),\"\")","v":""},null,{"$f":"IFERROR(VLOOKUP(BH43,商品マスター!$B$7:$D$53,3,FALSE),\"\")","v":""},0,0,0.1,0,null,0]
["",null,null,null,null,null,null,null,{"$f":"IFERROR(VLOOKUP(H44,得意先マスター!$B$7:$H$103,2,FALSE),\"\")","v":""},{"$f":"IFERROR(VLOOKUP(H44,得意先マスター!$B$7:$H$103,3,FALSE),\"\")","v":""},{"$f":"IFERROR(VLOOKUP(H44,得意先マスター!$B$7:$H$103,4,FALSE),\"\")","v":""},{"$f":"IFERROR(VLOOKUP(H44,得意先マスター!$B$7:$H$103,5,FALSE),\"\")","v":""},{"$f":"IFERROR(VLOOKUP(H44,得意先マスター!$B$7:$H$103,6,FALSE),\"\")","v":""},null,null,{"$f":"IFERROR(VLOOKUP(O44,商品マスター!$B$7:$D$53,2,FALSE),\"\")","v":""},null,{"$f":"IFERROR(VLOOKUP(O44,商品マスター!$B$7:$D$53,3,FALSE),\"\")","v":""},0,null,{"$f":"IFERROR(VLOOKUP(T44,商品マスター!$B$7:$D$53,2,FALSE),\"\")","v":""},null,{"$f":"IFERROR(VLOOKUP(T44,商品マスター!$B$7:$D$53,3,FALSE),\"\")","v":""},0,null,{"$f":"IFERROR(VLOOKUP(Y44,商品マスター!$B$7:$D$53,2,FALSE),\"\")","v":""},null,{"$f":"IFERROR(VLOOKUP(Y44,商品マスター!$B$7:$D$53,3,FALSE),\"\")","v":""},0,null,{"$f":"IFERROR(VLOOKUP(AD44,商品マスター!$B$7:$D$53,2,FALSE),\"\")","v":""},null,{"$f":"IFERROR(VLOOKUP(AD44,商品マスター!$B$7:$D$53,3,FALSE),\"\")","v":""},0,null,{"$f":"IFERROR(VLOOKUP(AI44,商品マスター!$B$7:$D$53,2,FALSE),\"\")","v":""},null,{"$f":"IFERROR(VLOOKUP(AI44,商品マスター!$B$7:$D$53,3,FALSE),\"\")","v":""},0,null,{"$f":"IFERROR(VLOOKUP(AN44,商品マスター!$B$7:$D$53,2,FALSE),\"\")","v":""},null,{"$f":"IFERROR(VLOOKUP(AN44,商品マスター!$B$7:$D$53,3,FALSE),\"\")","v":""},0,null,{"$f":"IFERROR(VLOOKUP(AS44,商品マスター!$B$7:$D$53,2,FALSE),\"\")","v":""},null,{"$f":"IFERROR(VLOOKUP(AS44,商品マスター!$B$7:$D$53,3,FALSE),\"\")","v":""},0,null,{"$f":"IFERROR(VLOOKUP(AX44,商品マスター!$B$7:$D$53,2,FALSE),\"\")","v":""},null,{"$f":"IFERROR(VLOOKUP(AX44,商品マスター!$B$7:$D$53,3,FALSE),\"\")","v":""},0,null,{"$f":"IFERROR(VLOOKUP(BC44,商品マスター!$B$7:$D$53,2,FALSE),\"\")","v":""},null,{"$f":"IFERROR(VLOOKUP(BC44,商品マスター!$B$7:$D$53,3,FALSE),\"\")","v":""},0,null,{"$f":"IFERROR(VLOOKUP(BH44,商品マスター!$B$7:$D$53,2,FALSE),\"\")","v":""},null,{"$f":"IFERROR(VLOOKUP(BH44,商品マスター!$B$7:$D$53,3,FALSE),\"\")","v":""},0,0,0.1,0,null,0]
["",null,null,null,null,null,null,null,{"$f":"IFERROR(VLOOKUP(H45,得意先マスター!$B$7:$H$103,2,FALSE),\"\")","v":""},{"$f":"IFERROR(VLOOKUP(H45,得意先マスター!$B$7:$H$103,3,FALSE),\"\")","v":""},{"$f":"IFERROR(VLOOKUP(H45,得意先マスター!$B$7:$H$103,4,FALSE),\"\")","v":""},{"$f":"IFERROR(VLOOKUP(H45,得意先マスター!$B$7:$H$103,5,FALSE),\"\")","v":""},{"$f":"IFERROR(VLOOKUP(H45,得意先マスター!$B$7:$H$103,6,FALSE),\"\")","v":""},null,null,{"$f":"IFERROR(VLOOKUP(O45,商品マスター!$B$7:$D$53,2,FALSE),\"\")","v":""},null,{"$f":"IFERROR(VLOOKUP(O45,商品マスター!$B$7:$D$53,3,FALSE),\"\")","v":""},0,null,{"$f":"IFERROR(VLOOKUP(T45,商品マスター!$B$7:$D$53,2,FALSE),\"\")","v":""},null,{"$f":"IFERROR(VLOOKUP(T45,商品マスター!$B$7:$D$53,3,FALSE),\"\")","v":""},0,null,{"$f":"IFERROR(VLOOKUP(Y45,商品マスター!$B$7:$D$53,2,FALSE),\"\")","v":""},null,{"$f":"IFERROR(VLOOKUP(Y45,商品マスター!$B$7:$D$53,3,FALSE),\"\")","v":""},0,null,{"$f":"IFERROR(VLOOKUP(AD45,商品マスター!$B$7:$D$53,2,FALSE),\"\")","v":""},null,{"$f":"IFERROR(VLOOKUP(AD45,商品マスター!$B$7:$D$53,3,FALSE),\"\")","v":""},0,null,{"$f":"IFERROR(VLOOKUP(AI45,商品マスター!$B$7:$D$53,2,FALSE),\"\")","v":""},null,{"$f":"IFERROR(VLOOKUP(AI45,商品マスター!$B$7:$D$53,3,FALSE),\"\")","v":""},0,null,{"$f":"IFERROR(VLOOKUP(AN45,商品マスター!$B$7:$D$53,2,FALSE),\"\")","v":""},null,{"$f":"IFERROR(VLOOKUP(AN45,商品マスター!$B$7:$D$53,3,FALSE),\"\")","v":""},0,null,{"$f":"IFERROR(VLOOKUP(AS45,商品マスター!$B$7:$D$53,2,FALSE),\"\")","v":""},null,{"$f":"IFERROR(VLOOKUP(AS45,商品マスター!$B$7:$D$53,3,FALSE),\"\")","v":""},0,null,{"$f":"IFERROR(VLOOKUP(AX45,商品マスター!$B$7:$D$53,2,FALSE),\"\")","v":""},null,{"$f":"IFERROR(VLOOKUP(AX45,商品マスター!$B$7:$D$53,3,FALSE),\"\")","v":""},0,null,{"$f":"IFERROR(VLOOKUP(BC45,商品マスター!$B$7:$D$53,2,FALSE),\"\")","v":""},null,{"$f":"IFERROR(VLOOKUP(BC45,商品マスター!$B$7:$D$53,3,FALSE),\"\")","v":""},0,null,{"$f":"IFERROR(VLOOKUP(BH45,商品マスター!$B$7:$D$53,2,FALSE),\"\")","v":""},null,{"$f":"IFERROR(VLOOKUP(BH45,商品マスター!$B$7:$D$53,3,FALSE),\"\")","v":""},0,0,0.1,0,null,0]
["",null,null,null,null,null,null,null,{"$f":"IFERROR(VLOOKUP(H46,得意先マスター!$B$7:$H$103,2,FALSE),\"\")","v":""},{"$f":"IFERROR(VLOOKUP(H46,得意先マスター!$B$7:$H$103,3,FALSE),\"\")","v":""},{"$f":"IFERROR(VLOOKUP(H46,得意先マスター!$B$7:$H$103,4,FALSE),\"\")","v":""},{"$f":"IFERROR(VLOOKUP(H46,得意先マスター!$B$7:$H$103,5,FALSE),\"\")","v":""},{"$f":"IFERROR(VLOOKUP(H46,得意先マスター!$B$7:$H$103,6,FALSE),\"\")","v":""},null,null,{"$f":"IFERROR(VLOOKUP(O46,商品マスター!$B$7:$D$53,2,FALSE),\"\")","v":""},null,{"$f":"IFERROR(VLOOKUP(O46,商品マスター!$B$7:$D$53,3,FALSE),\"\")","v":""},0,null,{"$f":"IFERROR(VLOOKUP(T46,商品マスター!$B$7:$D$53,2,FALSE),\"\")","v":""},null,{"$f":"IFERROR(VLOOKUP(T46,商品マスター!$B$7:$D$53,3,FALSE),\"\")","v":""},0,null,{"$f":"IFERROR(VLOOKUP(Y46,商品マスター!$B$7:$D$53,2,FALSE),\"\")","v":""},null,{"$f":"IFERROR(VLOOKUP(Y46,商品マスター!$B$7:$D$53,3,FALSE),\"\")","v":""},0,null,{"$f":"IFERROR(VLOOKUP(AD46,商品マスター!$B$7:$D$53,2,FALSE),\"\")","v":""},null,{"$f":"IFERROR(VLOOKUP(AD46,商品マスター!$B$7:$D$53,3,FALSE),\"\")","v":""},0,null,{"$f":"IFERROR(VLOOKUP(AI46,商品マスター!$B$7:$D$53,2,FALSE),\"\")","v":""},null,{"$f":"IFERROR(VLOOKUP(AI46,商品マスター!$B$7:$D$53,3,FALSE),\"\")","v":""},0,null,{"$f":"IFERROR(VLOOKUP(AN46,商品マスター!$B$7:$D$53,2,FALSE),\"\")","v":""},null,{"$f":"IFERROR(VLOOKUP(AN46,商品マスター!$B$7:$D$53,3,FALSE),\"\")","v":""},0,null,{"$f":"IFERROR(VLOOKUP(AS46,商品マスター!$B$7:$D$53,2,FALSE),\"\")","v":""},null,{"$f":"IFERROR(VLOOKUP(AS46,商品マスター!$B$7:$D$53,3,FALSE),\"\")","v":""},0,null,{"$f":"IFERROR(VLOOKUP(AX46,商品マスター!$B$7:$D$53,2,FALSE),\"\")","v":""},null,{"$f":"IFERROR(VLOOKUP(AX46,商品マスター!$B$7:$D$53,3,FALSE),\"\")","v":""},0,null,{"$f":"IFERROR(VLOOKUP(BC46,商品マスター!$B$7:$D$53,2,FALSE),\"\")","v":""},null,{"$f":"IFERROR(VLOOKUP(BC46,商品マスター!$B$7:$D$53,3,FALSE),\"\")","v":""},0,null,{"$f":"IFERROR(VLOOKUP(BH46,商品マスター!$B$7:$D$53,2,FALSE),\"\")","v":""},null,{"$f":"IFERROR(VLOOKUP(BH46,商品マスター!$B$7:$D$53,3,FALSE),\"\")","v":""},0,0,0.1,0,null,0]
["",null,null,null,null,null,null,null,{"$f":"IFERROR(VLOOKUP(H47,得意先マスター!$B$7:$H$103,2,FALSE),\"\")","v":""},{"$f":"IFERROR(VLOOKUP(H47,得意先マスター!$B$7:$H$103,3,FALSE),\"\")","v":""},{"$f":"IFERROR(VLOOKUP(H47,得意先マスター!$B$7:$H$103,4,FALSE),\"\")","v":""},{"$f":"IFERROR(VLOOKUP(H47,得意先マスター!$B$7:$H$103,5,FALSE),\"\")","v":""},{"$f":"IFERROR(VLOOKUP(H47,得意先マスター!$B$7:$H$103,6,FALSE),\"\")","v":""},null,null,{"$f":"IFERROR(VLOOKUP(O47,商品マスター!$B$7:$D$53,2,FALSE),\"\")","v":""},null,{"$f":"IFERROR(VLOOKUP(O47,商品マスター!$B$7:$D$53,3,FALSE),\"\")","v":""},0,null,{"$f":"IFERROR(VLOOKUP(T47,商品マスター!$B$7:$D$53,2,FALSE),\"\")","v":""},null,{"$f":"IFERROR(VLOOKUP(T47,商品マスター!$B$7:$D$53,3,FALSE),\"\")","v":""},0,null,{"$f":"IFERROR(VLOOKUP(Y47,商品マスター!$B$7:$D$53,2,FALSE),\"\")","v":""},null,{"$f":"IFERROR(VLOOKUP(Y47,商品マスター!$B$7:$D$53,3,FALSE),\"\")","v":""},0,null,{"$f":"IFERROR(VLOOKUP(AD47,商品マスター!$B$7:$D$53,2,FALSE),\"\")","v":""},null,{"$f":"IFERROR(VLOOKUP(AD47,商品マスター!$B$7:$D$53,3,FALSE),\"\")","v":""},0,null,{"$f":"IFERROR(VLOOKUP(AI47,商品マスター!$B$7:$D$53,2,FALSE),\"\")","v":""},null,{"$f":"IFERROR(VLOOKUP(AI47,商品マスター!$B$7:$D$53,3,FALSE),\"\")","v":""},0,null,{"$f":"IFERROR(VLOOKUP(AN47,商品マスター!$B$7:$D$53,2,FALSE),\"\")","v":""},null,{"$f":"IFERROR(VLOOKUP(AN47,商品マスター!$B$7:$D$53,3,FALSE),\"\")","v":""},0,null,{"$f":"IFERROR(VLOOKUP(AS47,商品マスター!$B$7:$D$53,2,FALSE),\"\")","v":""},null,{"$f":"IFERROR(VLOOKUP(AS47,商品マスター!$B$7:$D$53,3,FALSE),\"\")","v":""},0,null,{"$f":"IFERROR(VLOOKUP(AX47,商品マスター!$B$7:$D$53,2,FALSE),\"\")","v":""},null,{"$f":"IFERROR(VLOOKUP(AX47,商品マスター!$B$7:$D$53,3,FALSE),\"\")","v":""},0,null,{"$f":"IFERROR(VLOOKUP(BC47,商品マスター!$B$7:$D$53,2,FALSE),\"\")","v":""},null,{"$f":"IFERROR(VLOOKUP(BC47,商品マスター!$B$7:$D$53,3,FALSE),\"\")","v":""},0,null,{"$f":"IFERROR(VLOOKUP(BH47,商品マスター!$B$7:$D$53,2,FALSE),\"\")","v":""},null,{"$f":"IFERROR(VLOOKUP(BH47,商品マスター!$B$7:$D$53,3,FALSE),\"\")","v":""},0,0,0.1,0,null,0]
["",null,null,null,null,null,null,null,{"$f":"IFERROR(VLOOKUP(H48,得意先マスター!$B$7:$H$103,2,FALSE),\"\")","v":""},{"$f":"IFERROR(VLOOKUP(H48,得意先マスター!$B$7:$H$103,3,FALSE),\"\")","v":""},{"$f":"IFERROR(VLOOKUP(H48,得意先マスター!$B$7:$H$103,4,FALSE),\"\")","v":""},{"$f":"IFERROR(VLOOKUP(H48,得意先マスター!$B$7:$H$103,5,FALSE),\"\")","v":""},{"$f":"IFERROR(VLOOKUP(H48,得意先マスター!$B$7:$H$103,6,FALSE),\"\")","v":""},null,null,{"$f":"IFERROR(VLOOKUP(O48,商品マスター!$B$7:$D$53,2,FALSE),\"\")","v":""},null,{"$f":"IFERROR(VLOOKUP(O48,商品マスター!$B$7:$D$53,3,FALSE),\"\")","v":""},0,null,{"$f":"IFERROR(VLOOKUP(T48,商品マスター!$B$7:$D$53,2,FALSE),\"\")","v":""},null,{"$f":"IFERROR(VLOOKUP(T48,商品マスター!$B$7:$D$53,3,FALSE),\"\")","v":""},0,null,{"$f":"IFERROR(VLOOKUP(Y48,商品マスター!$B$7:$D$53,2,FALSE),\"\")","v":""},null,{"$f":"IFERROR(VLOOKUP(Y48,商品マスター!$B$7:$D$53,3,FALSE),\"\")","v":""},0,null,{"$f":"IFERROR(VLOOKUP(AD48,商品マスター!$B$7:$D$53,2,FALSE),\"\")","v":""},null,{"$f":"IFERROR(VLOOKUP(AD48,商品マスター!$B$7:$D$53,3,FALSE),\"\")","v":""},0,null,{"$f":"IFERROR(VLOOKUP(AI48,商品マスター!$B$7:$D$53,2,FALSE),\"\")","v":""},null,{"$f":"IFERROR(VLOOKUP(AI48,商品マスター!$B$7:$D$53,3,FALSE),\"\")","v":""},0,null,{"$f":"IFERROR(VLOOKUP(AN48,商品マスター!$B$7:$D$53,2,FALSE),\"\")","v":""},null,{"$f":"IFERROR(VLOOKUP(AN48,商品マスター!$B$7:$D$53,3,FALSE),\"\")","v":""},0,null,{"$f":"IFERROR(VLOOKUP(AS48,商品マスター!$B$7:$D$53,2,FALSE),\"\")","v":""},null,{"$f":"IFERROR(VLOOKUP(AS48,商品マスター!$B$7:$D$53,3,FALSE),\"\")","v":""},0,null,{"$f":"IFERROR(VLOOKUP(AX48,商品マスター!$B$7:$D$53,2,FALSE),\"\")","v":""},null,{"$f":"IFERROR(VLOOKUP(AX48,商品マスター!$B$7:$D$53,3,FALSE),\"\")","v":""},0,null,{"$f":"IFERROR(VLOOKUP(BC48,商品マスター!$B$7:$D$53,2,FALSE),\"\")","v":""},null,{"$f":"IFERROR(VLOOKUP(BC48,商品マスター!$B$7:$D$53,3,FALSE),\"\")","v":""},0,null,{"$f":"IFERROR(VLOOKUP(BH48,商品マスター!$B$7:$D$53,2,FALSE),\"\")","v":""},null,{"$f":"IFERROR(VLOOKUP(BH48,商品マスター!$B$7:$D$53,3,FALSE),\"\")","v":""},0,0,0.1,0,null,0]
["",null,null,null,null,null,null,null,{"$f":"IFERROR(VLOOKUP(H49,得意先マスター!$B$7:$H$103,2,FALSE),\"\")","v":""},{"$f":"IFERROR(VLOOKUP(H49,得意先マスター!$B$7:$H$103,3,FALSE),\"\")","v":""},{"$f":"IFERROR(VLOOKUP(H49,得意先マスター!$B$7:$H$103,4,FALSE),\"\")","v":""},{"$f":"IFERROR(VLOOKUP(H49,得意先マスター!$B$7:$H$103,5,FALSE),\"\")","v":""},{"$f":"IFERROR(VLOOKUP(H49,得意先マスター!$B$7:$H$103,6,FALSE),\"\")","v":""},null,null,{"$f":"IFERROR(VLOOKUP(O49,商品マスター!$B$7:$D$53,2,FALSE),\"\")","v":""},null,{"$f":"IFERROR(VLOOKUP(O49,商品マスター!$B$7:$D$53,3,FALSE),\"\")","v":""},0,null,{"$f":"IFERROR(VLOOKUP(T49,商品マスター!$B$7:$D$53,2,FALSE),\"\")","v":""},null,{"$f":"IFERROR(VLOOKUP(T49,商品マスター!$B$7:$D$53,3,FALSE),\"\")","v":""},0,null,{"$f":"IFERROR(VLOOKUP(Y49,商品マスター!$B$7:$D$53,2,FALSE),\"\")","v":""},null,{"$f":"IFERROR(VLOOKUP(Y49,商品マスター!$B$7:$D$53,3,FALSE),\"\")","v":""},0,null,{"$f":"IFERROR(VLOOKUP(AD49,商品マスター!$B$7:$D$53,2,FALSE),\"\")","v":""},null,{"$f":"IFERROR(VLOOKUP(AD49,商品マスター!$B$7:$D$53,3,FALSE),\"\")","v":""},0,null,{"$f":"IFERROR(VLOOKUP(AI49,商品マスター!$B$7:$D$53,2,FALSE),\"\")","v":""},null,{"$f":"IFERROR(VLOOKUP(AI49,商品マスター!$B$7:$D$53,3,FALSE),\"\")","v":""},0,null,{"$f":"IFERROR(VLOOKUP(AN49,商品マスター!$B$7:$D$53,2,FALSE),\"\")","v":""},null,{"$f":"IFERROR(VLOOKUP(AN49,商品マスター!$B$7:$D$53,3,FALSE),\"\")","v":""},0,null,{"$f":"IFERROR(VLOOKUP(AS49,商品マスター!$B$7:$D$53,2,FALSE),\"\")","v":""},null,{"$f":"IFERROR(VLOOKUP(AS49,商品マスター!$B$7:$D$53,3,FALSE),\"\")","v":""},0,null,{"$f":"IFERROR(VLOOKUP(AX49,商品マスター!$B$7:$D$53,2,FALSE),\"\")","v":""},null,{"$f":"IFERROR(VLOOKUP(AX49,商品マスター!$B$7:$D$53,3,FALSE),\"\")","v":""},0,null,{"$f":"IFERROR(VLOOKUP(BC49,商品マスター!$B$7:$D$53,2,FALSE),\"\")","v":""},null,{"$f":"IFERROR(VLOOKUP(BC49,商品マスター!$B$7:$D$53,3,FALSE),\"\")","v":""},0,null,{"$f":"IFERROR(VLOOKUP(BH49,商品マスター!$B$7:$D$53,2,FALSE),\"\")","v":""},null,{"$f":"IFERROR(VLOOKUP(BH49,商品マスター!$B$7:$D$53,3,FALSE),\"\")","v":""},0,0,0.1,0,null,0]
["",null,null,null,null,null,null,null,{"$f":"IFERROR(VLOOKUP(H50,得意先マスター!$B$7:$H$103,2,FALSE),\"\")","v":""},{"$f":"IFERROR(VLOOKUP(H50,得意先マスター!$B$7:$H$103,3,FALSE),\"\")","v":""},{"$f":"IFERROR(VLOOKUP(H50,得意先マスター!$B$7:$H$103,4,FALSE),\"\")","v":""},{"$f":"IFERROR(VLOOKUP(H50,得意先マスター!$B$7:$H$103,5,FALSE),\"\")","v":""},{"$f":"IFERROR(VLOOKUP(H50,得意先マスター!$B$7:$H$103,6,FALSE),\"\")","v":""},null,null,{"$f":"IFERROR(VLOOKUP(O50,商品マスター!$B$7:$D$53,2,FALSE),\"\")","v":""},null,{"$f":"IFERROR(VLOOKUP(O50,商品マスター!$B$7:$D$53,3,FALSE),\"\")","v":""},0,null,{"$f":"IFERROR(VLOOKUP(T50,商品マスター!$B$7:$D$53,2,FALSE),\"\")","v":""},null,{"$f":"IFERROR(VLOOKUP(T50,商品マスター!$B$7:$D$53,3,FALSE),\"\")","v":""},0,null,{"$f":"IFERROR(VLOOKUP(Y50,商品マスター!$B$7:$D$53,2,FALSE),\"\")","v":""},null,{"$f":"IFERROR(VLOOKUP(Y50,商品マスター!$B$7:$D$53,3,FALSE),\"\")","v":""},0,null,{"$f":"IFERROR(VLOOKUP(AD50,商品マスター!$B$7:$D$53,2,FALSE),\"\")","v":""},null,{"$f":"IFERROR(VLOOKUP(AD50,商品マスター!$B$7:$D$53,3,FALSE),\"\")","v":""},0,null,{"$f":"IFERROR(VLOOKUP(AI50,商品マスター!$B$7:$D$53,2,FALSE),\"\")","v":""},null,{"$f":"IFERROR(VLOOKUP(AI50,商品マスター!$B$7:$D$53,3,FALSE),\"\")","v":""},0,null,{"$f":"IFERROR(VLOOKUP(AN50,商品マスター!$B$7:$D$53,2,FALSE),\"\")","v":""},null,{"$f":"IFERROR(VLOOKUP(AN50,商品マスター!$B$7:$D$53,3,FALSE),\"\")","v":""},0,null,{"$f":"IFERROR(VLOOKUP(AS50,商品マスター!$B$7:$D$53,2,FALSE),\"\")","v":""},null,{"$f":"IFERROR(VLOOKUP(AS50,商品マスター!$B$7:$D$53,3,FALSE),\"\")","v":""},0,null,{"$f":"IFERROR(VLOOKUP(AX50,商品マスター!$B$7:$D$53,2,FALSE),\"\")","v":""},null,{"$f":"IFERROR(VLOOKUP(AX50,商品マスター!$B$7:$D$53,3,FALSE),\"\")","v":""},0,null,{"$f":"IFERROR(VLOOKUP(BC50,商品マスター!$B$7:$D$53,2,FALSE),\"\")","v":""},null,{"$f":"IFERROR(VLOOKUP(BC50,商品マスター!$B$7:$D$53,3,FALSE),\"\")","v":""},0,null,{"$f":"IFERROR(VLOOKUP(BH50,商品マスター!$B$7:$D$53,2,FALSE),\"\")","v":""},null,{"$f":"IFERROR(VLOOKUP(BH50,商品マスター!$B$7:$D$53,3,FALSE),\"\")","v":""},0,0,0.1,0,null,0]
["",null,null,null,null,null,null,null,{"$f":"IFERROR(VLOOKUP(H51,得意先マスター!$B$7:$H$103,2,FALSE),\"\")","v":""},{"$f":"IFERROR(VLOOKUP(H51,得意先マスター!$B$7:$H$103,3,FALSE),\"\")","v":""},{"$f":"IFERROR(VLOOKUP(H51,得意先マスター!$B$7:$H$103,4,FALSE),\"\")","v":""},{"$f":"IFERROR(VLOOKUP(H51,得意先マスター!$B$7:$H$103,5,FALSE),\"\")","v":""},{"$f":"IFERROR(VLOOKUP(H51,得意先マスター!$B$7:$H$103,6,FALSE),\"\")","v":""},null,null,{"$f":"IFERROR(VLOOKUP(O51,商品マスター!$B$7:$D$53,2,FALSE),\"\")","v":""},null,{"$f":"IFERROR(VLOOKUP(O51,商品マスター!$B$7:$D$53,3,FALSE),\"\")","v":""},0,null,{"$f":"IFERROR(VLOOKUP(T51,商品マスター!$B$7:$D$53,2,FALSE),\"\")","v":""},null,{"$f":"IFERROR(VLOOKUP(T51,商品マスター!$B$7:$D$53,3,FALSE),\"\")","v":""},0,null,{"$f":"IFERROR(VLOOKUP(Y51,商品マスター!$B$7:$D$53,2,FALSE),\"\")","v":""},null,{"$f":"IFERROR(VLOOKUP(Y51,商品マスター!$B$7:$D$53,3,FALSE),\"\")","v":""},0,null,{"$f":"IFERROR(VLOOKUP(AD51,商品マスター!$B$7:$D$53,2,FALSE),\"\")","v":""},null,{"$f":"IFERROR(VLOOKUP(AD51,商品マスター!$B$7:$D$53,3,FALSE),\"\")","v":""},0,null,{"$f":"IFERROR(VLOOKUP(AI51,商品マスター!$B$7:$D$53,2,FALSE),\"\")","v":""},null,{"$f":"IFERROR(VLOOKUP(AI51,商品マスター!$B$7:$D$53,3,FALSE),\"\")","v":""},0,null,{"$f":"IFERROR(VLOOKUP(AN51,商品マスター!$B$7:$D$53,2,FALSE),\"\")","v":""},null,{"$f":"IFERROR(VLOOKUP(AN51,商品マスター!$B$7:$D$53,3,FALSE),\"\")","v":""},0,null,{"$f":"IFERROR(VLOOKUP(AS51,商品マスター!$B$7:$D$53,2,FALSE),\"\")","v":""},null,{"$f":"IFERROR(VLOOKUP(AS51,商品マスター!$B$7:$D$53,3,FALSE),\"\")","v":""},0,null,{"$f":"IFERROR(VLOOKUP(AX51,商品マスター!$B$7:$D$53,2,FALSE),\"\")","v":""},null,{"$f":"IFERROR(VLOOKUP(AX51,商品マスター!$B$7:$D$53,3,FALSE),\"\")","v":""},0,null,{"$f":"IFERROR(VLOOKUP(BC51,商品マスター!$B$7:$D$53,2,FALSE),\"\")","v":""},null,{"$f":"IFERROR(VLOOKUP(BC51,商品マスター!$B$7:$D$53,3,FALSE),\"\")","v":""},0,null,{"$f":"IFERROR(VLOOKUP(BH51,商品マスター!$B$7:$D$53,2,FALSE),\"\")","v":""},null,{"$f":"IFERROR(VLOOKUP(BH51,商品マスター!$B$7:$D$53,3,FALSE),\"\")","v":""},0,0,0.1,0,null,0]
["",null,null,null,null,null,null,null,{"$f":"IFERROR(VLOOKUP(H52,得意先マスター!$B$7:$H$103,2,FALSE),\"\")","v":""},{"$f":"IFERROR(VLOOKUP(H52,得意先マスター!$B$7:$H$103,3,FALSE),\"\")","v":""},{"$f":"IFERROR(VLOOKUP(H52,得意先マスター!$B$7:$H$103,4,FALSE),\"\")","v":""},{"$f":"IFERROR(VLOOKUP(H52,得意先マスター!$B$7:$H$103,5,FALSE),\"\")","v":""},{"$f":"IFERROR(VLOOKUP(H52,得意先マスター!$B$7:$H$103,6,FALSE),\"\")","v":""},null,null,{"$f":"IFERROR(VLOOKUP(O52,商品マスター!$B$7:$D$53,2,FALSE),\"\")","v":""},null,{"$f":"IFERROR(VLOOKUP(O52,商品マスター!$B$7:$D$53,3,FALSE),\"\")","v":""},0,null,{"$f":"IFERROR(VLOOKUP(T52,商品マスター!$B$7:$D$53,2,FALSE),\"\")","v":""},null,{"$f":"IFERROR(VLOOKUP(T52,商品マスター!$B$7:$D$53,3,FALSE),\"\")","v":""},0,null,{"$f":"IFERROR(VLOOKUP(Y52,商品マスター!$B$7:$D$53,2,FALSE),\"\")","v":""},null,{"$f":"IFERROR(VLOOKUP(Y52,商品マスター!$B$7:$D$53,3,FALSE),\"\")","v":""},0,null,{"$f":"IFERROR(VLOOKUP(AD52,商品マスター!$B$7:$D$53,2,FALSE),\"\")","v":""},null,{"$f":"IFERROR(VLOOKUP(AD52,商品マスター!$B$7:$D$53,3,FALSE),\"\")","v":""},0,null,{"$f":"IFERROR(VLOOKUP(AI52,商品マスター!$B$7:$D$53,2,FALSE),\"\")","v":""},null,{"$f":"IFERROR(VLOOKUP(AI52,商品マスター!$B$7:$D$53,3,FALSE),\"\")","v":""},0,null,{"$f":"IFERROR(VLOOKUP(AN52,商品マスター!$B$7:$D$53,2,FALSE),\"\")","v":""},null,{"$f":"IFERROR(VLOOKUP(AN52,商品マスター!$B$7:$D$53,3,FALSE),\"\")","v":""},0,null,{"$f":"IFERROR(VLOOKUP(AS52,商品マスター!$B$7:$D$53,2,FALSE),\"\")","v":""},null,{"$f":"IFERROR(VLOOKUP(AS52,商品マスター!$B$7:$D$53,3,FALSE),\"\")","v":""},0,null,{"$f":"IFERROR(VLOOKUP(AX52,商品マスター!$B$7:$D$53,2,FALSE),\"\")","v":""},null,{"$f":"IFERROR(VLOOKUP(AX52,商品マスター!$B$7:$D$53,3,FALSE),\"\")","v":""},0,null,{"$f":"IFERROR(VLOOKUP(BC52,商品マスター!$B$7:$D$53,2,FALSE),\"\")","v":""},null,{"$f":"IFERROR(VLOOKUP(BC52,商品マスター!$B$7:$D$53,3,FALSE),\"\")","v":""},0,null,{"$f":"IFERROR(VLOOKUP(BH52,商品マスター!$B$7:$D$53,2,FALSE),\"\")","v":""},null,{"$f":"IFERROR(VLOOKUP(BH52,商品マスター!$B$7:$D$53,3,FALSE),\"\")","v":""},0,0,0.1,0,null,0]
["",null,null,null,null,null,null,null,{"$f":"IFERROR(VLOOKUP(H53,得意先マスター!$B$7:$H$103,2,FALSE),\"\")","v":""},{"$f":"IFERROR(VLOOKUP(H53,得意先マスター!$B$7:$H$103,3,FALSE),\"\")","v":""},{"$f":"IFERROR(VLOOKUP(H53,得意先マスター!$B$7:$H$103,4,FALSE),\"\")","v":""},{"$f":"IFERROR(VLOOKUP(H53,得意先マスター!$B$7:$H$103,5,FALSE),\"\")","v":""},{"$f":"IFERROR(VLOOKUP(H53,得意先マスター!$B$7:$H$103,6,FALSE),\"\")","v":""},null,null,{"$f":"IFERROR(VLOOKUP(O53,商品マスター!$B$7:$D$53,2,FALSE),\"\")","v":""},null,{"$f":"IFERROR(VLOOKUP(O53,商品マスター!$B$7:$D$53,3,FALSE),\"\")","v":""},0,null,{"$f":"IFERROR(VLOOKUP(T53,商品マスター!$B$7:$D$53,2,FALSE),\"\")","v":""},null,{"$f":"IFERROR(VLOOKUP(T53,商品マスター!$B$7:$D$53,3,FALSE),\"\")","v":""},0,null,{"$f":"IFERROR(VLOOKUP(Y53,商品マスター!$B$7:$D$53,2,FALSE),\"\")","v":""},null,{"$f":"IFERROR(VLOOKUP(Y53,商品マスター!$B$7:$D$53,3,FALSE),\"\")","v":""},0,null,{"$f":"IFERROR(VLOOKUP(AD53,商品マスター!$B$7:$D$53,2,FALSE),\"\")","v":""},null,{"$f":"IFERROR(VLOOKUP(AD53,商品マスター!$B$7:$D$53,3,FALSE),\"\")","v":""},0,null,{"$f":"IFERROR(VLOOKUP(AI53,商品マスター!$B$7:$D$53,2,FALSE),\"\")","v":""},null,{"$f":"IFERROR(VLOOKUP(AI53,商品マスター!$B$7:$D$53,3,FALSE),\"\")","v":""},0,null,{"$f":"IFERROR(VLOOKUP(AN53,商品マスター!$B$7:$D$53,2,FALSE),\"\")","v":""},null,{"$f":"IFERROR(VLOOKUP(AN53,商品マスター!$B$7:$D$53,3,FALSE),\"\")","v":""},0,null,{"$f":"IFERROR(VLOOKUP(AS53,商品マスター!$B$7:$D$53,2,FALSE),\"\")","v":""},null,{"$f":"IFERROR(VLOOKUP(AS53,商品マスター!$B$7:$D$53,3,FALSE),\"\")","v":""},0,null,{"$f":"IFERROR(VLOOKUP(AX53,商品マスター!$B$7:$D$53,2,FALSE),\"\")","v":""},null,{"$f":"IFERROR(VLOOKUP(AX53,商品マスター!$B$7:$D$53,3,FALSE),\"\")","v":""},0,null,{"$f":"IFERROR(VLOOKUP(BC53,商品マスター!$B$7:$D$53,2,FALSE),\"\")","v":""},null,{"$f":"IFERROR(VLOOKUP(BC53,商品マスター!$B$7:$D$53,3,FALSE),\"\")","v":""},0,null,{"$f":"IFERROR(VLOOKUP(BH53,商品マスター!$B$7:$D$53,2,FALSE),\"\")","v":""},null,{"$f":"IFERROR(VLOOKUP(BH53,商品マスター!$B$7:$D$53,3,FALSE),\"\")","v":""},0,0,0.1,0,null,0]
["",null,null,null,null,null,null,null,{"$f":"IFERROR(VLOOKUP(H54,得意先マスター!$B$7:$H$103,2,FALSE),\"\")","v":""},{"$f":"IFERROR(VLOOKUP(H54,得意先マスター!$B$7:$H$103,3,FALSE),\"\")","v":""},{"$f":"IFERROR(VLOOKUP(H54,得意先マスター!$B$7:$H$103,4,FALSE),\"\")","v":""},{"$f":"IFERROR(VLOOKUP(H54,得意先マスター!$B$7:$H$103,5,FALSE),\"\")","v":""},{"$f":"IFERROR(VLOOKUP(H54,得意先マスター!$B$7:$H$103,6,FALSE),\"\")","v":""},null,null,{"$f":"IFERROR(VLOOKUP(O54,商品マスター!$B$7:$D$53,2,FALSE),\"\")","v":""},null,{"$f":"IFERROR(VLOOKUP(O54,商品マスター!$B$7:$D$53,3,FALSE),\"\")","v":""},0,null,{"$f":"IFERROR(VLOOKUP(T54,商品マスター!$B$7:$D$53,2,FALSE),\"\")","v":""},null,{"$f":"IFERROR(VLOOKUP(T54,商品マスター!$B$7:$D$53,3,FALSE),\"\")","v":""},0,null,{"$f":"IFERROR(VLOOKUP(Y54,商品マスター!$B$7:$D$53,2,FALSE),\"\")","v":""},null,{"$f":"IFERROR(VLOOKUP(Y54,商品マスター!$B$7:$D$53,3,FALSE),\"\")","v":""},0,null,{"$f":"IFERROR(VLOOKUP(AD54,商品マスター!$B$7:$D$53,2,FALSE),\"\")","v":""},null,{"$f":"IFERROR(VLOOKUP(AD54,商品マスター!$B$7:$D$53,3,FALSE),\"\")","v":""},0,null,{"$f":"IFERROR(VLOOKUP(AI54,商品マスター!$B$7:$D$53,2,FALSE),\"\")","v":""},null,{"$f":"IFERROR(VLOOKUP(AI54,商品マスター!$B$7:$D$53,3,FALSE),\"\")","v":""},0,null,{"$f":"IFERROR(VLOOKUP(AN54,商品マスター!$B$7:$D$53,2,FALSE),\"\")","v":""},null,{"$f":"IFERROR(VLOOKUP(AN54,商品マスター!$B$7:$D$53,3,FALSE),\"\")","v":""},0,null,{"$f":"IFERROR(VLOOKUP(AS54,商品マスター!$B$7:$D$53,2,FALSE),\"\")","v":""},null,{"$f":"IFERROR(VLOOKUP(AS54,商品マスター!$B$7:$D$53,3,FALSE),\"\")","v":""},0,null,{"$f":"IFERROR(VLOOKUP(AX54,商品マスター!$B$7:$D$53,2,FALSE),\"\")","v":""},null,{"$f":"IFERROR(VLOOKUP(AX54,商品マスター!$B$7:$D$53,3,FALSE),\"\")","v":""},0,null,{"$f":"IFERROR(VLOOKUP(BC54,商品マスター!$B$7:$D$53,2,FALSE),\"\")","v":""},null,{"$f":"IFERROR(VLOOKUP(BC54,商品マスター!$B$7:$D$53,3,FALSE),\"\")","v":""},0,null,{"$f":"IFERROR(VLOOKUP(BH54,商品マスター!$B$7:$D$53,2,FALSE),\"\")","v":""},null,{"$f":"IFERROR(VLOOKUP(BH54,商品マスター!$B$7:$D$53,3,FALSE),\"\")","v":""},0,0,0.1,0,null,0]
["",null,null,null,null,null,null,null,{"$f":"IFERROR(VLOOKUP(H55,得意先マスター!$B$7:$H$103,2,FALSE),\"\")","v":""},{"$f":"IFERROR(VLOOKUP(H55,得意先マスター!$B$7:$H$103,3,FALSE),\"\")","v":""},{"$f":"IFERROR(VLOOKUP(H55,得意先マスター!$B$7:$H$103,4,FALSE),\"\")","v":""},{"$f":"IFERROR(VLOOKUP(H55,得意先マスター!$B$7:$H$103,5,FALSE),\"\")","v":""},{"$f":"IFERROR(VLOOKUP(H55,得意先マスター!$B$7:$H$103,6,FALSE),\"\")","v":""},null,null,{"$f":"IFERROR(VLOOKUP(O55,商品マスター!$B$7:$D$53,2,FALSE),\"\")","v":""},null,{"$f":"IFERROR(VLOOKUP(O55,商品マスター!$B$7:$D$53,3,FALSE),\"\")","v":""},0,null,{"$f":"IFERROR(VLOOKUP(T55,商品マスター!$B$7:$D$53,2,FALSE),\"\")","v":""},null,{"$f":"IFERROR(VLOOKUP(T55,商品マスター!$B$7:$D$53,3,FALSE),\"\")","v":""},0,null,{"$f":"IFERROR(VLOOKUP(Y55,商品マスター!$B$7:$D$53,2,FALSE),\"\")","v":""},null,{"$f":"IFERROR(VLOOKUP(Y55,商品マスター!$B$7:$D$53,3,FALSE),\"\")","v":""},0,null,{"$f":"IFERROR(VLOOKUP(AD55,商品マスター!$B$7:$D$53,2,FALSE),\"\")","v":""},null,{"$f":"IFERROR(VLOOKUP(AD55,商品マスター!$B$7:$D$53,3,FALSE),\"\")","v":""},0,null,{"$f":"IFERROR(VLOOKUP(AI55,商品マスター!$B$7:$D$53,2,FALSE),\"\")","v":""},null,{"$f":"IFERROR(VLOOKUP(AI55,商品マスター!$B$7:$D$53,3,FALSE),\"\")","v":""},0,null,{"$f":"IFERROR(VLOOKUP(AN55,商品マスター!$B$7:$D$53,2,FALSE),\"\")","v":""},null,{"$f":"IFERROR(VLOOKUP(AN55,商品マスター!$B$7:$D$53,3,FALSE),\"\")","v":""},0,null,{"$f":"IFERROR(VLOOKUP(AS55,商品マスター!$B$7:$D$53,2,FALSE),\"\")","v":""},null,{"$f":"IFERROR(VLOOKUP(AS55,商品マスター!$B$7:$D$53,3,FALSE),\"\")","v":""},0,null,{"$f":"IFERROR(VLOOKUP(AX55,商品マスター!$B$7:$D$53,2,FALSE),\"\")","v":""},null,{"$f":"IFERROR(VLOOKUP(AX55,商品マスター!$B$7:$D$53,3,FALSE),\"\")","v":""},0,null,{"$f":"IFERROR(VLOOKUP(BC55,商品マスター!$B$7:$D$53,2,FALSE),\"\")","v":""},null,{"$f":"IFERROR(VLOOKUP(BC55,商品マスター!$B$7:$D$53,3,FALSE),\"\")","v":""},0,null,{"$f":"IFERROR(VLOOKUP(BH55,商品マスター!$B$7:$D$53,2,FALSE),\"\")","v":""},null,{"$f":"IFERROR(VLOOKUP(BH55,商品マスター!$B$7:$D$53,3,FALSE),\"\")","v":""},0,0,0.1,0,null,0]
["",null,null,null,null,null,null,null,{"$f":"IFERROR(VLOOKUP(H56,得意先マスター!$B$7:$H$103,2,FALSE),\"\")","v":""},{"$f":"IFERROR(VLOOKUP(H56,得意先マスター!$B$7:$H$103,3,FALSE),\"\")","v":""},{"$f":"IFERROR(VLOOKUP(H56,得意先マスター!$B$7:$H$103,4,FALSE),\"\")","v":""},{"$f":"IFERROR(VLOOKUP(H56,得意先マスター!$B$7:$H$103,5,FALSE),\"\")","v":""},{"$f":"IFERROR(VLOOKUP(H56,得意先マスター!$B$7:$H$103,6,FALSE),\"\")","v":""},null,null,{"$f":"IFERROR(VLOOKUP(O56,商品マスター!$B$7:$D$53,2,FALSE),\"\")","v":""},null,{"$f":"IFERROR(VLOOKUP(O56,商品マスター!$B$7:$D$53,3,FALSE),\"\")","v":""},0,null,{"$f":"IFERROR(VLOOKUP(T56,商品マスター!$B$7:$D$53,2,FALSE),\"\")","v":""},null,{"$f":"IFERROR(VLOOKUP(T56,商品マスター!$B$7:$D$53,3,FALSE),\"\")","v":""},0,null,{"$f":"IFERROR(VLOOKUP(Y56,商品マスター!$B$7:$D$53,2,FALSE),\"\")","v":""},null,{"$f":"IFERROR(VLOOKUP(Y56,商品マスター!$B$7:$D$53,3,FALSE),\"\")","v":""},0,null,{"$f":"IFERROR(VLOOKUP(AD56,商品マスター!$B$7:$D$53,2,FALSE),\"\")","v":""},null,{"$f":"IFERROR(VLOOKUP(AD56,商品マスター!$B$7:$D$53,3,FALSE),\"\")","v":""},0,null,{"$f":"IFERROR(VLOOKUP(AI56,商品マスター!$B$7:$D$53,2,FALSE),\"\")","v":""},null,{"$f":"IFERROR(VLOOKUP(AI56,商品マスター!$B$7:$D$53,3,FALSE),\"\")","v":""},0,null,{"$f":"IFERROR(VLOOKUP(AN56,商品マスター!$B$7:$D$53,2,FALSE),\"\")","v":""},null,{"$f":"IFERROR(VLOOKUP(AN56,商品マスター!$B$7:$D$53,3,FALSE),\"\")","v":""},0,null,{"$f":"IFERROR(VLOOKUP(AS56,商品マスター!$B$7:$D$53,2,FALSE),\"\")","v":""},null,{"$f":"IFERROR(VLOOKUP(AS56,商品マスター!$B$7:$D$53,3,FALSE),\"\")","v":""},0,null,{"$f":"IFERROR(VLOOKUP(AX56,商品マスター!$B$7:$D$53,2,FALSE),\"\")","v":""},null,{"$f":"IFERROR(VLOOKUP(AX56,商品マスター!$B$7:$D$53,3,FALSE),\"\")","v":""},0,null,{"$f":"IFERROR(VLOOKUP(BC56,商品マスター!$B$7:$D$53,2,FALSE),\"\")","v":""},null,{"$f":"IFERROR(VLOOKUP(BC56,商品マスター!$B$7:$D$53,3,FALSE),\"\")","v":""},0,null,{"$f":"IFERROR(VLOOKUP(BH56,商品マスター!$B$7:$D$53,2,FALSE),\"\")","v":""},null,{"$f":"IFERROR(VLOOKUP(BH56,商品マスター!$B$7:$D$53,3,FALSE),\"\")","v":""},0,0,0.1,0,null,0]
["",null,null,null,null,null,null,null,{"$f":"IFERROR(VLOOKUP(H57,得意先マスター!$B$7:$H$103,2,FALSE),\"\")","v":""},{"$f":"IFERROR(VLOOKUP(H57,得意先マスター!$B$7:$H$103,3,FALSE),\"\")","v":""},{"$f":"IFERROR(VLOOKUP(H57,得意先マスター!$B$7:$H$103,4,FALSE),\"\")","v":""},{"$f":"IFERROR(VLOOKUP(H57,得意先マスター!$B$7:$H$103,5,FALSE),\"\")","v":""},{"$f":"IFERROR(VLOOKUP(H57,得意先マスター!$B$7:$H$103,6,FALSE),\"\")","v":""},null,null,{"$f":"IFERROR(VLOOKUP(O57,商品マスター!$B$7:$D$53,2,FALSE),\"\")","v":""},null,{"$f":"IFERROR(VLOOKUP(O57,商品マスター!$B$7:$D$53,3,FALSE),\"\")","v":""},0,null,{"$f":"IFERROR(VLOOKUP(T57,商品マスター!$B$7:$D$53,2,FALSE),\"\")","v":""},null,{"$f":"IFERROR(VLOOKUP(T57,商品マスター!$B$7:$D$53,3,FALSE),\"\")","v":""},0,null,{"$f":"IFERROR(VLOOKUP(Y57,商品マスター!$B$7:$D$53,2,FALSE),\"\")","v":""},null,{"$f":"IFERROR(VLOOKUP(Y57,商品マスター!$B$7:$D$53,3,FALSE),\"\")","v":""},0,null,{"$f":"IFERROR(VLOOKUP(AD57,商品マスター!$B$7:$D$53,2,FALSE),\"\")","v":""},null,{"$f":"IFERROR(VLOOKUP(AD57,商品マスター!$B$7:$D$53,3,FALSE),\"\")","v":""},0,null,{"$f":"IFERROR(VLOOKUP(AI57,商品マスター!$B$7:$D$53,2,FALSE),\"\")","v":""},null,{"$f":"IFERROR(VLOOKUP(AI57,商品マスター!$B$7:$D$53,3,FALSE),\"\")","v":""},0,null,{"$f":"IFERROR(VLOOKUP(AN57,商品マスター!$B$7:$D$53,2,FALSE),\"\")","v":""},null,{"$f":"IFERROR(VLOOKUP(AN57,商品マスター!$B$7:$D$53,3,FALSE),\"\")","v":""},0,null,{"$f":"IFERROR(VLOOKUP(AS57,商品マスター!$B$7:$D$53,2,FALSE),\"\")","v":""},null,{"$f":"IFERROR(VLOOKUP(AS57,商品マスター!$B$7:$D$53,3,FALSE),\"\")","v":""},0,null,{"$f":"IFERROR(VLOOKUP(AX57,商品マスター!$B$7:$D$53,2,FALSE),\"\")","v":""},null,{"$f":"IFERROR(VLOOKUP(AX57,商品マスター!$B$7:$D$53,3,FALSE),\"\")","v":""},0,null,{"$f":"IFERROR(VLOOKUP(BC57,商品マスター!$B$7:$D$53,2,FALSE),\"\")","v":""},null,{"$f":"IFERROR(VLOOKUP(BC57,商品マスター!$B$7:$D$53,3,FALSE),\"\")","v":""},0,null,{"$f":"IFERROR(VLOOKUP(BH57,商品マスター!$B$7:$D$53,2,FALSE),\"\")","v":""},null,{"$f":"IFERROR(VLOOKUP(BH57,商品マスター!$B$7:$D$53,3,FALSE),\"\")","v":""},0,0,0.1,0,null,0]
["",null,null,null,null,null,null,null,{"$f":"IFERROR(VLOOKUP(H58,得意先マスター!$B$7:$H$103,2,FALSE),\"\")","v":""},{"$f":"IFERROR(VLOOKUP(H58,得意先マスター!$B$7:$H$103,3,FALSE),\"\")","v":""},{"$f":"IFERROR(VLOOKUP(H58,得意先マスター!$B$7:$H$103,4,FALSE),\"\")","v":""},{"$f":"IFERROR(VLOOKUP(H58,得意先マスター!$B$7:$H$103,5,FALSE),\"\")","v":""},{"$f":"IFERROR(VLOOKUP(H58,得意先マスター!$B$7:$H$103,6,FALSE),\"\")","v":""},null,null,{"$f":"IFERROR(VLOOKUP(O58,商品マスター!$B$7:$D$53,2,FALSE),\"\")","v":""},null,{"$f":"IFERROR(VLOOKUP(O58,商品マスター!$B$7:$D$53,3,FALSE),\"\")","v":""},0,null,{"$f":"IFERROR(VLOOKUP(T58,商品マスター!$B$7:$D$53,2,FALSE),\"\")","v":""},null,{"$f":"IFERROR(VLOOKUP(T58,商品マスター!$B$7:$D$53,3,FALSE),\"\")","v":""},0,null,{"$f":"IFERROR(VLOOKUP(Y58,商品マスター!$B$7:$D$53,2,FALSE),\"\")","v":""},null,{"$f":"IFERROR(VLOOKUP(Y58,商品マスター!$B$7:$D$53,3,FALSE),\"\")","v":""},0,null,{"$f":"IFERROR(VLOOKUP(AD58,商品マスター!$B$7:$D$53,2,FALSE),\"\")","v":""},null,{"$f":"IFERROR(VLOOKUP(AD58,商品マスター!$B$7:$D$53,3,FALSE),\"\")","v":""},0,null,{"$f":"IFERROR(VLOOKUP(AI58,商品マスター!$B$7:$D$53,2,FALSE),\"\")","v":""},null,{"$f":"IFERROR(VLOOKUP(AI58,商品マスター!$B$7:$D$53,3,FALSE),\"\")","v":""},0,null,{"$f":"IFERROR(VLOOKUP(AN58,商品マスター!$B$7:$D$53,2,FALSE),\"\")","v":""},null,{"$f":"IFERROR(VLOOKUP(AN58,商品マスター!$B$7:$D$53,3,FALSE),\"\")","v":""},0,null,{"$f":"IFERROR(VLOOKUP(AS58,商品マスター!$B$7:$D$53,2,FALSE),\"\")","v":""},null,{"$f":"IFERROR(VLOOKUP(AS58,商品マスター!$B$7:$D$53,3,FALSE),\"\")","v":""},0,null,{"$f":"IFERROR(VLOOKUP(AX58,商品マスター!$B$7:$D$53,2,FALSE),\"\")","v":""},null,{"$f":"IFERROR(VLOOKUP(AX58,商品マスター!$B$7:$D$53,3,FALSE),\"\")","v":""},0,null,{"$f":"IFERROR(VLOOKUP(BC58,商品マスター!$B$7:$D$53,2,FALSE),\"\")","v":""},null,{"$f":"IFERROR(VLOOKUP(BC58,商品マスター!$B$7:$D$53,3,FALSE),\"\")","v":""},0,null,{"$f":"IFERROR(VLOOKUP(BH58,商品マスター!$B$7:$D$53,2,FALSE),\"\")","v":""},null,{"$f":"IFERROR(VLOOKUP(BH58,商品マスター!$B$7:$D$53,3,FALSE),\"\")","v":""},0,0,0.1,0,null,0]
["",null,null,null,null,null,null,null,{"$f":"IFERROR(VLOOKUP(H59,得意先マスター!$B$7:$H$103,2,FALSE),\"\")","v":""},{"$f":"IFERROR(VLOOKUP(H59,得意先マスター!$B$7:$H$103,3,FALSE),\"\")","v":""},{"$f":"IFERROR(VLOOKUP(H59,得意先マスター!$B$7:$H$103,4,FALSE),\"\")","v":""},{"$f":"IFERROR(VLOOKUP(H59,得意先マスター!$B$7:$H$103,5,FALSE),\"\")","v":""},{"$f":"IFERROR(VLOOKUP(H59,得意先マスター!$B$7:$H$103,6,FALSE),\"\")","v":""},null,null,{"$f":"IFERROR(VLOOKUP(O59,商品マスター!$B$7:$D$53,2,FALSE),\"\")","v":""},null,{"$f":"IFERROR(VLOOKUP(O59,商品マスター!$B$7:$D$53,3,FALSE),\"\")","v":""},0,null,{"$f":"IFERROR(VLOOKUP(T59,商品マスター!$B$7:$D$53,2,FALSE),\"\")","v":""},null,{"$f":"IFERROR(VLOOKUP(T59,商品マスター!$B$7:$D$53,3,FALSE),\"\")","v":""},0,null,{"$f":"IFERROR(VLOOKUP(Y59,商品マスター!$B$7:$D$53,2,FALSE),\"\")","v":""},null,{"$f":"IFERROR(VLOOKUP(Y59,商品マスター!$B$7:$D$53,3,FALSE),\"\")","v":""},0,null,{"$f":"IFERROR(VLOOKUP(AD59,商品マスター!$B$7:$D$53,2,FALSE),\"\")","v":""},null,{"$f":"IFERROR(VLOOKUP(AD59,商品マスター!$B$7:$D$53,3,FALSE),\"\")","v":""},0,null,{"$f":"IFERROR(VLOOKUP(AI59,商品マスター!$B$7:$D$53,2,FALSE),\"\")","v":""},null,{"$f":"IFERROR(VLOOKUP(AI59,商品マスター!$B$7:$D$53,3,FALSE),\"\")","v":""},0,null,{"$f":"IFERROR(VLOOKUP(AN59,商品マスター!$B$7:$D$53,2,FALSE),\"\")","v":""},null,{"$f":"IFERROR(VLOOKUP(AN59,商品マスター!$B$7:$D$53,3,FALSE),\"\")","v":""},0,null,{"$f":"IFERROR(VLOOKUP(AS59,商品マスター!$B$7:$D$53,2,FALSE),\"\")","v":""},null,{"$f":"IFERROR(VLOOKUP(AS59,商品マスター!$B$7:$D$53,3,FALSE),\"\")","v":""},0,null,{"$f":"IFERROR(VLOOKUP(AX59,商品マスター!$B$7:$D$53,2,FALSE),\"\")","v":""},null,{"$f":"IFERROR(VLOOKUP(AX59,商品マスター!$B$7:$D$53,3,FALSE),\"\")","v":""},0,null,{"$f":"IFERROR(VLOOKUP(BC59,商品マスター!$B$7:$D$53,2,FALSE),\"\")","v":""},null,{"$f":"IFERROR(VLOOKUP(BC59,商品マスター!$B$7:$D$53,3,FALSE),\"\")","v":""},0,null,{"$f":"IFERROR(VLOOKUP(BH59,商品マスター!$B$7:$D$53,2,FALSE),\"\")","v":""},null,{"$f":"IFERROR(VLOOKUP(BH59,商品マスター!$B$7:$D$53,3,FALSE),\"\")","v":""},0,0,0.1,0,null,0]
["",null,null,null,null,null,null,null,{"$f":"IFERROR(VLOOKUP(H60,得意先マスター!$B$7:$H$103,2,FALSE),\"\")","v":""},{"$f":"IFERROR(VLOOKUP(H60,得意先マスター!$B$7:$H$103,3,FALSE),\"\")","v":""},{"$f":"IFERROR(VLOOKUP(H60,得意先マスター!$B$7:$H$103,4,FALSE),\"\")","v":""},{"$f":"IFERROR(VLOOKUP(H60,得意先マスター!$B$7:$H$103,5,FALSE),\"\")","v":""},{"$f":"IFERROR(VLOOKUP(H60,得意先マスター!$B$7:$H$103,6,FALSE),\"\")","v":""},null,null,{"$f":"IFERROR(VLOOKUP(O60,商品マスター!$B$7:$D$53,2,FALSE),\"\")","v":""},null,{"$f":"IFERROR(VLOOKUP(O60,商品マスター!$B$7:$D$53,3,FALSE),\"\")","v":""},0,null,{"$f":"IFERROR(VLOOKUP(T60,商品マスター!$B$7:$D$53,2,FALSE),\"\")","v":""},null,{"$f":"IFERROR(VLOOKUP(T60,商品マスター!$B$7:$D$53,3,FALSE),\"\")","v":""},0,null,{"$f":"IFERROR(VLOOKUP(Y60,商品マスター!$B$7:$D$53,2,FALSE),\"\")","v":""},null,{"$f":"IFERROR(VLOOKUP(Y60,商品マスター!$B$7:$D$53,3,FALSE),\"\")","v":""},0,null,{"$f":"IFERROR(VLOOKUP(AD60,商品マスター!$B$7:$D$53,2,FALSE),\"\")","v":""},null,{"$f":"IFERROR(VLOOKUP(AD60,商品マスター!$B$7:$D$53,3,FALSE),\"\")","v":""},0,null,{"$f":"IFERROR(VLOOKUP(AI60,商品マスター!$B$7:$D$53,2,FALSE),\"\")","v":""},null,{"$f":"IFERROR(VLOOKUP(AI60,商品マスター!$B$7:$D$53,3,FALSE),\"\")","v":""},0,null,{"$f":"IFERROR(VLOOKUP(AN60,商品マスター!$B$7:$D$53,2,FALSE),\"\")","v":""},null,{"$f":"IFERROR(VLOOKUP(AN60,商品マスター!$B$7:$D$53,3,FALSE),\"\")","v":""},0,null,{"$f":"IFERROR(VLOOKUP(AS60,商品マスター!$B$7:$D$53,2,FALSE),\"\")","v":""},null,{"$f":"IFERROR(VLOOKUP(AS60,商品マスター!$B$7:$D$53,3,FALSE),\"\")","v":""},0,null,{"$f":"IFERROR(VLOOKUP(AX60,商品マスター!$B$7:$D$53,2,FALSE),\"\")","v":""},null,{"$f":"IFERROR(VLOOKUP(AX60,商品マスター!$B$7:$D$53,3,FALSE),\"\")","v":""},0,null,{"$f":"IFERROR(VLOOKUP(BC60,商品マスター!$B$7:$D$53,2,FALSE),\"\")","v":""},null,{"$f":"IFERROR(VLOOKUP(BC60,商品マスター!$B$7:$D$53,3,FALSE),\"\")","v":""},0,null,{"$f":"IFERROR(VLOOKUP(BH60,商品マスター!$B$7:$D$53,2,FALSE),\"\")","v":""},null,{"$f":"IFERROR(VLOOKUP(BH60,商品マスター!$B$7:$D$53,3,FALSE),\"\")","v":""},0,0,0.1,0,null,0]
["",null,null,null,null,null,null,null,{"$f":"IFERROR(VLOOKUP(H61,得意先マスター!$B$7:$H$103,2,FALSE),\"\")","v":""},{"$f":"IFERROR(VLOOKUP(H61,得意先マスター!$B$7:$H$103,3,FALSE),\"\")","v":""},{"$f":"IFERROR(VLOOKUP(H61,得意先マスター!$B$7:$H$103,4,FALSE),\"\")","v":""},{"$f":"IFERROR(VLOOKUP(H61,得意先マスター!$B$7:$H$103,5,FALSE),\"\")","v":""},{"$f":"IFERROR(VLOOKUP(H61,得意先マスター!$B$7:$H$103,6,FALSE),\"\")","v":""},null,null,{"$f":"IFERROR(VLOOKUP(O61,商品マスター!$B$7:$D$53,2,FALSE),\"\")","v":""},null,{"$f":"IFERROR(VLOOKUP(O61,商品マスター!$B$7:$D$53,3,FALSE),\"\")","v":""},0,null,{"$f":"IFERROR(VLOOKUP(T61,商品マスター!$B$7:$D$53,2,FALSE),\"\")","v":""},null,{"$f":"IFERROR(VLOOKUP(T61,商品マスター!$B$7:$D$53,3,FALSE),\"\")","v":""},0,null,{"$f":"IFERROR(VLOOKUP(Y61,商品マスター!$B$7:$D$53,2,FALSE),\"\")","v":""},null,{"$f":"IFERROR(VLOOKUP(Y61,商品マスター!$B$7:$D$53,3,FALSE),\"\")","v":""},0,null,{"$f":"IFERROR(VLOOKUP(AD61,商品マスター!$B$7:$D$53,2,FALSE),\"\")","v":""},null,{"$f":"IFERROR(VLOOKUP(AD61,商品マスター!$B$7:$D$53,3,FALSE),\"\")","v":""},0,null,{"$f":"IFERROR(VLOOKUP(AI61,商品マスター!$B$7:$D$53,2,FALSE),\"\")","v":""},null,{"$f":"IFERROR(VLOOKUP(AI61,商品マスター!$B$7:$D$53,3,FALSE),\"\")","v":""},0,null,{"$f":"IFERROR(VLOOKUP(AN61,商品マスター!$B$7:$D$53,2,FALSE),\"\")","v":""},null,{"$f":"IFERROR(VLOOKUP(AN61,商品マスター!$B$7:$D$53,3,FALSE),\"\")","v":""},0,null,{"$f":"IFERROR(VLOOKUP(AS61,商品マスター!$B$7:$D$53,2,FALSE),\"\")","v":""},null,{"$f":"IFERROR(VLOOKUP(AS61,商品マスター!$B$7:$D$53,3,FALSE),\"\")","v":""},0,null,{"$f":"IFERROR(VLOOKUP(AX61,商品マスター!$B$7:$D$53,2,FALSE),\"\")","v":""},null,{"$f":"IFERROR(VLOOKUP(AX61,商品マスター!$B$7:$D$53,3,FALSE),\"\")","v":""},0,null,{"$f":"IFERROR(VLOOKUP(BC61,商品マスター!$B$7:$D$53,2,FALSE),\"\")","v":""},null,{"$f":"IFERROR(VLOOKUP(BC61,商品マスター!$B$7:$D$53,3,FALSE),\"\")","v":""},0,null,{"$f":"IFERROR(VLOOKUP(BH61,商品マスター!$B$7:$D$53,2,FALSE),\"\")","v":""},null,{"$f":"IFERROR(VLOOKUP(BH61,商品マスター!$B$7:$D$53,3,FALSE),\"\")","v":""},0,0,0.1,0,null,0]
["",null,null,null,null,null,null,null,{"$f":"IFERROR(VLOOKUP(H62,得意先マスター!$B$7:$H$103,2,FALSE),\"\")","v":""},{"$f":"IFERROR(VLOOKUP(H62,得意先マスター!$B$7:$H$103,3,FALSE),\"\")","v":""},{"$f":"IFERROR(VLOOKUP(H62,得意先マスター!$B$7:$H$103,4,FALSE),\"\")","v":""},{"$f":"IFERROR(VLOOKUP(H62,得意先マスター!$B$7:$H$103,5,FALSE),\"\")","v":""},{"$f":"IFERROR(VLOOKUP(H62,得意先マスター!$B$7:$H$103,6,FALSE),\"\")","v":""},null,null,{"$f":"IFERROR(VLOOKUP(O62,商品マスター!$B$7:$D$53,2,FALSE),\"\")","v":""},null,{"$f":"IFERROR(VLOOKUP(O62,商品マスター!$B$7:$D$53,3,FALSE),\"\")","v":""},0,null,{"$f":"IFERROR(VLOOKUP(T62,商品マスター!$B$7:$D$53,2,FALSE),\"\")","v":""},null,{"$f":"IFERROR(VLOOKUP(T62,商品マスター!$B$7:$D$53,3,FALSE),\"\")","v":""},0,null,{"$f":"IFERROR(VLOOKUP(Y62,商品マスター!$B$7:$D$53,2,FALSE),\"\")","v":""},null,{"$f":"IFERROR(VLOOKUP(Y62,商品マスター!$B$7:$D$53,3,FALSE),\"\")","v":""},0,null,{"$f":"IFERROR(VLOOKUP(AD62,商品マスター!$B$7:$D$53,2,FALSE),\"\")","v":""},null,{"$f":"IFERROR(VLOOKUP(AD62,商品マスター!$B$7:$D$53,3,FALSE),\"\")","v":""},0,null,{"$f":"IFERROR(VLOOKUP(AI62,商品マスター!$B$7:$D$53,2,FALSE),\"\")","v":""},null,{"$f":"IFERROR(VLOOKUP(AI62,商品マスター!$B$7:$D$53,3,FALSE),\"\")","v":""},0,null,{"$f":"IFERROR(VLOOKUP(AN62,商品マスター!$B$7:$D$53,2,FALSE),\"\")","v":""},null,{"$f":"IFERROR(VLOOKUP(AN62,商品マスター!$B$7:$D$53,3,FALSE),\"\")","v":""},0,null,{"$f":"IFERROR(VLOOKUP(AS62,商品マスター!$B$7:$D$53,2,FALSE),\"\")","v":""},null,{"$f":"IFERROR(VLOOKUP(AS62,商品マスター!$B$7:$D$53,3,FALSE),\"\")","v":""},0,null,{"$f":"IFERROR(VLOOKUP(AX62,商品マスター!$B$7:$D$53,2,FALSE),\"\")","v":""},null,{"$f":"IFERROR(VLOOKUP(AX62,商品マスター!$B$7:$D$53,3,FALSE),\"\")","v":""},0,null,{"$f":"IFERROR(VLOOKUP(BC62,商品マスター!$B$7:$D$53,2,FALSE),\"\")","v":""},null,{"$f":"IFERROR(VLOOKUP(BC62,商品マスター!$B$7:$D$53,3,FALSE),\"\")","v":""},0,null,{"$f":"IFERROR(VLOOKUP(BH62,商品マスター!$B$7:$D$53,2,FALSE),\"\")","v":""},null,{"$f":"IFERROR(VLOOKUP(BH62,商品マスター!$B$7:$D$53,3,FALSE),\"\")","v":""},0,0,0.1,0,null,0]
["",null,null,null,null,null,null,null,{"$f":"IFERROR(VLOOKUP(H63,得意先マスター!$B$7:$H$103,2,FALSE),\"\")","v":""},{"$f":"IFERROR(VLOOKUP(H63,得意先マスター!$B$7:$H$103,3,FALSE),\"\")","v":""},{"$f":"IFERROR(VLOOKUP(H63,得意先マスター!$B$7:$H$103,4,FALSE),\"\")","v":""},{"$f":"IFERROR(VLOOKUP(H63,得意先マスター!$B$7:$H$103,5,FALSE),\"\")","v":""},{"$f":"IFERROR(VLOOKUP(H63,得意先マスター!$B$7:$H$103,6,FALSE),\"\")","v":""},null,null,{"$f":"IFERROR(VLOOKUP(O63,商品マスター!$B$7:$D$53,2,FALSE),\"\")","v":""},null,{"$f":"IFERROR(VLOOKUP(O63,商品マスター!$B$7:$D$53,3,FALSE),\"\")","v":""},0,null,{"$f":"IFERROR(VLOOKUP(T63,商品マスター!$B$7:$D$53,2,FALSE),\"\")","v":""},null,{"$f":"IFERROR(VLOOKUP(T63,商品マスター!$B$7:$D$53,3,FALSE),\"\")","v":""},0,null,{"$f":"IFERROR(VLOOKUP(Y63,商品マスター!$B$7:$D$53,2,FALSE),\"\")","v":""},null,{"$f":"IFERROR(VLOOKUP(Y63,商品マスター!$B$7:$D$53,3,FALSE),\"\")","v":""},0,null,{"$f":"IFERROR(VLOOKUP(AD63,商品マスター!$B$7:$D$53,2,FALSE),\"\")","v":""},null,{"$f":"IFERROR(VLOOKUP(AD63,商品マスター!$B$7:$D$53,3,FALSE),\"\")","v":""},0,null,{"$f":"IFERROR(VLOOKUP(AI63,商品マスター!$B$7:$D$53,2,FALSE),\"\")","v":""},null,{"$f":"IFERROR(VLOOKUP(AI63,商品マスター!$B$7:$D$53,3,FALSE),\"\")","v":""},0,null,{"$f":"IFERROR(VLOOKUP(AN63,商品マスター!$B$7:$D$53,2,FALSE),\"\")","v":""},null,{"$f":"IFERROR(VLOOKUP(AN63,商品マスター!$B$7:$D$53,3,FALSE),\"\")","v":""},0,null,{"$f":"IFERROR(VLOOKUP(AS63,商品マスター!$B$7:$D$53,2,FALSE),\"\")","v":""},null,{"$f":"IFERROR(VLOOKUP(AS63,商品マスター!$B$7:$D$53,3,FALSE),\"\")","v":""},0,null,{"$f":"IFERROR(VLOOKUP(AX63,商品マスター!$B$7:$D$53,2,FALSE),\"\")","v":""},null,{"$f":"IFERROR(VLOOKUP(AX63,商品マスター!$B$7:$D$53,3,FALSE),\"\")","v":""},0,null,{"$f":"IFERROR(VLOOKUP(BC63,商品マスター!$B$7:$D$53,2,FALSE),\"\")","v":""},null,{"$f":"IFERROR(VLOOKUP(BC63,商品マスター!$B$7:$D$53,3,FALSE),\"\")","v":""},0,null,{"$f":"IFERROR(VLOOKUP(BH63,商品マスター!$B$7:$D$53,2,FALSE),\"\")","v":""},null,{"$f":"IFERROR(VLOOKUP(BH63,商品マスター!$B$7:$D$53,3,FALSE),\"\")","v":""},0,0,0.1,0,null,0]
["",null,null,null,null,null,null,null,{"$f":"IFERROR(VLOOKUP(H64,得意先マスター!$B$7:$H$103,2,FALSE),\"\")","v":""},{"$f":"IFERROR(VLOOKUP(H64,得意先マスター!$B$7:$H$103,3,FALSE),\"\")","v":""},{"$f":"IFERROR(VLOOKUP(H64,得意先マスター!$B$7:$H$103,4,FALSE),\"\")","v":""},{"$f":"IFERROR(VLOOKUP(H64,得意先マスター!$B$7:$H$103,5,FALSE),\"\")","v":""},{"$f":"IFERROR(VLOOKUP(H64,得意先マスター!$B$7:$H$103,6,FALSE),\"\")","v":""},null,null,{"$f":"IFERROR(VLOOKUP(O64,商品マスター!$B$7:$D$53,2,FALSE),\"\")","v":""},null,{"$f":"IFERROR(VLOOKUP(O64,商品マスター!$B$7:$D$53,3,FALSE),\"\")","v":""},0,null,{"$f":"IFERROR(VLOOKUP(T64,商品マスター!$B$7:$D$53,2,FALSE),\"\")","v":""},null,{"$f":"IFERROR(VLOOKUP(T64,商品マスター!$B$7:$D$53,3,FALSE),\"\")","v":""},0,null,{"$f":"IFERROR(VLOOKUP(Y64,商品マスター!$B$7:$D$53,2,FALSE),\"\")","v":""},null,{"$f":"IFERROR(VLOOKUP(Y64,商品マスター!$B$7:$D$53,3,FALSE),\"\")","v":""},0,null,{"$f":"IFERROR(VLOOKUP(AD64,商品マスター!$B$7:$D$53,2,FALSE),\"\")","v":""},null,{"$f":"IFERROR(VLOOKUP(AD64,商品マスター!$B$7:$D$53,3,FALSE),\"\")","v":""},0,null,{"$f":"IFERROR(VLOOKUP(AI64,商品マスター!$B$7:$D$53,2,FALSE),\"\")","v":""},null,{"$f":"IFERROR(VLOOKUP(AI64,商品マスター!$B$7:$D$53,3,FALSE),\"\")","v":""},0,null,{"$f":"IFERROR(VLOOKUP(AN64,商品マスター!$B$7:$D$53,2,FALSE),\"\")","v":""},null,{"$f":"IFERROR(VLOOKUP(AN64,商品マスター!$B$7:$D$53,3,FALSE),\"\")","v":""},0,null,{"$f":"IFERROR(VLOOKUP(AS64,商品マスター!$B$7:$D$53,2,FALSE),\"\")","v":""},null,{"$f":"IFERROR(VLOOKUP(AS64,商品マスター!$B$7:$D$53,3,FALSE),\"\")","v":""},0,null,{"$f":"IFERROR(VLOOKUP(AX64,商品マスター!$B$7:$D$53,2,FALSE),\"\")","v":""},null,{"$f":"IFERROR(VLOOKUP(AX64,商品マスター!$B$7:$D$53,3,FALSE),\"\")","v":""},0,null,{"$f":"IFERROR(VLOOKUP(BC64,商品マスター!$B$7:$D$53,2,FALSE),\"\")","v":""},null,{"$f":"IFERROR(VLOOKUP(BC64,商品マスター!$B$7:$D$53,3,FALSE),\"\")","v":""},0,null,{"$f":"IFERROR(VLOOKUP(BH64,商品マスター!$B$7:$D$53,2,FALSE),\"\")","v":""},null,{"$f":"IFERROR(VLOOKUP(BH64,商品マスター!$B$7:$D$53,3,FALSE),\"\")","v":""},0,0,0.1,0,null,0]
["",null,null,null,null,null,null,null,{"$f":"IFERROR(VLOOKUP(H65,得意先マスター!$B$7:$H$103,2,FALSE),\"\")","v":""},{"$f":"IFERROR(VLOOKUP(H65,得意先マスター!$B$7:$H$103,3,FALSE),\"\")","v":""},{"$f":"IFERROR(VLOOKUP(H65,得意先マスター!$B$7:$H$103,4,FALSE),\"\")","v":""},{"$f":"IFERROR(VLOOKUP(H65,得意先マスター!$B$7:$H$103,5,FALSE),\"\")","v":""},{"$f":"IFERROR(VLOOKUP(H65,得意先マスター!$B$7:$H$103,6,FALSE),\"\")","v":""},null,null,{"$f":"IFERROR(VLOOKUP(O65,商品マスター!$B$7:$D$53,2,FALSE),\"\")","v":""},null,{"$f":"IFERROR(VLOOKUP(O65,商品マスター!$B$7:$D$53,3,FALSE),\"\")","v":""},0,null,{"$f":"IFERROR(VLOOKUP(T65,商品マスター!$B$7:$D$53,2,FALSE),\"\")","v":""},null,{"$f":"IFERROR(VLOOKUP(T65,商品マスター!$B$7:$D$53,3,FALSE),\"\")","v":""},0,null,{"$f":"IFERROR(VLOOKUP(Y65,商品マスター!$B$7:$D$53,2,FALSE),\"\")","v":""},null,{"$f":"IFERROR(VLOOKUP(Y65,商品マスター!$B$7:$D$53,3,FALSE),\"\")","v":""},0,null,{"$f":"IFERROR(VLOOKUP(AD65,商品マスター!$B$7:$D$53,2,FALSE),\"\")","v":""},null,{"$f":"IFERROR(VLOOKUP(AD65,商品マスター!$B$7:$D$53,3,FALSE),\"\")","v":""},0,null,{"$f":"IFERROR(VLOOKUP(AI65,商品マスター!$B$7:$D$53,2,FALSE),\"\")","v":""},null,{"$f":"IFERROR(VLOOKUP(AI65,商品マスター!$B$7:$D$53,3,FALSE),\"\")","v":""},0,null,{"$f":"IFERROR(VLOOKUP(AN65,商品マスター!$B$7:$D$53,2,FALSE),\"\")","v":""},null,{"$f":"IFERROR(VLOOKUP(AN65,商品マスター!$B$7:$D$53,3,FALSE),\"\")","v":""},0,null,{"$f":"IFERROR(VLOOKUP(AS65,商品マスター!$B$7:$D$53,2,FALSE),\"\")","v":""},null,{"$f":"IFERROR(VLOOKUP(AS65,商品マスター!$B$7:$D$53,3,FALSE),\"\")","v":""},0,null,{"$f":"IFERROR(VLOOKUP(AX65,商品マスター!$B$7:$D$53,2,FALSE),\"\")","v":""},null,{"$f":"IFERROR(VLOOKUP(AX65,商品マスター!$B$7:$D$53,3,FALSE),\"\")","v":""},0,null,{"$f":"IFERROR(VLOOKUP(BC65,商品マスター!$B$7:$D$53,2,FALSE),\"\")","v":""},null,{"$f":"IFERROR(VLOOKUP(BC65,商品マスター!$B$7:$D$53,3,FALSE),\"\")","v":""},0,null,{"$f":"IFERROR(VLOOKUP(BH65,商品マスター!$B$7:$D$53,2,FALSE),\"\")","v":""},null,{"$f":"IFERROR(VLOOKUP(BH65,商品マスター!$B$7:$D$53,3,FALSE),\"\")","v":""},0,0,0.1,0,null,0]
["",null,null,null,null,null,null,null,{"$f":"IFERROR(VLOOKUP(H66,得意先マスター!$B$7:$H$103,2,FALSE),\"\")","v":""},{"$f":"IFERROR(VLOOKUP(H66,得意先マスター!$B$7:$H$103,3,FALSE),\"\")","v":""},{"$f":"IFERROR(VLOOKUP(H66,得意先マスター!$B$7:$H$103,4,FALSE),\"\")","v":""},{"$f":"IFERROR(VLOOKUP(H66,得意先マスター!$B$7:$H$103,5,FALSE),\"\")","v":""},{"$f":"IFERROR(VLOOKUP(H66,得意先マスター!$B$7:$H$103,6,FALSE),\"\")","v":""},null,null,{"$f":"IFERROR(VLOOKUP(O66,商品マスター!$B$7:$D$53,2,FALSE),\"\")","v":""},null,{"$f":"IFERROR(VLOOKUP(O66,商品マスター!$B$7:$D$53,3,FALSE),\"\")","v":""},0,null,{"$f":"IFERROR(VLOOKUP(T66,商品マスター!$B$7:$D$53,2,FALSE),\"\")","v":""},null,{"$f":"IFERROR(VLOOKUP(T66,商品マスター!$B$7:$D$53,3,FALSE),\"\")","v":""},0,null,{"$f":"IFERROR(VLOOKUP(Y66,商品マスター!$B$7:$D$53,2,FALSE),\"\")","v":""},null,{"$f":"IFERROR(VLOOKUP(Y66,商品マスター!$B$7:$D$53,3,FALSE),\"\")","v":""},0,null,{"$f":"IFERROR(VLOOKUP(AD66,商品マスター!$B$7:$D$53,2,FALSE),\"\")","v":""},null,{"$f":"IFERROR(VLOOKUP(AD66,商品マスター!$B$7:$D$53,3,FALSE),\"\")","v":""},0,null,{"$f":"IFERROR(VLOOKUP(AI66,商品マスター!$B$7:$D$53,2,FALSE),\"\")","v":""},null,{"$f":"IFERROR(VLOOKUP(AI66,商品マスター!$B$7:$D$53,3,FALSE),\"\")","v":""},0,null,{"$f":"IFERROR(VLOOKUP(AN66,商品マスター!$B$7:$D$53,2,FALSE),\"\")","v":""},null,{"$f":"IFERROR(VLOOKUP(AN66,商品マスター!$B$7:$D$53,3,FALSE),\"\")","v":""},0,null,{"$f":"IFERROR(VLOOKUP(AS66,商品マスター!$B$7:$D$53,2,FALSE),\"\")","v":""},null,{"$f":"IFERROR(VLOOKUP(AS66,商品マスター!$B$7:$D$53,3,FALSE),\"\")","v":""},0,null,{"$f":"IFERROR(VLOOKUP(AX66,商品マスター!$B$7:$D$53,2,FALSE),\"\")","v":""},null,{"$f":"IFERROR(VLOOKUP(AX66,商品マスター!$B$7:$D$53,3,FALSE),\"\")","v":""},0,null,{"$f":"IFERROR(VLOOKUP(BC66,商品マスター!$B$7:$D$53,2,FALSE),\"\")","v":""},null,{"$f":"IFERROR(VLOOKUP(BC66,商品マスター!$B$7:$D$53,3,FALSE),\"\")","v":""},0,null,{"$f":"IFERROR(VLOOKUP(BH66,商品マスター!$B$7:$D$53,2,FALSE),\"\")","v":""},null,{"$f":"IFERROR(VLOOKUP(BH66,商品マスター!$B$7:$D$53,3,FALSE),\"\")","v":""},0,0,0.1,0,null,0]
["",null,null,null,null,null,null,null,{"$f":"IFERROR(VLOOKUP(H67,得意先マスター!$B$7:$H$103,2,FALSE),\"\")","v":""},{"$f":"IFERROR(VLOOKUP(H67,得意先マスター!$B$7:$H$103,3,FALSE),\"\")","v":""},{"$f":"IFERROR(VLOOKUP(H67,得意先マスター!$B$7:$H$103,4,FALSE),\"\")","v":""},{"$f":"IFERROR(VLOOKUP(H67,得意先マスター!$B$7:$H$103,5,FALSE),\"\")","v":""},{"$f":"IFERROR(VLOOKUP(H67,得意先マスター!$B$7:$H$103,6,FALSE),\"\")","v":""},null,null,{"$f":"IFERROR(VLOOKUP(O67,商品マスター!$B$7:$D$53,2,FALSE),\"\")","v":""},null,{"$f":"IFERROR(VLOOKUP(O67,商品マスター!$B$7:$D$53,3,FALSE),\"\")","v":""},0,null,{"$f":"IFERROR(VLOOKUP(T67,商品マスター!$B$7:$D$53,2,FALSE),\"\")","v":""},null,{"$f":"IFERROR(VLOOKUP(T67,商品マスター!$B$7:$D$53,3,FALSE),\"\")","v":""},0,null,{"$f":"IFERROR(VLOOKUP(Y67,商品マスター!$B$7:$D$53,2,FALSE),\"\")","v":""},null,{"$f":"IFERROR(VLOOKUP(Y67,商品マスター!$B$7:$D$53,3,FALSE),\"\")","v":""},0,null,{"$f":"IFERROR(VLOOKUP(AD67,商品マスター!$B$7:$D$53,2,FALSE),\"\")","v":""},null,{"$f":"IFERROR(VLOOKUP(AD67,商品マスター!$B$7:$D$53,3,FALSE),\"\")","v":""},0,null,{"$f":"IFERROR(VLOOKUP(AI67,商品マスター!$B$7:$D$53,2,FALSE),\"\")","v":""},null,{"$f":"IFERROR(VLOOKUP(AI67,商品マスター!$B$7:$D$53,3,FALSE),\"\")","v":""},0,null,{"$f":"IFERROR(VLOOKUP(AN67,商品マスター!$B$7:$D$53,2,FALSE),\"\")","v":""},null,{"$f":"IFERROR(VLOOKUP(AN67,商品マスター!$B$7:$D$53,3,FALSE),\"\")","v":""},0,null,{"$f":"IFERROR(VLOOKUP(AS67,商品マスター!$B$7:$D$53,2,FALSE),\"\")","v":""},null,{"$f":"IFERROR(VLOOKUP(AS67,商品マスター!$B$7:$D$53,3,FALSE),\"\")","v":""},0,null,{"$f":"IFERROR(VLOOKUP(AX67,商品マスター!$B$7:$D$53,2,FALSE),\"\")","v":""},null,{"$f":"IFERROR(VLOOKUP(AX67,商品マスター!$B$7:$D$53,3,FALSE),\"\")","v":""},0,null,{"$f":"IFERROR(VLOOKUP(BC67,商品マスター!$B$7:$D$53,2,FALSE),\"\")","v":""},null,{"$f":"IFERROR(VLOOKUP(BC67,商品マスター!$B$7:$D$53,3,FALSE),\"\")","v":""},0,null,{"$f":"IFERROR(VLOOKUP(BH67,商品マスター!$B$7:$D$53,2,FALSE),\"\")","v":""},null,{"$f":"IFERROR(VLOOKUP(BH67,商品マスター!$B$7:$D$53,3,FALSE),\"\")","v":""},0,0,0.1,0,null,0]
["",null,null,null,null,null,null,null,{"$f":"IFERROR(VLOOKUP(H68,得意先マスター!$B$7:$H$103,2,FALSE),\"\")","v":""},{"$f":"IFERROR(VLOOKUP(H68,得意先マスター!$B$7:$H$103,3,FALSE),\"\")","v":""},{"$f":"IFERROR(VLOOKUP(H68,得意先マスター!$B$7:$H$103,4,FALSE),\"\")","v":""},{"$f":"IFERROR(VLOOKUP(H68,得意先マスター!$B$7:$H$103,5,FALSE),\"\")","v":""},{"$f":"IFERROR(VLOOKUP(H68,得意先マスター!$B$7:$H$103,6,FALSE),\"\")","v":""},null,null,{"$f":"IFERROR(VLOOKUP(O68,商品マスター!$B$7:$D$53,2,FALSE),\"\")","v":""},null,{"$f":"IFERROR(VLOOKUP(O68,商品マスター!$B$7:$D$53,3,FALSE),\"\")","v":""},0,null,{"$f":"IFERROR(VLOOKUP(T68,商品マスター!$B$7:$D$53,2,FALSE),\"\")","v":""},null,{"$f":"IFERROR(VLOOKUP(T68,商品マスター!$B$7:$D$53,3,FALSE),\"\")","v":""},0,null,{"$f":"IFERROR(VLOOKUP(Y68,商品マスター!$B$7:$D$53,2,FALSE),\"\")","v":""},null,{"$f":"IFERROR(VLOOKUP(Y68,商品マスター!$B$7:$D$53,3,FALSE),\"\")","v":""},0,null,{"$f":"IFERROR(VLOOKUP(AD68,商品マスター!$B$7:$D$53,2,FALSE),\"\")","v":""},null,{"$f":"IFERROR(VLOOKUP(AD68,商品マスター!$B$7:$D$53,3,FALSE),\"\")","v":""},0,null,{"$f":"IFERROR(VLOOKUP(AI68,商品マスター!$B$7:$D$53,2,FALSE),\"\")","v":""},null,{"$f":"IFERROR(VLOOKUP(AI68,商品マスター!$B$7:$D$53,3,FALSE),\"\")","v":""},0,null,{"$f":"IFERROR(VLOOKUP(AN68,商品マスター!$B$7:$D$53,2,FALSE),\"\")","v":""},null,{"$f":"IFERROR(VLOOKUP(AN68,商品マスター!$B$7:$D$53,3,FALSE),\"\")","v":""},0,null,{"$f":"IFERROR(VLOOKUP(AS68,商品マスター!$B$7:$D$53,2,FALSE),\"\")","v":""},null,{"$f":"IFERROR(VLOOKUP(AS68,商品マスター!$B$7:$D$53,3,FALSE),\"\")","v":""},0,null,{"$f":"IFERROR(VLOOKUP(AX68,商品マスター!$B$7:$D$53,2,FALSE),\"\")","v":""},null,{"$f":"IFERROR(VLOOKUP(AX68,商品マスター!$B$7:$D$53,3,FALSE),\"\")","v":""},0,null,{"$f":"IFERROR(VLOOKUP(BC68,商品マスター!$B$7:$D$53,2,FALSE),\"\")","v":""},null,{"$f":"IFERROR(VLOOKUP(BC68,商品マスター!$B$7:$D$53,3,FALSE),\"\")","v":""},0,null,{"$f":"IFERROR(VLOOKUP(BH68,商品マスター!$B$7:$D$53,2,FALSE),\"\")","v":""},null,{"$f":"IFERROR(VLOOKUP(BH68,商品マスター!$B$7:$D$53,3,FALSE),\"\")","v":""},0,0,0.1,0,null,0]
["",null,null,null,null,null,null,null,{"$f":"IFERROR(VLOOKUP(H69,得意先マスター!$B$7:$H$103,2,FALSE),\"\")","v":""},{"$f":"IFERROR(VLOOKUP(H69,得意先マスター!$B$7:$H$103,3,FALSE),\"\")","v":""},{"$f":"IFERROR(VLOOKUP(H69,得意先マスター!$B$7:$H$103,4,FALSE),\"\")","v":""},{"$f":"IFERROR(VLOOKUP(H69,得意先マスター!$B$7:$H$103,5,FALSE),\"\")","v":""},{"$f":"IFERROR(VLOOKUP(H69,得意先マスター!$B$7:$H$103,6,FALSE),\"\")","v":""},null,null,{"$f":"IFERROR(VLOOKUP(O69,商品マスター!$B$7:$D$53,2,FALSE),\"\")","v":""},null,{"$f":"IFERROR(VLOOKUP(O69,商品マスター!$B$7:$D$53,3,FALSE),\"\")","v":""},0,null,{"$f":"IFERROR(VLOOKUP(T69,商品マスター!$B$7:$D$53,2,FALSE),\"\")","v":""},null,{"$f":"IFERROR(VLOOKUP(T69,商品マスター!$B$7:$D$53,3,FALSE),\"\")","v":""},0,null,{"$f":"IFERROR(VLOOKUP(Y69,商品マスター!$B$7:$D$53,2,FALSE),\"\")","v":""},null,{"$f":"IFERROR(VLOOKUP(Y69,商品マスター!$B$7:$D$53,3,FALSE),\"\")","v":""},0,null,{"$f":"IFERROR(VLOOKUP(AD69,商品マスター!$B$7:$D$53,2,FALSE),\"\")","v":""},null,{"$f":"IFERROR(VLOOKUP(AD69,商品マスター!$B$7:$D$53,3,FALSE),\"\")","v":""},0,null,{"$f":"IFERROR(VLOOKUP(AI69,商品マスター!$B$7:$D$53,2,FALSE),\"\")","v":""},null,{"$f":"IFERROR(VLOOKUP(AI69,商品マスター!$B$7:$D$53,3,FALSE),\"\")","v":""},0,null,{"$f":"IFERROR(VLOOKUP(AN69,商品マスター!$B$7:$D$53,2,FALSE),\"\")","v":""},null,{"$f":"IFERROR(VLOOKUP(AN69,商品マスター!$B$7:$D$53,3,FALSE),\"\")","v":""},0,null,{"$f":"IFERROR(VLOOKUP(AS69,商品マスター!$B$7:$D$53,2,FALSE),\"\")","v":""},null,{"$f":"IFERROR(VLOOKUP(AS69,商品マスター!$B$7:$D$53,3,FALSE),\"\")","v":""},0,null,{"$f":"IFERROR(VLOOKUP(AX69,商品マスター!$B$7:$D$53,2,FALSE),\"\")","v":""},null,{"$f":"IFERROR(VLOOKUP(AX69,商品マスター!$B$7:$D$53,3,FALSE),\"\")","v":""},0,null,{"$f":"IFERROR(VLOOKUP(BC69,商品マスター!$B$7:$D$53,2,FALSE),\"\")","v":""},null,{"$f":"IFERROR(VLOOKUP(BC69,商品マスター!$B$7:$D$53,3,FALSE),\"\")","v":""},0,null,{"$f":"IFERROR(VLOOKUP(BH69,商品マスター!$B$7:$D$53,2,FALSE),\"\")","v":""},null,{"$f":"IFERROR(VLOOKUP(BH69,商品マスター!$B$7:$D$53,3,FALSE),\"\")","v":""},0,0,0.1,0,null,0]
[{"$f":"IF(ISBLANK(C70),\"\",MONTH(C70))","v":""},null,null,null,null,null,null,null,{"$f":"IFERROR(VLOOKUP(H70,得意先マスター!$B$7:$H$103,2,FALSE),\"\")","v":""},{"$f":"IFERROR(VLOOKUP(H70,得意先マスター!$B$7:$H$103,3,FALSE),\"\")","v":""},{"$f":"IFERROR(VLOOKUP(H70,得意先マスター!$B$7:$H$103,4,FALSE),\"\")","v":""},{"$f":"IFERROR(VLOOKUP(H70,得意先マスター!$B$7:$H$103,5,FALSE),\"\")","v":""},{"$f":"IFERROR(VLOOKUP(H70,得意先マスター!$B$7:$H$103,6,FALSE),\"\")","v":""},null,null,{"$f":"IFERROR(VLOOKUP(O70,商品マスター!$B$7:$D$53,2,FALSE),\"\")","v":""},null,{"$f":"IFERROR(VLOOKUP(O70,商品マスター!$B$7:$D$53,3,FALSE),\"\")","v":""},0,null,{"$f":"IFERROR(VLOOKUP(T70,商品マスター!$B$7:$D$53,2,FALSE),\"\")","v":""},null,{"$f":"IFERROR(VLOOKUP(T70,商品マスター!$B$7:$D$53,3,FALSE),\"\")","v":""},0,null,{"$f":"IFERROR(VLOOKUP(Y70,商品マスター!$B$7:$D$53,2,FALSE),\"\")","v":""},null,{"$f":"IFERROR(VLOOKUP(Y70,商品マスター!$B$7:$D$53,3,FALSE),\"\")","v":""},0,null,{"$f":"IFERROR(VLOOKUP(AD70,商品マスター!$B$7:$D$53,2,FALSE),\"\")","v":""},null,{"$f":"IFERROR(VLOOKUP(AD70,商品マスター!$B$7:$D$53,3,FALSE),\"\")","v":""},0,null,{"$f":"IFERROR(VLOOKUP(AI70,商品マスター!$B$7:$D$53,2,FALSE),\"\")","v":""},null,{"$f":"IFERROR(VLOOKUP(AI70,商品マスター!$B$7:$D$53,3,FALSE),\"\")","v":""},0,null,{"$f":"IFERROR(VLOOKUP(AN70,商品マスター!$B$7:$D$53,2,FALSE),\"\")","v":""},null,{"$f":"IFERROR(VLOOKUP(AN70,商品マスター!$B$7:$D$53,3,FALSE),\"\")","v":""},0,null,{"$f":"IFERROR(VLOOKUP(AS70,商品マスター!$B$7:$D$53,2,FALSE),\"\")","v":""},null,{"$f":"IFERROR(VLOOKUP(AS70,商品マスター!$B$7:$D$53,3,FALSE),\"\")","v":""},0,null,{"$f":"IFERROR(VLOOKUP(AX70,商品マスター!$B$7:$D$53,2,FALSE),\"\")","v":""},null,{"$f":"IFERROR(VLOOKUP(AX70,商品マスター!$B$7:$D$53,3,FALSE),\"\")","v":""},0,null,{"$f":"IFERROR(VLOOKUP(BC70,商品マスター!$B$7:$D$53,2,FALSE),\"\")","v":""},null,{"$f":"IFERROR(VLOOKUP(BC70,商品マスター!$B$7:$D$53,3,FALSE),\"\")","v":""},0,null,{"$f":"IFERROR(VLOOKUP(BH70,商品マスター!$B$7:$D$53,2,FALSE),\"\")","v":""},null,{"$f":"IFERROR(VLOOKUP(BH70,商品マスター!$B$7:$D$53,3,FALSE),\"\")","v":""},0,0,0.1,0,null,{"$f":"BM70+BO70-BP70","v":0}]
["",null,null,null,null,null,null,null,{"$f":"IFERROR(VLOOKUP(H71,得意先マスター!$B$7:$H$103,2,FALSE),\"\")","v":""},{"$f":"IFERROR(VLOOKUP(H71,得意先マスター!$B$7:$H$103,3,FALSE),\"\")","v":""},{"$f":"IFERROR(VLOOKUP(H71,得意先マスター!$B$7:$H$103,4,FALSE),\"\")","v":""},{"$f":"IFERROR(VLOOKUP(H71,得意先マスター!$B$7:$H$103,5,FALSE),\"\")","v":""},{"$f":"IFERROR(VLOOKUP(H71,得意先マスター!$B$7:$H$103,6,FALSE),\"\")","v":""},null,null,{"$f":"IFERROR(VLOOKUP(O71,商品マスター!$B$7:$D$53,2,FALSE),\"\")","v":""},null,{"$f":"IFERROR(VLOOKUP(O71,商品マスター!$B$7:$D$53,3,FALSE),\"\")","v":""},{"$f":"IFERROR(Q71*R71,0)","v":0},null,{"$f":"IFERROR(VLOOKUP(T71,商品マスター!$B$7:$D$53,2,FALSE),\"\")","v":""},null,{"$f":"IFERROR(VLOOKUP(T71,商品マスター!$B$7:$D$53,3,FALSE),\"\")","v":""},{"$f":"IFERROR(V71*W71,0)","v":0},null,{"$f":"IFERROR(VLOOKUP(Y71,商品マスター!$B$7:$D$53,2,FALSE),\"\")","v":""},null,{"$f":"IFERROR(VLOOKUP(Y71,商品マスター!$B$7:$D$53,3,FALSE),\"\")","v":""},{"$f":"IFERROR(AA71*AB71,0)","v":0},null,{"$f":"IFERROR(VLOOKUP(AD71,商品マスター!$B$7:$D$53,2,FALSE),\"\")","v":""},null,{"$f":"IFERROR(VLOOKUP(AD71,商品マスター!$B$7:$D$53,3,FALSE),\"\")","v":""},{"$f":"IFERROR(AF71*AG71,0)","v":0},null,{"$f":"IFERROR(VLOOKUP(AI71,商品マスター!$B$7:$D$53,2,FALSE),\"\")","v":""},null,{"$f":"IFERROR(VLOOKUP(AI71,商品マスター!$B$7:$D$53,3,FALSE),\"\")","v":""},{"$f":"IFERROR(AK71*AL71,0)","v":0},null,{"$f":"IFERROR(VLOOKUP(AN71,商品マスター!$B$7:$D$53,2,FALSE),\"\")","v":""},null,{"$f":"IFERROR(VLOOKUP(AN71,商品マスター!$B$7:$D$53,3,FALSE),\"\")","v":""},{"$f":"IFERROR(AP71*AQ71,0)","v":0},null,{"$f":"IFERROR(VLOOKUP(AS71,商品マスター!$B$7:$D$53,2,FALSE),\"\")","v":""},null,{"$f":"IFERROR(VLOOKUP(AS71,商品マスター!$B$7:$D$53,3,FALSE),\"\")","v":""},{"$f":"IFERROR(AU71*AV71,0)","v":0},null,{"$f":"IFERROR(VLOOKUP(AX71,商品マスター!$B$7:$D$53,2,FALSE),\"\")","v":""},null,{"$f":"IFERROR(VLOOKUP(AX71,商品マスター!$B$7:$D$53,3,FALSE),\"\")","v":""},{"$f":"IFERROR(AZ71*BA71,0)","v":0},null,{"$f":"IFERROR(VLOOKUP(BC71,商品マスター!$B$7:$D$53,2,FALSE),\"\")","v":""},null,{"$f":"IFERROR(VLOOKUP(BC71,商品マスター!$B$7:$D$53,3,FALSE),\"\")","v":""},{"$f":"IFERROR(BE71*BF71,0)","v":0},null,{"$f":"IFERROR(VLOOKUP(BH71,商品マスター!$B$7:$D$53,2,FALSE),\"\")","v":""},null,{"$f":"IFERROR(VLOOKUP(BH71,商品マスター!$B$7:$D$53,3,FALSE),\"\")","v":""},{"$f":"IFERROR(BJ71*BK71,0)","v":0},{"$f":"IFERROR(S71+X71+AC71+AH71+AM71+AR71+AW71+BB71+BG71+BL71, \"\")","v":0},0.1,{"$f":"IFERROR(BM71*BN71, \"\")","v":0},null,0]
["",null,null,null,null,null,null,null,{"$f":"IFERROR(VLOOKUP(H72,得意先マスター!$B$7:$H$103,2,FALSE),\"\")","v":""},{"$f":"IFERROR(VLOOKUP(H72,得意先マスター!$B$7:$H$103,3,FALSE),\"\")","v":""},{"$f":"IFERROR(VLOOKUP(H72,得意先マスター!$B$7:$H$103,4,FALSE),\"\")","v":""},{"$f":"IFERROR(VLOOKUP(H72,得意先マスター!$B$7:$H$103,5,FALSE),\"\")","v":""},{"$f":"IFERROR(VLOOKUP(H72,得意先マスター!$B$7:$H$103,6,FALSE),\"\")","v":""},null,null,{"$f":"IFERROR(VLOOKUP(O72,商品マスター!$B$7:$D$53,2,FALSE),\"\")","v":""},null,{"$f":"IFERROR(VLOOKUP(O72,商品マスター!$B$7:$D$53,3,FALSE),\"\")","v":""},0,null,{"$f":"IFERROR(VLOOKUP(T72,商品マスター!$B$7:$D$53,2,FALSE),\"\")","v":""},null,{"$f":"IFERROR(VLOOKUP(T72,商品マスター!$B$7:$D$53,3,FALSE),\"\")","v":""},0,null,{"$f":"IFERROR(VLOOKUP(Y72,商品マスター!$B$7:$D$53,2,FALSE),\"\")","v":""},null,{"$f":"IFERROR(VLOOKUP(Y72,商品マスター!$B$7:$D$53,3,FALSE),\"\")","v":""},0,null,{"$f":"IFERROR(VLOOKUP(AD72,商品マスター!$B$7:$D$53,2,FALSE),\"\")","v":""},null,{"$f":"IFERROR(VLOOKUP(AD72,商品マスター!$B$7:$D$53,3,FALSE),\"\")","v":""},0,null,{"$f":"IFERROR(VLOOKUP(AI72,商品マスター!$B$7:$D$53,2,FALSE),\"\")","v":""},null,{"$f":"IFERROR(VLOOKUP(AI72,商品マスター!$B$7:$D$53,3,FALSE),\"\")","v":""},0,null,{"$f":"IFERROR(VLOOKUP(AN72,商品マスター!$B$7:$D$53,2,FALSE),\"\")","v":""},null,{"$f":"IFERROR(VLOOKUP(AN72,商品マスター!$B$7:$D$53,3,FALSE),\"\")","v":""},0,null,{"$f":"IFERROR(VLOOKUP(AS72,商品マスター!$B$7:$D$53,2,FALSE),\"\")","v":""},null,{"$f":"IFERROR(VLOOKUP(AS72,商品マスター!$B$7:$D$53,3,FALSE),\"\")","v":""},0,null,{"$f":"IFERROR(VLOOKUP(AX72,商品マスター!$B$7:$D$53,2,FALSE),\"\")","v":""},null,{"$f":"IFERROR(VLOOKUP(AX72,商品マスター!$B$7:$D$53,3,FALSE),\"\")","v":""},0,null,{"$f":"IFERROR(VLOOKUP(BC72,商品マスター!$B$7:$D$53,2,FALSE),\"\")","v":""},null,{"$f":"IFERROR(VLOOKUP(BC72,商品マスター!$B$7:$D$53,3,FALSE),\"\")","v":""},0,null,{"$f":"IFERROR(VLOOKUP(BH72,商品マスター!$B$7:$D$53,2,FALSE),\"\")","v":""},null,{"$f":"IFERROR(VLOOKUP(BH72,商品マスター!$B$7:$D$53,3,FALSE),\"\")","v":""},0,0,0.1,0,null,0]
["",null,null,null,null,null,null,null,{"$f":"IFERROR(VLOOKUP(H73,得意先マスター!$B$7:$H$103,2,FALSE),\"\")","v":""},{"$f":"IFERROR(VLOOKUP(H73,得意先マスター!$B$7:$H$103,3,FALSE),\"\")","v":""},{"$f":"IFERROR(VLOOKUP(H73,得意先マスター!$B$7:$H$103,4,FALSE),\"\")","v":""},{"$f":"IFERROR(VLOOKUP(H73,得意先マスター!$B$7:$H$103,5,FALSE),\"\")","v":""},{"$f":"IFERROR(VLOOKUP(H73,得意先マスター!$B$7:$H$103,6,FALSE),\"\")","v":""},null,null,{"$f":"IFERROR(VLOOKUP(O73,商品マスター!$B$7:$D$53,2,FALSE),\"\")","v":""},null,{"$f":"IFERROR(VLOOKUP(O73,商品マスター!$B$7:$D$53,3,FALSE),\"\")","v":""},0,null,{"$f":"IFERROR(VLOOKUP(T73,商品マスター!$B$7:$D$53,2,FALSE),\"\")","v":""},null,{"$f":"IFERROR(VLOOKUP(T73,商品マスター!$B$7:$D$53,3,FALSE),\"\")","v":""},0,null,{"$f":"IFERROR(VLOOKUP(Y73,商品マスター!$B$7:$D$53,2,FALSE),\"\")","v":""},null,{"$f":"IFERROR(VLOOKUP(Y73,商品マスター!$B$7:$D$53,3,FALSE),\"\")","v":""},0,null,{"$f":"IFERROR(VLOOKUP(AD73,商品マスター!$B$7:$D$53,2,FALSE),\"\")","v":""},null,{"$f":"IFERROR(VLOOKUP(AD73,商品マスター!$B$7:$D$53,3,FALSE),\"\")","v":""},0,null,{"$f":"IFERROR(VLOOKUP(AI73,商品マスター!$B$7:$D$53,2,FALSE),\"\")","v":""},null,{"$f":"IFERROR(VLOOKUP(AI73,商品マスター!$B$7:$D$53,3,FALSE),\"\")","v":""},0,null,{"$f":"IFERROR(VLOOKUP(AN73,商品マスター!$B$7:$D$53,2,FALSE),\"\")","v":""},null,{"$f":"IFERROR(VLOOKUP(AN73,商品マスター!$B$7:$D$53,3,FALSE),\"\")","v":""},0,null,{"$f":"IFERROR(VLOOKUP(AS73,商品マスター!$B$7:$D$53,2,FALSE),\"\")","v":""},null,{"$f":"IFERROR(VLOOKUP(AS73,商品マスター!$B$7:$D$53,3,FALSE),\"\")","v":""},0,null,{"$f":"IFERROR(VLOOKUP(AX73,商品マスター!$B$7:$D$53,2,FALSE),\"\")","v":""},null,{"$f":"IFERROR(VLOOKUP(AX73,商品マスター!$B$7:$D$53,3,FALSE),\"\")","v":""},0,null,{"$f":"IFERROR(VLOOKUP(BC73,商品マスター!$B$7:$D$53,2,FALSE),\"\")","v":""},null,{"$f":"IFERROR(VLOOKUP(BC73,商品マスター!$B$7:$D$53,3,FALSE),\"\")","v":""},0,null,{"$f":"IFERROR(VLOOKUP(BH73,商品マスター!$B$7:$D$53,2,FALSE),\"\")","v":""},null,{"$f":"IFERROR(VLOOKUP(BH73,商品マスター!$B$7:$D$53,3,FALSE),\"\")","v":""},0,0,0.1,0,null,0]
["",null,null,null,null,null,null,null,{"$f":"IFERROR(VLOOKUP(H74,得意先マスター!$B$7:$H$103,2,FALSE),\"\")","v":""},{"$f":"IFERROR(VLOOKUP(H74,得意先マスター!$B$7:$H$103,3,FALSE),\"\")","v":""},{"$f":"IFERROR(VLOOKUP(H74,得意先マスター!$B$7:$H$103,4,FALSE),\"\")","v":""},{"$f":"IFERROR(VLOOKUP(H74,得意先マスター!$B$7:$H$103,5,FALSE),\"\")","v":""},{"$f":"IFERROR(VLOOKUP(H74,得意先マスター!$B$7:$H$103,6,FALSE),\"\")","v":""},null,null,{"$f":"IFERROR(VLOOKUP(O74,商品マスター!$B$7:$D$53,2,FALSE),\"\")","v":""},null,{"$f":"IFERROR(VLOOKUP(O74,商品マスター!$B$7:$D$53,3,FALSE),\"\")","v":""},0,null,{"$f":"IFERROR(VLOOKUP(T74,商品マスター!$B$7:$D$53,2,FALSE),\"\")","v":""},null,{"$f":"IFERROR(VLOOKUP(T74,商品マスター!$B$7:$D$53,3,FALSE),\"\")","v":""},0,null,{"$f":"IFERROR(VLOOKUP(Y74,商品マスター!$B$7:$D$53,2,FALSE),\"\")","v":""},null,{"$f":"IFERROR(VLOOKUP(Y74,商品マスター!$B$7:$D$53,3,FALSE),\"\")","v":""},0,null,{"$f":"IFERROR(VLOOKUP(AD74,商品マスター!$B$7:$D$53,2,FALSE),\"\")","v":""},null,{"$f":"IFERROR(VLOOKUP(AD74,商品マスター!$B$7:$D$53,3,FALSE),\"\")","v":""},0,null,{"$f":"IFERROR(VLOOKUP(AI74,商品マスター!$B$7:$D$53,2,FALSE),\"\")","v":""},null,{"$f":"IFERROR(VLOOKUP(AI74,商品マスター!$B$7:$D$53,3,FALSE),\"\")","v":""},0,null,{"$f":"IFERROR(VLOOKUP(AN74,商品マスター!$B$7:$D$53,2,FALSE),\"\")","v":""},null,{"$f":"IFERROR(VLOOKUP(AN74,商品マスター!$B$7:$D$53,3,FALSE),\"\")","v":""},0,null,{"$f":"IFERROR(VLOOKUP(AS74,商品マスター!$B$7:$D$53,2,FALSE),\"\")","v":""},null,{"$f":"IFERROR(VLOOKUP(AS74,商品マスター!$B$7:$D$53,3,FALSE),\"\")","v":""},0,null,{"$f":"IFERROR(VLOOKUP(AX74,商品マスター!$B$7:$D$53,2,FALSE),\"\")","v":""},null,{"$f":"IFERROR(VLOOKUP(AX74,商品マスター!$B$7:$D$53,3,FALSE),\"\")","v":""},0,null,{"$f":"IFERROR(VLOOKUP(BC74,商品マスター!$B$7:$D$53,2,FALSE),\"\")","v":""},null,{"$f":"IFERROR(VLOOKUP(BC74,商品マスター!$B$7:$D$53,3,FALSE),\"\")","v":""},0,null,{"$f":"IFERROR(VLOOKUP(BH74,商品マスター!$B$7:$D$53,2,FALSE),\"\")","v":""},null,{"$f":"IFERROR(VLOOKUP(BH74,商品マスター!$B$7:$D$53,3,FALSE),\"\")","v":""},0,0,0.1,0,null,0]
["",null,null,null,null,null,null,null,{"$f":"IFERROR(VLOOKUP(H75,得意先マスター!$B$7:$H$103,2,FALSE),\"\")","v":""},{"$f":"IFERROR(VLOOKUP(H75,得意先マスター!$B$7:$H$103,3,FALSE),\"\")","v":""},{"$f":"IFERROR(VLOOKUP(H75,得意先マスター!$B$7:$H$103,4,FALSE),\"\")","v":""},{"$f":"IFERROR(VLOOKUP(H75,得意先マスター!$B$7:$H$103,5,FALSE),\"\")","v":""},{"$f":"IFERROR(VLOOKUP(H75,得意先マスター!$B$7:$H$103,6,FALSE),\"\")","v":""},null,null,{"$f":"IFERROR(VLOOKUP(O75,商品マスター!$B$7:$D$53,2,FALSE),\"\")","v":""},null,{"$f":"IFERROR(VLOOKUP(O75,商品マスター!$B$7:$D$53,3,FALSE),\"\")","v":""},0,null,{"$f":"IFERROR(VLOOKUP(T75,商品マスター!$B$7:$D$53,2,FALSE),\"\")","v":""},null,{"$f":"IFERROR(VLOOKUP(T75,商品マスター!$B$7:$D$53,3,FALSE),\"\")","v":""},0,null,{"$f":"IFERROR(VLOOKUP(Y75,商品マスター!$B$7:$D$53,2,FALSE),\"\")","v":""},null,{"$f":"IFERROR(VLOOKUP(Y75,商品マスター!$B$7:$D$53,3,FALSE),\"\")","v":""},0,null,{"$f":"IFERROR(VLOOKUP(AD75,商品マスター!$B$7:$D$53,2,FALSE),\"\")","v":""},null,{"$f":"IFERROR(VLOOKUP(AD75,商品マスター!$B$7:$D$53,3,FALSE),\"\")","v":""},0,null,{"$f":"IFERROR(VLOOKUP(AI75,商品マスター!$B$7:$D$53,2,FALSE),\"\")","v":""},null,{"$f":"IFERROR(VLOOKUP(AI75,商品マスター!$B$7:$D$53,3,FALSE),\"\")","v":""},0,null,{"$f":"IFERROR(VLOOKUP(AN75,商品マスター!$B$7:$D$53,2,FALSE),\"\")","v":""},null,{"$f":"IFERROR(VLOOKUP(AN75,商品マスター!$B$7:$D$53,3,FALSE),\"\")","v":""},0,null,{"$f":"IFERROR(VLOOKUP(AS75,商品マスター!$B$7:$D$53,2,FALSE),\"\")","v":""},null,{"$f":"IFERROR(VLOOKUP(AS75,商品マスター!$B$7:$D$53,3,FALSE),\"\")","v":""},0,null,{"$f":"IFERROR(VLOOKUP(AX75,商品マスター!$B$7:$D$53,2,FALSE),\"\")","v":""},null,{"$f":"IFERROR(VLOOKUP(AX75,商品マスター!$B$7:$D$53,3,FALSE),\"\")","v":""},0,null,{"$f":"IFERROR(VLOOKUP(BC75,商品マスター!$B$7:$D$53,2,FALSE),\"\")","v":""},null,{"$f":"IFERROR(VLOOKUP(BC75,商品マスター!$B$7:$D$53,3,FALSE),\"\")","v":""},0,null,{"$f":"IFERROR(VLOOKUP(BH75,商品マスター!$B$7:$D$53,2,FALSE),\"\")","v":""},null,{"$f":"IFERROR(VLOOKUP(BH75,商品マスター!$B$7:$D$53,3,FALSE),\"\")","v":""},0,0,0.1,0,null,0]
["",null,null,null,null,null,null,null,{"$f":"IFERROR(VLOOKUP(H76,得意先マスター!$B$7:$H$103,2,FALSE),\"\")","v":""},{"$f":"IFERROR(VLOOKUP(H76,得意先マスター!$B$7:$H$103,3,FALSE),\"\")","v":""},{"$f":"IFERROR(VLOOKUP(H76,得意先マスター!$B$7:$H$103,4,FALSE),\"\")","v":""},{"$f":"IFERROR(VLOOKUP(H76,得意先マスター!$B$7:$H$103,5,FALSE),\"\")","v":""},{"$f":"IFERROR(VLOOKUP(H76,得意先マスター!$B$7:$H$103,6,FALSE),\"\")","v":""},null,null,{"$f":"IFERROR(VLOOKUP(O76,商品マスター!$B$7:$D$53,2,FALSE),\"\")","v":""},null,{"$f":"IFERROR(VLOOKUP(O76,商品マスター!$B$7:$D$53,3,FALSE),\"\")","v":""},0,null,{"$f":"IFERROR(VLOOKUP(T76,商品マスター!$B$7:$D$53,2,FALSE),\"\")","v":""},null,{"$f":"IFERROR(VLOOKUP(T76,商品マスター!$B$7:$D$53,3,FALSE),\"\")","v":""},0,null,{"$f":"IFERROR(VLOOKUP(Y76,商品マスター!$B$7:$D$53,2,FALSE),\"\")","v":""},null,{"$f":"IFERROR(VLOOKUP(Y76,商品マスター!$B$7:$D$53,3,FALSE),\"\")","v":""},0,null,{"$f":"IFERROR(VLOOKUP(AD76,商品マスター!$B$7:$D$53,2,FALSE),\"\")","v":""},null,{"$f":"IFERROR(VLOOKUP(AD76,商品マスター!$B$7:$D$53,3,FALSE),\"\")","v":""},0,null,{"$f":"IFERROR(VLOOKUP(AI76,商品マスター!$B$7:$D$53,2,FALSE),\"\")","v":""},null,{"$f":"IFERROR(VLOOKUP(AI76,商品マスター!$B$7:$D$53,3,FALSE),\"\")","v":""},0,null,{"$f":"IFERROR(VLOOKUP(AN76,商品マスター!$B$7:$D$53,2,FALSE),\"\")","v":""},null,{"$f":"IFERROR(VLOOKUP(AN76,商品マスター!$B$7:$D$53,3,FALSE),\"\")","v":""},0,null,{"$f":"IFERROR(VLOOKUP(AS76,商品マスター!$B$7:$D$53,2,FALSE),\"\")","v":""},null,{"$f":"IFERROR(VLOOKUP(AS76,商品マスター!$B$7:$D$53,3,FALSE),\"\")","v":""},0,null,{"$f":"IFERROR(VLOOKUP(AX76,商品マスター!$B$7:$D$53,2,FALSE),\"\")","v":""},null,{"$f":"IFERROR(VLOOKUP(AX76,商品マスター!$B$7:$D$53,3,FALSE),\"\")","v":""},0,null,{"$f":"IFERROR(VLOOKUP(BC76,商品マスター!$B$7:$D$53,2,FALSE),\"\")","v":""},null,{"$f":"IFERROR(VLOOKUP(BC76,商品マスター!$B$7:$D$53,3,FALSE),\"\")","v":""},0,null,{"$f":"IFERROR(VLOOKUP(BH76,商品マスター!$B$7:$D$53,2,FALSE),\"\")","v":""},null,{"$f":"IFERROR(VLOOKUP(BH76,商品マスター!$B$7:$D$53,3,FALSE),\"\")","v":""},0,0,0.1,0,null,0]
["",null,null,null,null,null,null,null,{"$f":"IFERROR(VLOOKUP(H77,得意先マスター!$B$7:$H$103,2,FALSE),\"\")","v":""},{"$f":"IFERROR(VLOOKUP(H77,得意先マスター!$B$7:$H$103,3,FALSE),\"\")","v":""},{"$f":"IFERROR(VLOOKUP(H77,得意先マスター!$B$7:$H$103,4,FALSE),\"\")","v":""},{"$f":"IFERROR(VLOOKUP(H77,得意先マスター!$B$7:$H$103,5,FALSE),\"\")","v":""},{"$f":"IFERROR(VLOOKUP(H77,得意先マスター!$B$7:$H$103,6,FALSE),\"\")","v":""},null,null,{"$f":"IFERROR(VLOOKUP(O77,商品マスター!$B$7:$D$53,2,FALSE),\"\")","v":""},null,{"$f":"IFERROR(VLOOKUP(O77,商品マスター!$B$7:$D$53,3,FALSE),\"\")","v":""},0,null,{"$f":"IFERROR(VLOOKUP(T77,商品マスター!$B$7:$D$53,2,FALSE),\"\")","v":""},null,{"$f":"IFERROR(VLOOKUP(T77,商品マスター!$B$7:$D$53,3,FALSE),\"\")","v":""},0,null,{"$f":"IFERROR(VLOOKUP(Y77,商品マスター!$B$7:$D$53,2,FALSE),\"\")","v":""},null,{"$f":"IFERROR(VLOOKUP(Y77,商品マスター!$B$7:$D$53,3,FALSE),\"\")","v":""},0,null,{"$f":"IFERROR(VLOOKUP(AD77,商品マスター!$B$7:$D$53,2,FALSE),\"\")","v":""},null,{"$f":"IFERROR(VLOOKUP(AD77,商品マスター!$B$7:$D$53,3,FALSE),\"\")","v":""},0,null,{"$f":"IFERROR(VLOOKUP(AI77,商品マスター!$B$7:$D$53,2,FALSE),\"\")","v":""},null,{"$f":"IFERROR(VLOOKUP(AI77,商品マスター!$B$7:$D$53,3,FALSE),\"\")","v":""},0,null,{"$f":"IFERROR(VLOOKUP(AN77,商品マスター!$B$7:$D$53,2,FALSE),\"\")","v":""},null,{"$f":"IFERROR(VLOOKUP(AN77,商品マスター!$B$7:$D$53,3,FALSE),\"\")","v":""},0,null,{"$f":"IFERROR(VLOOKUP(AS77,商品マスター!$B$7:$D$53,2,FALSE),\"\")","v":""},null,{"$f":"IFERROR(VLOOKUP(AS77,商品マスター!$B$7:$D$53,3,FALSE),\"\")","v":""},0,null,{"$f":"IFERROR(VLOOKUP(AX77,商品マスター!$B$7:$D$53,2,FALSE),\"\")","v":""},null,{"$f":"IFERROR(VLOOKUP(AX77,商品マスター!$B$7:$D$53,3,FALSE),\"\")","v":""},0,null,{"$f":"IFERROR(VLOOKUP(BC77,商品マスター!$B$7:$D$53,2,FALSE),\"\")","v":""},null,{"$f":"IFERROR(VLOOKUP(BC77,商品マスター!$B$7:$D$53,3,FALSE),\"\")","v":""},0,null,{"$f":"IFERROR(VLOOKUP(BH77,商品マスター!$B$7:$D$53,2,FALSE),\"\")","v":""},null,{"$f":"IFERROR(VLOOKUP(BH77,商品マスター!$B$7:$D$53,3,FALSE),\"\")","v":""},0,0,0.1,0,null,0]
["",null,null,null,null,null,null,null,{"$f":"IFERROR(VLOOKUP(H78,得意先マスター!$B$7:$H$103,2,FALSE),\"\")","v":""},{"$f":"IFERROR(VLOOKUP(H78,得意先マスター!$B$7:$H$103,3,FALSE),\"\")","v":""},{"$f":"IFERROR(VLOOKUP(H78,得意先マスター!$B$7:$H$103,4,FALSE),\"\")","v":""},{"$f":"IFERROR(VLOOKUP(H78,得意先マスター!$B$7:$H$103,5,FALSE),\"\")","v":""},{"$f":"IFERROR(VLOOKUP(H78,得意先マスター!$B$7:$H$103,6,FALSE),\"\")","v":""},null,null,{"$f":"IFERROR(VLOOKUP(O78,商品マスター!$B$7:$D$53,2,FALSE),\"\")","v":""},null,{"$f":"IFERROR(VLOOKUP(O78,商品マスター!$B$7:$D$53,3,FALSE),\"\")","v":""},0,null,{"$f":"IFERROR(VLOOKUP(T78,商品マスター!$B$7:$D$53,2,FALSE),\"\")","v":""},null,{"$f":"IFERROR(VLOOKUP(T78,商品マスター!$B$7:$D$53,3,FALSE),\"\")","v":""},0,null,{"$f":"IFERROR(VLOOKUP(Y78,商品マスター!$B$7:$D$53,2,FALSE),\"\")","v":""},null,{"$f":"IFERROR(VLOOKUP(Y78,商品マスター!$B$7:$D$53,3,FALSE),\"\")","v":""},0,null,{"$f":"IFERROR(VLOOKUP(AD78,商品マスター!$B$7:$D$53,2,FALSE),\"\")","v":""},null,{"$f":"IFERROR(VLOOKUP(AD78,商品マスター!$B$7:$D$53,3,FALSE),\"\")","v":""},0,null,{"$f":"IFERROR(VLOOKUP(AI78,商品マスター!$B$7:$D$53,2,FALSE),\"\")","v":""},null,{"$f":"IFERROR(VLOOKUP(AI78,商品マスター!$B$7:$D$53,3,FALSE),\"\")","v":""},0,null,{"$f":"IFERROR(VLOOKUP(AN78,商品マスター!$B$7:$D$53,2,FALSE),\"\")","v":""},null,{"$f":"IFERROR(VLOOKUP(AN78,商品マスター!$B$7:$D$53,3,FALSE),\"\")","v":""},0,null,{"$f":"IFERROR(VLOOKUP(AS78,商品マスター!$B$7:$D$53,2,FALSE),\"\")","v":""},null,{"$f":"IFERROR(VLOOKUP(AS78,商品マスター!$B$7:$D$53,3,FALSE),\"\")","v":""},0,null,{"$f":"IFERROR(VLOOKUP(AX78,商品マスター!$B$7:$D$53,2,FALSE),\"\")","v":""},null,{"$f":"IFERROR(VLOOKUP(AX78,商品マスター!$B$7:$D$53,3,FALSE),\"\")","v":""},0,null,{"$f":"IFERROR(VLOOKUP(BC78,商品マスター!$B$7:$D$53,2,FALSE),\"\")","v":""},null,{"$f":"IFERROR(VLOOKUP(BC78,商品マスター!$B$7:$D$53,3,FALSE),\"\")","v":""},0,null,{"$f":"IFERROR(VLOOKUP(BH78,商品マスター!$B$7:$D$53,2,FALSE),\"\")","v":""},null,{"$f":"IFERROR(VLOOKUP(BH78,商品マスター!$B$7:$D$53,3,FALSE),\"\")","v":""},0,0,0.1,0,null,0]
["",null,null,null,null,null,null,null,{"$f":"IFERROR(VLOOKUP(H79,得意先マスター!$B$7:$H$103,2,FALSE),\"\")","v":""},{"$f":"IFERROR(VLOOKUP(H79,得意先マスター!$B$7:$H$103,3,FALSE),\"\")","v":""},{"$f":"IFERROR(VLOOKUP(H79,得意先マスター!$B$7:$H$103,4,FALSE),\"\")","v":""},{"$f":"IFERROR(VLOOKUP(H79,得意先マスター!$B$7:$H$103,5,FALSE),\"\")","v":""},{"$f":"IFERROR(VLOOKUP(H79,得意先マスター!$B$7:$H$103,6,FALSE),\"\")","v":""},null,null,{"$f":"IFERROR(VLOOKUP(O79,商品マスター!$B$7:$D$53,2,FALSE),\"\")","v":""},null,{"$f":"IFERROR(VLOOKUP(O79,商品マスター!$B$7:$D$53,3,FALSE),\"\")","v":""},0,null,{"$f":"IFERROR(VLOOKUP(T79,商品マスター!$B$7:$D$53,2,FALSE),\"\")","v":""},null,{"$f":"IFERROR(VLOOKUP(T79,商品マスター!$B$7:$D$53,3,FALSE),\"\")","v":""},0,null,{"$f":"IFERROR(VLOOKUP(Y79,商品マスター!$B$7:$D$53,2,FALSE),\"\")","v":""},null,{"$f":"IFERROR(VLOOKUP(Y79,商品マスター!$B$7:$D$53,3,FALSE),\"\")","v":""},0,null,{"$f":"IFERROR(VLOOKUP(AD79,商品マスター!$B$7:$D$53,2,FALSE),\"\")","v":""},null,{"$f":"IFERROR(VLOOKUP(AD79,商品マスター!$B$7:$D$53,3,FALSE),\"\")","v":""},0,null,{"$f":"IFERROR(VLOOKUP(AI79,商品マスター!$B$7:$D$53,2,FALSE),\"\")","v":""},null,{"$f":"IFERROR(VLOOKUP(AI79,商品マスター!$B$7:$D$53,3,FALSE),\"\")","v":""},0,null,{"$f":"IFERROR(VLOOKUP(AN79,商品マスター!$B$7:$D$53,2,FALSE),\"\")","v":""},null,{"$f":"IFERROR(VLOOKUP(AN79,商品マスター!$B$7:$D$53,3,FALSE),\"\")","v":""},0,null,{"$f":"IFERROR(VLOOKUP(AS79,商品マスター!$B$7:$D$53,2,FALSE),\"\")","v":""},null,{"$f":"IFERROR(VLOOKUP(AS79,商品マスター!$B$7:$D$53,3,FALSE),\"\")","v":""},0,null,{"$f":"IFERROR(VLOOKUP(AX79,商品マスター!$B$7:$D$53,2,FALSE),\"\")","v":""},null,{"$f":"IFERROR(VLOOKUP(AX79,商品マスター!$B$7:$D$53,3,FALSE),\"\")","v":""},0,null,{"$f":"IFERROR(VLOOKUP(BC79,商品マスター!$B$7:$D$53,2,FALSE),\"\")","v":""},null,{"$f":"IFERROR(VLOOKUP(BC79,商品マスター!$B$7:$D$53,3,FALSE),\"\")","v":""},0,null,{"$f":"IFERROR(VLOOKUP(BH79,商品マスター!$B$7:$D$53,2,FALSE),\"\")","v":""},null,{"$f":"IFERROR(VLOOKUP(BH79,商品マスター!$B$7:$D$53,3,FALSE),\"\")","v":""},0,0,0.1,0,null,0]
["",null,null,null,null,null,null,null,{"$f":"IFERROR(VLOOKUP(H80,得意先マスター!$B$7:$H$103,2,FALSE),\"\")","v":""},{"$f":"IFERROR(VLOOKUP(H80,得意先マスター!$B$7:$H$103,3,FALSE),\"\")","v":""},{"$f":"IFERROR(VLOOKUP(H80,得意先マスター!$B$7:$H$103,4,FALSE),\"\")","v":""},{"$f":"IFERROR(VLOOKUP(H80,得意先マスター!$B$7:$H$103,5,FALSE),\"\")","v":""},{"$f":"IFERROR(VLOOKUP(H80,得意先マスター!$B$7:$H$103,6,FALSE),\"\")","v":""},null,null,{"$f":"IFERROR(VLOOKUP(O80,商品マスター!$B$7:$D$53,2,FALSE),\"\")","v":""},null,{"$f":"IFERROR(VLOOKUP(O80,商品マスター!$B$7:$D$53,3,FALSE),\"\")","v":""},0,null,{"$f":"IFERROR(VLOOKUP(T80,商品マスター!$B$7:$D$53,2,FALSE),\"\")","v":""},null,{"$f":"IFERROR(VLOOKUP(T80,商品マスター!$B$7:$D$53,3,FALSE),\"\")","v":""},0,null,{"$f":"IFERROR(VLOOKUP(Y80,商品マスター!$B$7:$D$53,2,FALSE),\"\")","v":""},null,{"$f":"IFERROR(VLOOKUP(Y80,商品マスター!$B$7:$D$53,3,FALSE),\"\")","v":""},0,null,{"$f":"IFERROR(VLOOKUP(AD80,商品マスター!$B$7:$D$53,2,FALSE),\"\")","v":""},null,{"$f":"IFERROR(VLOOKUP(AD80,商品マスター!$B$7:$D$53,3,FALSE),\"\")","v":""},0,null,{"$f":"IFERROR(VLOOKUP(AI80,商品マスター!$B$7:$D$53,2,FALSE),\"\")","v":""},null,{"$f":"IFERROR(VLOOKUP(AI80,商品マスター!$B$7:$D$53,3,FALSE),\"\")","v":""},0,null,{"$f":"IFERROR(VLOOKUP(AN80,商品マスター!$B$7:$D$53,2,FALSE),\"\")","v":""},null,{"$f":"IFERROR(VLOOKUP(AN80,商品マスター!$B$7:$D$53,3,FALSE),\"\")","v":""},0,null,{"$f":"IFERROR(VLOOKUP(AS80,商品マスター!$B$7:$D$53,2,FALSE),\"\")","v":""},null,{"$f":"IFERROR(VLOOKUP(AS80,商品マスター!$B$7:$D$53,3,FALSE),\"\")","v":""},0,null,{"$f":"IFERROR(VLOOKUP(AX80,商品マスター!$B$7:$D$53,2,FALSE),\"\")","v":""},null,{"$f":"IFERROR(VLOOKUP(AX80,商品マスター!$B$7:$D$53,3,FALSE),\"\")","v":""},0,null,{"$f":"IFERROR(VLOOKUP(BC80,商品マスター!$B$7:$D$53,2,FALSE),\"\")","v":""},null,{"$f":"IFERROR(VLOOKUP(BC80,商品マスター!$B$7:$D$53,3,FALSE),\"\")","v":""},0,null,{"$f":"IFERROR(VLOOKUP(BH80,商品マスター!$B$7:$D$53,2,FALSE),\"\")","v":""},null,{"$f":"IFERROR(VLOOKUP(BH80,商品マスター!$B$7:$D$53,3,FALSE),\"\")","v":""},0,0,0.1,0,null,0]
["",null,null,null,null,null,null,null,{"$f":"IFERROR(VLOOKUP(H81,得意先マスター!$B$7:$H$103,2,FALSE),\"\")","v":""},{"$f":"IFERROR(VLOOKUP(H81,得意先マスター!$B$7:$H$103,3,FALSE),\"\")","v":""},{"$f":"IFERROR(VLOOKUP(H81,得意先マスター!$B$7:$H$103,4,FALSE),\"\")","v":""},{"$f":"IFERROR(VLOOKUP(H81,得意先マスター!$B$7:$H$103,5,FALSE),\"\")","v":""},{"$f":"IFERROR(VLOOKUP(H81,得意先マスター!$B$7:$H$103,6,FALSE),\"\")","v":""},null,null,{"$f":"IFERROR(VLOOKUP(O81,商品マスター!$B$7:$D$53,2,FALSE),\"\")","v":""},null,{"$f":"IFERROR(VLOOKUP(O81,商品マスター!$B$7:$D$53,3,FALSE),\"\")","v":""},0,null,{"$f":"IFERROR(VLOOKUP(T81,商品マスター!$B$7:$D$53,2,FALSE),\"\")","v":""},null,{"$f":"IFERROR(VLOOKUP(T81,商品マスター!$B$7:$D$53,3,FALSE),\"\")","v":""},0,null,{"$f":"IFERROR(VLOOKUP(Y81,商品マスター!$B$7:$D$53,2,FALSE),\"\")","v":""},null,{"$f":"IFERROR(VLOOKUP(Y81,商品マスター!$B$7:$D$53,3,FALSE),\"\")","v":""},0,null,{"$f":"IFERROR(VLOOKUP(AD81,商品マスター!$B$7:$D$53,2,FALSE),\"\")","v":""},null,{"$f":"IFERROR(VLOOKUP(AD81,商品マスター!$B$7:$D$53,3,FALSE),\"\")","v":""},0,null,{"$f":"IFERROR(VLOOKUP(AI81,商品マスター!$B$7:$D$53,2,FALSE),\"\")","v":""},null,{"$f":"IFERROR(VLOOKUP(AI81,商品マスター!$B$7:$D$53,3,FALSE),\"\")","v":""},0,null,{"$f":"IFERROR(VLOOKUP(AN81,商品マスター!$B$7:$D$53,2,FALSE),\"\")","v":""},null,{"$f":"IFERROR(VLOOKUP(AN81,商品マスター!$B$7:$D$53,3,FALSE),\"\")","v":""},0,null,{"$f":"IFERROR(VLOOKUP(AS81,商品マスター!$B$7:$D$53,2,FALSE),\"\")","v":""},null,{"$f":"IFERROR(VLOOKUP(AS81,商品マスター!$B$7:$D$53,3,FALSE),\"\")","v":""},0,null,{"$f":"IFERROR(VLOOKUP(AX81,商品マスター!$B$7:$D$53,2,FALSE),\"\")","v":""},null,{"$f":"IFERROR(VLOOKUP(AX81,商品マスター!$B$7:$D$53,3,FALSE),\"\")","v":""},0,null,{"$f":"IFERROR(VLOOKUP(BC81,商品マスター!$B$7:$D$53,2,FALSE),\"\")","v":""},null,{"$f":"IFERROR(VLOOKUP(BC81,商品マスター!$B$7:$D$53,3,FALSE),\"\")","v":""},0,null,{"$f":"IFERROR(VLOOKUP(BH81,商品マスター!$B$7:$D$53,2,FALSE),\"\")","v":""},null,{"$f":"IFERROR(VLOOKUP(BH81,商品マスター!$B$7:$D$53,3,FALSE),\"\")","v":""},0,0,0.1,0,null,0]
["",null,null,null,null,null,null,null,{"$f":"IFERROR(VLOOKUP(H82,得意先マスター!$B$7:$H$103,2,FALSE),\"\")","v":""},{"$f":"IFERROR(VLOOKUP(H82,得意先マスター!$B$7:$H$103,3,FALSE),\"\")","v":""},{"$f":"IFERROR(VLOOKUP(H82,得意先マスター!$B$7:$H$103,4,FALSE),\"\")","v":""},{"$f":"IFERROR(VLOOKUP(H82,得意先マスター!$B$7:$H$103,5,FALSE),\"\")","v":""},{"$f":"IFERROR(VLOOKUP(H82,得意先マスター!$B$7:$H$103,6,FALSE),\"\")","v":""},null,null,{"$f":"IFERROR(VLOOKUP(O82,商品マスター!$B$7:$D$53,2,FALSE),\"\")","v":""},null,{"$f":"IFERROR(VLOOKUP(O82,商品マスター!$B$7:$D$53,3,FALSE),\"\")","v":""},0,null,{"$f":"IFERROR(VLOOKUP(T82,商品マスター!$B$7:$D$53,2,FALSE),\"\")","v":""},null,{"$f":"IFERROR(VLOOKUP(T82,商品マスター!$B$7:$D$53,3,FALSE),\"\")","v":""},0,null,{"$f":"IFERROR(VLOOKUP(Y82,商品マスター!$B$7:$D$53,2,FALSE),\"\")","v":""},null,{"$f":"IFERROR(VLOOKUP(Y82,商品マスター!$B$7:$D$53,3,FALSE),\"\")","v":""},0,null,{"$f":"IFERROR(VLOOKUP(AD82,商品マスター!$B$7:$D$53,2,FALSE),\"\")","v":""},null,{"$f":"IFERROR(VLOOKUP(AD82,商品マスター!$B$7:$D$53,3,FALSE),\"\")","v":""},0,null,{"$f":"IFERROR(VLOOKUP(AI82,商品マスター!$B$7:$D$53,2,FALSE),\"\")","v":""},null,{"$f":"IFERROR(VLOOKUP(AI82,商品マスター!$B$7:$D$53,3,FALSE),\"\")","v":""},0,null,{"$f":"IFERROR(VLOOKUP(AN82,商品マスター!$B$7:$D$53,2,FALSE),\"\")","v":""},null,{"$f":"IFERROR(VLOOKUP(AN82,商品マスター!$B$7:$D$53,3,FALSE),\"\")","v":""},0,null,{"$f":"IFERROR(VLOOKUP(AS82,商品マスター!$B$7:$D$53,2,FALSE),\"\")","v":""},null,{"$f":"IFERROR(VLOOKUP(AS82,商品マスター!$B$7:$D$53,3,FALSE),\"\")","v":""},0,null,{"$f":"IFERROR(VLOOKUP(AX82,商品マスター!$B$7:$D$53,2,FALSE),\"\")","v":""},null,{"$f":"IFERROR(VLOOKUP(AX82,商品マスター!$B$7:$D$53,3,FALSE),\"\")","v":""},0,null,{"$f":"IFERROR(VLOOKUP(BC82,商品マスター!$B$7:$D$53,2,FALSE),\"\")","v":""},null,{"$f":"IFERROR(VLOOKUP(BC82,商品マスター!$B$7:$D$53,3,FALSE),\"\")","v":""},0,null,{"$f":"IFERROR(VLOOKUP(BH82,商品マスター!$B$7:$D$53,2,FALSE),\"\")","v":""},null,{"$f":"IFERROR(VLOOKUP(BH82,商品マスター!$B$7:$D$53,3,FALSE),\"\")","v":""},0,0,0.1,0,null,0]
["",null,null,null,null,null,null,null,{"$f":"IFERROR(VLOOKUP(H83,得意先マスター!$B$7:$H$103,2,FALSE),\"\")","v":""},{"$f":"IFERROR(VLOOKUP(H83,得意先マスター!$B$7:$H$103,3,FALSE),\"\")","v":""},{"$f":"IFERROR(VLOOKUP(H83,得意先マスター!$B$7:$H$103,4,FALSE),\"\")","v":""},{"$f":"IFERROR(VLOOKUP(H83,得意先マスター!$B$7:$H$103,5,FALSE),\"\")","v":""},{"$f":"IFERROR(VLOOKUP(H83,得意先マスター!$B$7:$H$103,6,FALSE),\"\")","v":""},null,null,{"$f":"IFERROR(VLOOKUP(O83,商品マスター!$B$7:$D$53,2,FALSE),\"\")","v":""},null,{"$f":"IFERROR(VLOOKUP(O83,商品マスター!$B$7:$D$53,3,FALSE),\"\")","v":""},0,null,{"$f":"IFERROR(VLOOKUP(T83,商品マスター!$B$7:$D$53,2,FALSE),\"\")","v":""},null,{"$f":"IFERROR(VLOOKUP(T83,商品マスター!$B$7:$D$53,3,FALSE),\"\")","v":""},0,null,{"$f":"IFERROR(VLOOKUP(Y83,商品マスター!$B$7:$D$53,2,FALSE),\"\")","v":""},null,{"$f":"IFERROR(VLOOKUP(Y83,商品マスター!$B$7:$D$53,3,FALSE),\"\")","v":""},0,null,{"$f":"IFERROR(VLOOKUP(AD83,商品マスター!$B$7:$D$53,2,FALSE),\"\")","v":""},null,{"$f":"IFERROR(VLOOKUP(AD83,商品マスター!$B$7:$D$53,3,FALSE),\"\")","v":""},0,null,{"$f":"IFERROR(VLOOKUP(AI83,商品マスター!$B$7:$D$53,2,FALSE),\"\")","v":""},null,{"$f":"IFERROR(VLOOKUP(AI83,商品マスター!$B$7:$D$53,3,FALSE),\"\")","v":""},0,null,{"$f":"IFERROR(VLOOKUP(AN83,商品マスター!$B$7:$D$53,2,FALSE),\"\")","v":""},null,{"$f":"IFERROR(VLOOKUP(AN83,商品マスター!$B$7:$D$53,3,FALSE),\"\")","v":""},0,null,{"$f":"IFERROR(VLOOKUP(AS83,商品マスター!$B$7:$D$53,2,FALSE),\"\")","v":""},null,{"$f":"IFERROR(VLOOKUP(AS83,商品マスター!$B$7:$D$53,3,FALSE),\"\")","v":""},0,null,{"$f":"IFERROR(VLOOKUP(AX83,商品マスター!$B$7:$D$53,2,FALSE),\"\")","v":""},null,{"$f":"IFERROR(VLOOKUP(AX83,商品マスター!$B$7:$D$53,3,FALSE),\"\")","v":""},0,null,{"$f":"IFERROR(VLOOKUP(BC83,商品マスター!$B$7:$D$53,2,FALSE),\"\")","v":""},null,{"$f":"IFERROR(VLOOKUP(BC83,商品マスター!$B$7:$D$53,3,FALSE),\"\")","v":""},0,null,{"$f":"IFERROR(VLOOKUP(BH83,商品マスター!$B$7:$D$53,2,FALSE),\"\")","v":""},null,{"$f":"IFERROR(VLOOKUP(BH83,商品マスター!$B$7:$D$53,3,FALSE),\"\")","v":""},0,0,0.1,0,null,0]
["",null,null,null,null,null,null,null,{"$f":"IFERROR(VLOOKUP(H84,得意先マスター!$B$7:$H$103,2,FALSE),\"\")","v":""},{"$f":"IFERROR(VLOOKUP(H84,得意先マスター!$B$7:$H$103,3,FALSE),\"\")","v":""},{"$f":"IFERROR(VLOOKUP(H84,得意先マスター!$B$7:$H$103,4,FALSE),\"\")","v":""},{"$f":"IFERROR(VLOOKUP(H84,得意先マスター!$B$7:$H$103,5,FALSE),\"\")","v":""},{"$f":"IFERROR(VLOOKUP(H84,得意先マスター!$B$7:$H$103,6,FALSE),\"\")","v":""},null,null,{"$f":"IFERROR(VLOOKUP(O84,商品マスター!$B$7:$D$53,2,FALSE),\"\")","v":""},null,{"$f":"IFERROR(VLOOKUP(O84,商品マスター!$B$7:$D$53,3,FALSE),\"\")","v":""},0,null,{"$f":"IFERROR(VLOOKUP(T84,商品マスター!$B$7:$D$53,2,FALSE),\"\")","v":""},null,{"$f":"IFERROR(VLOOKUP(T84,商品マスター!$B$7:$D$53,3,FALSE),\"\")","v":""},0,null,{"$f":"IFERROR(VLOOKUP(Y84,商品マスター!$B$7:$D$53,2,FALSE),\"\")","v":""},null,{"$f":"IFERROR(VLOOKUP(Y84,商品マスター!$B$7:$D$53,3,FALSE),\"\")","v":""},0,null,{"$f":"IFERROR(VLOOKUP(AD84,商品マスター!$B$7:$D$53,2,FALSE),\"\")","v":""},null,{"$f":"IFERROR(VLOOKUP(AD84,商品マスター!$B$7:$D$53,3,FALSE),\"\")","v":""},0,null,{"$f":"IFERROR(VLOOKUP(AI84,商品マスター!$B$7:$D$53,2,FALSE),\"\")","v":""},null,{"$f":"IFERROR(VLOOKUP(AI84,商品マスター!$B$7:$D$53,3,FALSE),\"\")","v":""},0,null,{"$f":"IFERROR(VLOOKUP(AN84,商品マスター!$B$7:$D$53,2,FALSE),\"\")","v":""},null,{"$f":"IFERROR(VLOOKUP(AN84,商品マスター!$B$7:$D$53,3,FALSE),\"\")","v":""},0,null,{"$f":"IFERROR(VLOOKUP(AS84,商品マスター!$B$7:$D$53,2,FALSE),\"\")","v":""},null,{"$f":"IFERROR(VLOOKUP(AS84,商品マスター!$B$7:$D$53,3,FALSE),\"\")","v":""},0,null,{"$f":"IFERROR(VLOOKUP(AX84,商品マスター!$B$7:$D$53,2,FALSE),\"\")","v":""},null,{"$f":"IFERROR(VLOOKUP(AX84,商品マスター!$B$7:$D$53,3,FALSE),\"\")","v":""},0,null,{"$f":"IFERROR(VLOOKUP(BC84,商品マスター!$B$7:$D$53,2,FALSE),\"\")","v":""},null,{"$f":"IFERROR(VLOOKUP(BC84,商品マスター!$B$7:$D$53,3,FALSE),\"\")","v":""},0,null,{"$f":"IFERROR(VLOOKUP(BH84,商品マスター!$B$7:$D$53,2,FALSE),\"\")","v":""},null,{"$f":"IFERROR(VLOOKUP(BH84,商品マスター!$B$7:$D$53,3,FALSE),\"\")","v":""},0,0,0.1,0,null,0]
["",null,null,null,null,null,null,null,{"$f":"IFERROR(VLOOKUP(H85,得意先マスター!$B$7:$H$103,2,FALSE),\"\")","v":""},{"$f":"IFERROR(VLOOKUP(H85,得意先マスター!$B$7:$H$103,3,FALSE),\"\")","v":""},{"$f":"IFERROR(VLOOKUP(H85,得意先マスター!$B$7:$H$103,4,FALSE),\"\")","v":""},{"$f":"IFERROR(VLOOKUP(H85,得意先マスター!$B$7:$H$103,5,FALSE),\"\")","v":""},{"$f":"IFERROR(VLOOKUP(H85,得意先マスター!$B$7:$H$103,6,FALSE),\"\")","v":""},null,null,{"$f":"IFERROR(VLOOKUP(O85,商品マスター!$B$7:$D$53,2,FALSE),\"\")","v":""},null,{"$f":"IFERROR(VLOOKUP(O85,商品マスター!$B$7:$D$53,3,FALSE),\"\")","v":""},0,null,{"$f":"IFERROR(VLOOKUP(T85,商品マスター!$B$7:$D$53,2,FALSE),\"\")","v":""},null,{"$f":"IFERROR(VLOOKUP(T85,商品マスター!$B$7:$D$53,3,FALSE),\"\")","v":""},0,null,{"$f":"IFERROR(VLOOKUP(Y85,商品マスター!$B$7:$D$53,2,FALSE),\"\")","v":""},null,{"$f":"IFERROR(VLOOKUP(Y85,商品マスター!$B$7:$D$53,3,FALSE),\"\")","v":""},0,null,{"$f":"IFERROR(VLOOKUP(AD85,商品マスター!$B$7:$D$53,2,FALSE),\"\")","v":""},null,{"$f":"IFERROR(VLOOKUP(AD85,商品マスター!$B$7:$D$53,3,FALSE),\"\")","v":""},0,null,{"$f":"IFERROR(VLOOKUP(AI85,商品マスター!$B$7:$D$53,2,FALSE),\"\")","v":""},null,{"$f":"IFERROR(VLOOKUP(AI85,商品マスター!$B$7:$D$53,3,FALSE),\"\")","v":""},0,null,{"$f":"IFERROR(VLOOKUP(AN85,商品マスター!$B$7:$D$53,2,FALSE),\"\")","v":""},null,{"$f":"IFERROR(VLOOKUP(AN85,商品マスター!$B$7:$D$53,3,FALSE),\"\")","v":""},0,null,{"$f":"IFERROR(VLOOKUP(AS85,商品マスター!$B$7:$D$53,2,FALSE),\"\")","v":""},null,{"$f":"IFERROR(VLOOKUP(AS85,商品マスター!$B$7:$D$53,3,FALSE),\"\")","v":""},0,null,{"$f":"IFERROR(VLOOKUP(AX85,商品マスター!$B$7:$D$53,2,FALSE),\"\")","v":""},null,{"$f":"IFERROR(VLOOKUP(AX85,商品マスター!$B$7:$D$53,3,FALSE),\"\")","v":""},0,null,{"$f":"IFERROR(VLOOKUP(BC85,商品マスター!$B$7:$D$53,2,FALSE),\"\")","v":""},null,{"$f":"IFERROR(VLOOKUP(BC85,商品マスター!$B$7:$D$53,3,FALSE),\"\")","v":""},0,null,{"$f":"IFERROR(VLOOKUP(BH85,商品マスター!$B$7:$D$53,2,FALSE),\"\")","v":""},null,{"$f":"IFERROR(VLOOKUP(BH85,商品マスター!$B$7:$D$53,3,FALSE),\"\")","v":""},0,0,0.1,0,null,0]
["",null,null,null,null,null,null,null,{"$f":"IFERROR(VLOOKUP(H86,得意先マスター!$B$7:$H$103,2,FALSE),\"\")","v":""},{"$f":"IFERROR(VLOOKUP(H86,得意先マスター!$B$7:$H$103,3,FALSE),\"\")","v":""},{"$f":"IFERROR(VLOOKUP(H86,得意先マスター!$B$7:$H$103,4,FALSE),\"\")","v":""},{"$f":"IFERROR(VLOOKUP(H86,得意先マスター!$B$7:$H$103,5,FALSE),\"\")","v":""},{"$f":"IFERROR(VLOOKUP(H86,得意先マスター!$B$7:$H$103,6,FALSE),\"\")","v":""},null,null,{"$f":"IFERROR(VLOOKUP(O86,商品マスター!$B$7:$D$53,2,FALSE),\"\")","v":""},null,{"$f":"IFERROR(VLOOKUP(O86,商品マスター!$B$7:$D$53,3,FALSE),\"\")","v":""},0,null,{"$f":"IFERROR(VLOOKUP(T86,商品マスター!$B$7:$D$53,2,FALSE),\"\")","v":""},null,{"$f":"IFERROR(VLOOKUP(T86,商品マスター!$B$7:$D$53,3,FALSE),\"\")","v":""},0,null,{"$f":"IFERROR(VLOOKUP(Y86,商品マスター!$B$7:$D$53,2,FALSE),\"\")","v":""},null,{"$f":"IFERROR(VLOOKUP(Y86,商品マスター!$B$7:$D$53,3,FALSE),\"\")","v":""},0,null,{"$f":"IFERROR(VLOOKUP(AD86,商品マスター!$B$7:$D$53,2,FALSE),\"\")","v":""},null,{"$f":"IFERROR(VLOOKUP(AD86,商品マスター!$B$7:$D$53,3,FALSE),\"\")","v":""},0,null,{"$f":"IFERROR(VLOOKUP(AI86,商品マスター!$B$7:$D$53,2,FALSE),\"\")","v":""},null,{"$f":"IFERROR(VLOOKUP(AI86,商品マスター!$B$7:$D$53,3,FALSE),\"\")","v":""},0,null,{"$f":"IFERROR(VLOOKUP(AN86,商品マスター!$B$7:$D$53,2,FALSE),\"\")","v":""},null,{"$f":"IFERROR(VLOOKUP(AN86,商品マスター!$B$7:$D$53,3,FALSE),\"\")","v":""},0,null,{"$f":"IFERROR(VLOOKUP(AS86,商品マスター!$B$7:$D$53,2,FALSE),\"\")","v":""},null,{"$f":"IFERROR(VLOOKUP(AS86,商品マスター!$B$7:$D$53,3,FALSE),\"\")","v":""},0,null,{"$f":"IFERROR(VLOOKUP(AX86,商品マスター!$B$7:$D$53,2,FALSE),\"\")","v":""},null,{"$f":"IFERROR(VLOOKUP(AX86,商品マスター!$B$7:$D$53,3,FALSE),\"\")","v":""},0,null,{"$f":"IFERROR(VLOOKUP(BC86,商品マスター!$B$7:$D$53,2,FALSE),\"\")","v":""},null,{"$f":"IFERROR(VLOOKUP(BC86,商品マスター!$B$7:$D$53,3,FALSE),\"\")","v":""},0,null,{"$f":"IFERROR(VLOOKUP(BH86,商品マスター!$B$7:$D$53,2,FALSE),\"\")","v":""},null,{"$f":"IFERROR(VLOOKUP(BH86,商品マスター!$B$7:$D$53,3,FALSE),\"\")","v":""},0,0,0.1,0,null,0]
["",null,null,null,null,null,null,null,{"$f":"IFERROR(VLOOKUP(H87,得意先マスター!$B$7:$H$103,2,FALSE),\"\")","v":""},{"$f":"IFERROR(VLOOKUP(H87,得意先マスター!$B$7:$H$103,3,FALSE),\"\")","v":""},{"$f":"IFERROR(VLOOKUP(H87,得意先マスター!$B$7:$H$103,4,FALSE),\"\")","v":""},{"$f":"IFERROR(VLOOKUP(H87,得意先マスター!$B$7:$H$103,5,FALSE),\"\")","v":""},{"$f":"IFERROR(VLOOKUP(H87,得意先マスター!$B$7:$H$103,6,FALSE),\"\")","v":""},null,null,{"$f":"IFERROR(VLOOKUP(O87,商品マスター!$B$7:$D$53,2,FALSE),\"\")","v":""},null,{"$f":"IFERROR(VLOOKUP(O87,商品マスター!$B$7:$D$53,3,FALSE),\"\")","v":""},0,null,{"$f":"IFERROR(VLOOKUP(T87,商品マスター!$B$7:$D$53,2,FALSE),\"\")","v":""},null,{"$f":"IFERROR(VLOOKUP(T87,商品マスター!$B$7:$D$53,3,FALSE),\"\")","v":""},0,null,{"$f":"IFERROR(VLOOKUP(Y87,商品マスター!$B$7:$D$53,2,FALSE),\"\")","v":""},null,{"$f":"IFERROR(VLOOKUP(Y87,商品マスター!$B$7:$D$53,3,FALSE),\"\")","v":""},0,null,{"$f":"IFERROR(VLOOKUP(AD87,商品マスター!$B$7:$D$53,2,FALSE),\"\")","v":""},null,{"$f":"IFERROR(VLOOKUP(AD87,商品マスター!$B$7:$D$53,3,FALSE),\"\")","v":""},0,null,{"$f":"IFERROR(VLOOKUP(AI87,商品マスター!$B$7:$D$53,2,FALSE),\"\")","v":""},null,{"$f":"IFERROR(VLOOKUP(AI87,商品マスター!$B$7:$D$53,3,FALSE),\"\")","v":""},0,null,{"$f":"IFERROR(VLOOKUP(AN87,商品マスター!$B$7:$D$53,2,FALSE),\"\")","v":""},null,{"$f":"IFERROR(VLOOKUP(AN87,商品マスター!$B$7:$D$53,3,FALSE),\"\")","v":""},0,null,{"$f":"IFERROR(VLOOKUP(AS87,商品マスター!$B$7:$D$53,2,FALSE),\"\")","v":""},null,{"$f":"IFERROR(VLOOKUP(AS87,商品マスター!$B$7:$D$53,3,FALSE),\"\")","v":""},0,null,{"$f":"IFERROR(VLOOKUP(AX87,商品マスター!$B$7:$D$53,2,FALSE),\"\")","v":""},null,{"$f":"IFERROR(VLOOKUP(AX87,商品マスター!$B$7:$D$53,3,FALSE),\"\")","v":""},0,null,{"$f":"IFERROR(VLOOKUP(BC87,商品マスター!$B$7:$D$53,2,FALSE),\"\")","v":""},null,{"$f":"IFERROR(VLOOKUP(BC87,商品マスター!$B$7:$D$53,3,FALSE),\"\")","v":""},0,null,{"$f":"IFERROR(VLOOKUP(BH87,商品マスター!$B$7:$D$53,2,FALSE),\"\")","v":""},null,{"$f":"IFERROR(VLOOKUP(BH87,商品マスター!$B$7:$D$53,3,FALSE),\"\")","v":""},0,0,0.1,0,null,0]
["",null,null,null,null,null,null,null,{"$f":"IFERROR(VLOOKUP(H88,得意先マスター!$B$7:$H$103,2,FALSE),\"\")","v":""},{"$f":"IFERROR(VLOOKUP(H88,得意先マスター!$B$7:$H$103,3,FALSE),\"\")","v":""},{"$f":"IFERROR(VLOOKUP(H88,得意先マスター!$B$7:$H$103,4,FALSE),\"\")","v":""},{"$f":"IFERROR(VLOOKUP(H88,得意先マスター!$B$7:$H$103,5,FALSE),\"\")","v":""},{"$f":"IFERROR(VLOOKUP(H88,得意先マスター!$B$7:$H$103,6,FALSE),\"\")","v":""},null,null,{"$f":"IFERROR(VLOOKUP(O88,商品マスター!$B$7:$D$53,2,FALSE),\"\")","v":""},null,{"$f":"IFERROR(VLOOKUP(O88,商品マスター!$B$7:$D$53,3,FALSE),\"\")","v":""},0,null,{"$f":"IFERROR(VLOOKUP(T88,商品マスター!$B$7:$D$53,2,FALSE),\"\")","v":""},null,{"$f":"IFERROR(VLOOKUP(T88,商品マスター!$B$7:$D$53,3,FALSE),\"\")","v":""},0,null,{"$f":"IFERROR(VLOOKUP(Y88,商品マスター!$B$7:$D$53,2,FALSE),\"\")","v":""},null,{"$f":"IFERROR(VLOOKUP(Y88,商品マスター!$B$7:$D$53,3,FALSE),\"\")","v":""},0,null,{"$f":"IFERROR(VLOOKUP(AD88,商品マスター!$B$7:$D$53,2,FALSE),\"\")","v":""},null,{"$f":"IFERROR(VLOOKUP(AD88,商品マスター!$B$7:$D$53,3,FALSE),\"\")","v":""},0,null,{"$f":"IFERROR(VLOOKUP(AI88,商品マスター!$B$7:$D$53,2,FALSE),\"\")","v":""},null,{"$f":"IFERROR(VLOOKUP(AI88,商品マスター!$B$7:$D$53,3,FALSE),\"\")","v":""},0,null,{"$f":"IFERROR(VLOOKUP(AN88,商品マスター!$B$7:$D$53,2,FALSE),\"\")","v":""},null,{"$f":"IFERROR(VLOOKUP(AN88,商品マスター!$B$7:$D$53,3,FALSE),\"\")","v":""},0,null,{"$f":"IFERROR(VLOOKUP(AS88,商品マスター!$B$7:$D$53,2,FALSE),\"\")","v":""},null,{"$f":"IFERROR(VLOOKUP(AS88,商品マスター!$B$7:$D$53,3,FALSE),\"\")","v":""},0,null,{"$f":"IFERROR(VLOOKUP(AX88,商品マスター!$B$7:$D$53,2,FALSE),\"\")","v":""},null,{"$f":"IFERROR(VLOOKUP(AX88,商品マスター!$B$7:$D$53,3,FALSE),\"\")","v":""},0,null,{"$f":"IFERROR(VLOOKUP(BC88,商品マスター!$B$7:$D$53,2,FALSE),\"\")","v":""},null,{"$f":"IFERROR(VLOOKUP(BC88,商品マスター!$B$7:$D$53,3,FALSE),\"\")","v":""},0,null,{"$f":"IFERROR(VLOOKUP(BH88,商品マスター!$B$7:$D$53,2,FALSE),\"\")","v":""},null,{"$f":"IFERROR(VLOOKUP(BH88,商品マスター!$B$7:$D$53,3,FALSE),\"\")","v":""},0,0,0.1,0,null,0]
["",null,null,null,null,null,null,null,{"$f":"IFERROR(VLOOKUP(H89,得意先マスター!$B$7:$H$103,2,FALSE),\"\")","v":""},{"$f":"IFERROR(VLOOKUP(H89,得意先マスター!$B$7:$H$103,3,FALSE),\"\")","v":""},{"$f":"IFERROR(VLOOKUP(H89,得意先マスター!$B$7:$H$103,4,FALSE),\"\")","v":""},{"$f":"IFERROR(VLOOKUP(H89,得意先マスター!$B$7:$H$103,5,FALSE),\"\")","v":""},{"$f":"IFERROR(VLOOKUP(H89,得意先マスター!$B$7:$H$103,6,FALSE),\"\")","v":""},null,null,{"$f":"IFERROR(VLOOKUP(O89,商品マスター!$B$7:$D$53,2,FALSE),\"\")","v":""},null,{"$f":"IFERROR(VLOOKUP(O89,商品マスター!$B$7:$D$53,3,FALSE),\"\")","v":""},0,null,{"$f":"IFERROR(VLOOKUP(T89,商品マスター!$B$7:$D$53,2,FALSE),\"\")","v":""},null,{"$f":"IFERROR(VLOOKUP(T89,商品マスター!$B$7:$D$53,3,FALSE),\"\")","v":""},0,null,{"$f":"IFERROR(VLOOKUP(Y89,商品マスター!$B$7:$D$53,2,FALSE),\"\")","v":""},null,{"$f":"IFERROR(VLOOKUP(Y89,商品マスター!$B$7:$D$53,3,FALSE),\"\")","v":""},0,null,{"$f":"IFERROR(VLOOKUP(AD89,商品マスター!$B$7:$D$53,2,FALSE),\"\")","v":""},null,{"$f":"IFERROR(VLOOKUP(AD89,商品マスター!$B$7:$D$53,3,FALSE),\"\")","v":""},0,null,{"$f":"IFERROR(VLOOKUP(AI89,商品マスター!$B$7:$D$53,2,FALSE),\"\")","v":""},null,{"$f":"IFERROR(VLOOKUP(AI89,商品マスター!$B$7:$D$53,3,FALSE),\"\")","v":""},0,null,{"$f":"IFERROR(VLOOKUP(AN89,商品マスター!$B$7:$D$53,2,FALSE),\"\")","v":""},null,{"$f":"IFERROR(VLOOKUP(AN89,商品マスター!$B$7:$D$53,3,FALSE),\"\")","v":""},0,null,{"$f":"IFERROR(VLOOKUP(AS89,商品マスター!$B$7:$D$53,2,FALSE),\"\")","v":""},null,{"$f":"IFERROR(VLOOKUP(AS89,商品マスター!$B$7:$D$53,3,FALSE),\"\")","v":""},0,null,{"$f":"IFERROR(VLOOKUP(AX89,商品マスター!$B$7:$D$53,2,FALSE),\"\")","v":""},null,{"$f":"IFERROR(VLOOKUP(AX89,商品マスター!$B$7:$D$53,3,FALSE),\"\")","v":""},0,null,{"$f":"IFERROR(VLOOKUP(BC89,商品マスター!$B$7:$D$53,2,FALSE),\"\")","v":""},null,{"$f":"IFERROR(VLOOKUP(BC89,商品マスター!$B$7:$D$53,3,FALSE),\"\")","v":""},0,null,{"$f":"IFERROR(VLOOKUP(BH89,商品マスター!$B$7:$D$53,2,FALSE),\"\")","v":""},null,{"$f":"IFERROR(VLOOKUP(BH89,商品マスター!$B$7:$D$53,3,FALSE),\"\")","v":""},0,0,0.1,0,null,0]
["",null,null,null,null,null,null,null,{"$f":"IFERROR(VLOOKUP(H90,得意先マスター!$B$7:$H$103,2,FALSE),\"\")","v":""},{"$f":"IFERROR(VLOOKUP(H90,得意先マスター!$B$7:$H$103,3,FALSE),\"\")","v":""},{"$f":"IFERROR(VLOOKUP(H90,得意先マスター!$B$7:$H$103,4,FALSE),\"\")","v":""},{"$f":"IFERROR(VLOOKUP(H90,得意先マスター!$B$7:$H$103,5,FALSE),\"\")","v":""},{"$f":"IFERROR(VLOOKUP(H90,得意先マスター!$B$7:$H$103,6,FALSE),\"\")","v":""},null,null,{"$f":"IFERROR(VLOOKUP(O90,商品マスター!$B$7:$D$53,2,FALSE),\"\")","v":""},null,{"$f":"IFERROR(VLOOKUP(O90,商品マスター!$B$7:$D$53,3,FALSE),\"\")","v":""},0,null,{"$f":"IFERROR(VLOOKUP(T90,商品マスター!$B$7:$D$53,2,FALSE),\"\")","v":""},null,{"$f":"IFERROR(VLOOKUP(T90,商品マスター!$B$7:$D$53,3,FALSE),\"\")","v":""},0,null,{"$f":"IFERROR(VLOOKUP(Y90,商品マスター!$B$7:$D$53,2,FALSE),\"\")","v":""},null,{"$f":"IFERROR(VLOOKUP(Y90,商品マスター!$B$7:$D$53,3,FALSE),\"\")","v":""},0,null,{"$f":"IFERROR(VLOOKUP(AD90,商品マスター!$B$7:$D$53,2,FALSE),\"\")","v":""},null,{"$f":"IFERROR(VLOOKUP(AD90,商品マスター!$B$7:$D$53,3,FALSE),\"\")","v":""},0,null,{"$f":"IFERROR(VLOOKUP(AI90,商品マスター!$B$7:$D$53,2,FALSE),\"\")","v":""},null,{"$f":"IFERROR(VLOOKUP(AI90,商品マスター!$B$7:$D$53,3,FALSE),\"\")","v":""},0,null,{"$f":"IFERROR(VLOOKUP(AN90,商品マスター!$B$7:$D$53,2,FALSE),\"\")","v":""},null,{"$f":"IFERROR(VLOOKUP(AN90,商品マスター!$B$7:$D$53,3,FALSE),\"\")","v":""},0,null,{"$f":"IFERROR(VLOOKUP(AS90,商品マスター!$B$7:$D$53,2,FALSE),\"\")","v":""},null,{"$f":"IFERROR(VLOOKUP(AS90,商品マスター!$B$7:$D$53,3,FALSE),\"\")","v":""},0,null,{"$f":"IFERROR(VLOOKUP(AX90,商品マスター!$B$7:$D$53,2,FALSE),\"\")","v":""},null,{"$f":"IFERROR(VLOOKUP(AX90,商品マスター!$B$7:$D$53,3,FALSE),\"\")","v":""},0,null,{"$f":"IFERROR(VLOOKUP(BC90,商品マスター!$B$7:$D$53,2,FALSE),\"\")","v":""},null,{"$f":"IFERROR(VLOOKUP(BC90,商品マスター!$B$7:$D$53,3,FALSE),\"\")","v":""},0,null,{"$f":"IFERROR(VLOOKUP(BH90,商品マスター!$B$7:$D$53,2,FALSE),\"\")","v":""},null,{"$f":"IFERROR(VLOOKUP(BH90,商品マスター!$B$7:$D$53,3,FALSE),\"\")","v":""},0,0,0.1,0,null,0]
["",null,null,null,null,null,null,null,{"$f":"IFERROR(VLOOKUP(H91,得意先マスター!$B$7:$H$103,2,FALSE),\"\")","v":""},{"$f":"IFERROR(VLOOKUP(H91,得意先マスター!$B$7:$H$103,3,FALSE),\"\")","v":""},{"$f":"IFERROR(VLOOKUP(H91,得意先マスター!$B$7:$H$103,4,FALSE),\"\")","v":""},{"$f":"IFERROR(VLOOKUP(H91,得意先マスター!$B$7:$H$103,5,FALSE),\"\")","v":""},{"$f":"IFERROR(VLOOKUP(H91,得意先マスター!$B$7:$H$103,6,FALSE),\"\")","v":""},null,null,{"$f":"IFERROR(VLOOKUP(O91,商品マスター!$B$7:$D$53,2,FALSE),\"\")","v":""},null,{"$f":"IFERROR(VLOOKUP(O91,商品マスター!$B$7:$D$53,3,FALSE),\"\")","v":""},0,null,{"$f":"IFERROR(VLOOKUP(T91,商品マスター!$B$7:$D$53,2,FALSE),\"\")","v":""},null,{"$f":"IFERROR(VLOOKUP(T91,商品マスター!$B$7:$D$53,3,FALSE),\"\")","v":""},0,null,{"$f":"IFERROR(VLOOKUP(Y91,商品マスター!$B$7:$D$53,2,FALSE),\"\")","v":""},null,{"$f":"IFERROR(VLOOKUP(Y91,商品マスター!$B$7:$D$53,3,FALSE),\"\")","v":""},0,null,{"$f":"IFERROR(VLOOKUP(AD91,商品マスター!$B$7:$D$53,2,FALSE),\"\")","v":""},null,{"$f":"IFERROR(VLOOKUP(AD91,商品マスター!$B$7:$D$53,3,FALSE),\"\")","v":""},0,null,{"$f":"IFERROR(VLOOKUP(AI91,商品マスター!$B$7:$D$53,2,FALSE),\"\")","v":""},null,{"$f":"IFERROR(VLOOKUP(AI91,商品マスター!$B$7:$D$53,3,FALSE),\"\")","v":""},0,null,{"$f":"IFERROR(VLOOKUP(AN91,商品マスター!$B$7:$D$53,2,FALSE),\"\")","v":""},null,{"$f":"IFERROR(VLOOKUP(AN91,商品マスター!$B$7:$D$53,3,FALSE),\"\")","v":""},0,null,{"$f":"IFERROR(VLOOKUP(AS91,商品マスター!$B$7:$D$53,2,FALSE),\"\")","v":""},null,{"$f":"IFERROR(VLOOKUP(AS91,商品マスター!$B$7:$D$53,3,FALSE),\"\")","v":""},0,null,{"$f":"IFERROR(VLOOKUP(AX91,商品マスター!$B$7:$D$53,2,FALSE),\"\")","v":""},null,{"$f":"IFERROR(VLOOKUP(AX91,商品マスター!$B$7:$D$53,3,FALSE),\"\")","v":""},0,null,{"$f":"IFERROR(VLOOKUP(BC91,商品マスター!$B$7:$D$53,2,FALSE),\"\")","v":""},null,{"$f":"IFERROR(VLOOKUP(BC91,商品マスター!$B$7:$D$53,3,FALSE),\"\")","v":""},0,null,{"$f":"IFERROR(VLOOKUP(BH91,商品マスター!$B$7:$D$53,2,FALSE),\"\")","v":""},null,{"$f":"IFERROR(VLOOKUP(BH91,商品マスター!$B$7:$D$53,3,FALSE),\"\")","v":""},0,0,0.1,0,null,0]
["",null,null,null,null,null,null,null,{"$f":"IFERROR(VLOOKUP(H92,得意先マスター!$B$7:$H$103,2,FALSE),\"\")","v":""},{"$f":"IFERROR(VLOOKUP(H92,得意先マスター!$B$7:$H$103,3,FALSE),\"\")","v":""},{"$f":"IFERROR(VLOOKUP(H92,得意先マスター!$B$7:$H$103,4,FALSE),\"\")","v":""},{"$f":"IFERROR(VLOOKUP(H92,得意先マスター!$B$7:$H$103,5,FALSE),\"\")","v":""},{"$f":"IFERROR(VLOOKUP(H92,得意先マスター!$B$7:$H$103,6,FALSE),\"\")","v":""},null,null,{"$f":"IFERROR(VLOOKUP(O92,商品マスター!$B$7:$D$53,2,FALSE),\"\")","v":""},null,{"$f":"IFERROR(VLOOKUP(O92,商品マスター!$B$7:$D$53,3,FALSE),\"\")","v":""},0,null,{"$f":"IFERROR(VLOOKUP(T92,商品マスター!$B$7:$D$53,2,FALSE),\"\")","v":""},null,{"$f":"IFERROR(VLOOKUP(T92,商品マスター!$B$7:$D$53,3,FALSE),\"\")","v":""},0,null,{"$f":"IFERROR(VLOOKUP(Y92,商品マスター!$B$7:$D$53,2,FALSE),\"\")","v":""},null,{"$f":"IFERROR(VLOOKUP(Y92,商品マスター!$B$7:$D$53,3,FALSE),\"\")","v":""},0,null,{"$f":"IFERROR(VLOOKUP(AD92,商品マスター!$B$7:$D$53,2,FALSE),\"\")","v":""},null,{"$f":"IFERROR(VLOOKUP(AD92,商品マスター!$B$7:$D$53,3,FALSE),\"\")","v":""},0,null,{"$f":"IFERROR(VLOOKUP(AI92,商品マスター!$B$7:$D$53,2,FALSE),\"\")","v":""},null,{"$f":"IFERROR(VLOOKUP(AI92,商品マスター!$B$7:$D$53,3,FALSE),\"\")","v":""},0,null,{"$f":"IFERROR(VLOOKUP(AN92,商品マスター!$B$7:$D$53,2,FALSE),\"\")","v":""},null,{"$f":"IFERROR(VLOOKUP(AN92,商品マスター!$B$7:$D$53,3,FALSE),\"\")","v":""},0,null,{"$f":"IFERROR(VLOOKUP(AS92,商品マスター!$B$7:$D$53,2,FALSE),\"\")","v":""},null,{"$f":"IFERROR(VLOOKUP(AS92,商品マスター!$B$7:$D$53,3,FALSE),\"\")","v":""},0,null,{"$f":"IFERROR(VLOOKUP(AX92,商品マスター!$B$7:$D$53,2,FALSE),\"\")","v":""},null,{"$f":"IFERROR(VLOOKUP(AX92,商品マスター!$B$7:$D$53,3,FALSE),\"\")","v":""},0,null,{"$f":"IFERROR(VLOOKUP(BC92,商品マスター!$B$7:$D$53,2,FALSE),\"\")","v":""},null,{"$f":"IFERROR(VLOOKUP(BC92,商品マスター!$B$7:$D$53,3,FALSE),\"\")","v":""},0,null,{"$f":"IFERROR(VLOOKUP(BH92,商品マスター!$B$7:$D$53,2,FALSE),\"\")","v":""},null,{"$f":"IFERROR(VLOOKUP(BH92,商品マスター!$B$7:$D$53,3,FALSE),\"\")","v":""},0,0,0.1,0,null,0]
["",null,null,null,null,null,null,null,{"$f":"IFERROR(VLOOKUP(H93,得意先マスター!$B$7:$H$103,2,FALSE),\"\")","v":""},{"$f":"IFERROR(VLOOKUP(H93,得意先マスター!$B$7:$H$103,3,FALSE),\"\")","v":""},{"$f":"IFERROR(VLOOKUP(H93,得意先マスター!$B$7:$H$103,4,FALSE),\"\")","v":""},{"$f":"IFERROR(VLOOKUP(H93,得意先マスター!$B$7:$H$103,5,FALSE),\"\")","v":""},{"$f":"IFERROR(VLOOKUP(H93,得意先マスター!$B$7:$H$103,6,FALSE),\"\")","v":""},null,null,{"$f":"IFERROR(VLOOKUP(O93,商品マスター!$B$7:$D$53,2,FALSE),\"\")","v":""},null,{"$f":"IFERROR(VLOOKUP(O93,商品マスター!$B$7:$D$53,3,FALSE),\"\")","v":""},0,null,{"$f":"IFERROR(VLOOKUP(T93,商品マスター!$B$7:$D$53,2,FALSE),\"\")","v":""},null,{"$f":"IFERROR(VLOOKUP(T93,商品マスター!$B$7:$D$53,3,FALSE),\"\")","v":""},0,null,{"$f":"IFERROR(VLOOKUP(Y93,商品マスター!$B$7:$D$53,2,FALSE),\"\")","v":""},null,{"$f":"IFERROR(VLOOKUP(Y93,商品マスター!$B$7:$D$53,3,FALSE),\"\")","v":""},0,null,{"$f":"IFERROR(VLOOKUP(AD93,商品マスター!$B$7:$D$53,2,FALSE),\"\")","v":""},null,{"$f":"IFERROR(VLOOKUP(AD93,商品マスター!$B$7:$D$53,3,FALSE),\"\")","v":""},0,null,{"$f":"IFERROR(VLOOKUP(AI93,商品マスター!$B$7:$D$53,2,FALSE),\"\")","v":""},null,{"$f":"IFERROR(VLOOKUP(AI93,商品マスター!$B$7:$D$53,3,FALSE),\"\")","v":""},0,null,{"$f":"IFERROR(VLOOKUP(AN93,商品マスター!$B$7:$D$53,2,FALSE),\"\")","v":""},null,{"$f":"IFERROR(VLOOKUP(AN93,商品マスター!$B$7:$D$53,3,FALSE),\"\")","v":""},0,null,{"$f":"IFERROR(VLOOKUP(AS93,商品マスター!$B$7:$D$53,2,FALSE),\"\")","v":""},null,{"$f":"IFERROR(VLOOKUP(AS93,商品マスター!$B$7:$D$53,3,FALSE),\"\")","v":""},0,null,{"$f":"IFERROR(VLOOKUP(AX93,商品マスター!$B$7:$D$53,2,FALSE),\"\")","v":""},null,{"$f":"IFERROR(VLOOKUP(AX93,商品マスター!$B$7:$D$53,3,FALSE),\"\")","v":""},0,null,{"$f":"IFERROR(VLOOKUP(BC93,商品マスター!$B$7:$D$53,2,FALSE),\"\")","v":""},null,{"$f":"IFERROR(VLOOKUP(BC93,商品マスター!$B$7:$D$53,3,FALSE),\"\")","v":""},0,null,{"$f":"IFERROR(VLOOKUP(BH93,商品マスター!$B$7:$D$53,2,FALSE),\"\")","v":""},null,{"$f":"IFERROR(VLOOKUP(BH93,商品マスター!$B$7:$D$53,3,FALSE),\"\")","v":""},0,0,0.1,0,null,0]
["",null,null,null,null,null,null,null,{"$f":"IFERROR(VLOOKUP(H94,得意先マスター!$B$7:$H$103,2,FALSE),\"\")","v":""},{"$f":"IFERROR(VLOOKUP(H94,得意先マスター!$B$7:$H$103,3,FALSE),\"\")","v":""},{"$f":"IFERROR(VLOOKUP(H94,得意先マスター!$B$7:$H$103,4,FALSE),\"\")","v":""},{"$f":"IFERROR(VLOOKUP(H94,得意先マスター!$B$7:$H$103,5,FALSE),\"\")","v":""},{"$f":"IFERROR(VLOOKUP(H94,得意先マスター!$B$7:$H$103,6,FALSE),\"\")","v":""},null,null,{"$f":"IFERROR(VLOOKUP(O94,商品マスター!$B$7:$D$53,2,FALSE),\"\")","v":""},null,{"$f":"IFERROR(VLOOKUP(O94,商品マスター!$B$7:$D$53,3,FALSE),\"\")","v":""},0,null,{"$f":"IFERROR(VLOOKUP(T94,商品マスター!$B$7:$D$53,2,FALSE),\"\")","v":""},null,{"$f":"IFERROR(VLOOKUP(T94,商品マスター!$B$7:$D$53,3,FALSE),\"\")","v":""},0,null,{"$f":"IFERROR(VLOOKUP(Y94,商品マスター!$B$7:$D$53,2,FALSE),\"\")","v":""},null,{"$f":"IFERROR(VLOOKUP(Y94,商品マスター!$B$7:$D$53,3,FALSE),\"\")","v":""},0,null,{"$f":"IFERROR(VLOOKUP(AD94,商品マスター!$B$7:$D$53,2,FALSE),\"\")","v":""},null,{"$f":"IFERROR(VLOOKUP(AD94,商品マスター!$B$7:$D$53,3,FALSE),\"\")","v":""},0,null,{"$f":"IFERROR(VLOOKUP(AI94,商品マスター!$B$7:$D$53,2,FALSE),\"\")","v":""},null,{"$f":"IFERROR(VLOOKUP(AI94,商品マスター!$B$7:$D$53,3,FALSE),\"\")","v":""},0,null,{"$f":"IFERROR(VLOOKUP(AN94,商品マスター!$B$7:$D$53,2,FALSE),\"\")","v":""},null,{"$f":"IFERROR(VLOOKUP(AN94,商品マスター!$B$7:$D$53,3,FALSE),\"\")","v":""},0,null,{"$f":"IFERROR(VLOOKUP(AS94,商品マスター!$B$7:$D$53,2,FALSE),\"\")","v":""},null,{"$f":"IFERROR(VLOOKUP(AS94,商品マスター!$B$7:$D$53,3,FALSE),\"\")","v":""},0,null,{"$f":"IFERROR(VLOOKUP(AX94,商品マスター!$B$7:$D$53,2,FALSE),\"\")","v":""},null,{"$f":"IFERROR(VLOOKUP(AX94,商品マスター!$B$7:$D$53,3,FALSE),\"\")","v":""},0,null,{"$f":"IFERROR(VLOOKUP(BC94,商品マスター!$B$7:$D$53,2,FALSE),\"\")","v":""},null,{"$f":"IFERROR(VLOOKUP(BC94,商品マスター!$B$7:$D$53,3,FALSE),\"\")","v":""},0,null,{"$f":"IFERROR(VLOOKUP(BH94,商品マスター!$B$7:$D$53,2,FALSE),\"\")","v":""},null,{"$f":"IFERROR(VLOOKUP(BH94,商品マスター!$B$7:$D$53,3,FALSE),\"\")","v":""},0,0,0.1,0,null,0]
["",null,null,null,null,null,null,null,{"$f":"IFERROR(VLOOKUP(H95,得意先マスター!$B$7:$H$103,2,FALSE),\"\")","v":""},{"$f":"IFERROR(VLOOKUP(H95,得意先マスター!$B$7:$H$103,3,FALSE),\"\")","v":""},{"$f":"IFERROR(VLOOKUP(H95,得意先マスター!$B$7:$H$103,4,FALSE),\"\")","v":""},{"$f":"IFERROR(VLOOKUP(H95,得意先マスター!$B$7:$H$103,5,FALSE),\"\")","v":""},{"$f":"IFERROR(VLOOKUP(H95,得意先マスター!$B$7:$H$103,6,FALSE),\"\")","v":""},null,null,{"$f":"IFERROR(VLOOKUP(O95,商品マスター!$B$7:$D$53,2,FALSE),\"\")","v":""},null,{"$f":"IFERROR(VLOOKUP(O95,商品マスター!$B$7:$D$53,3,FALSE),\"\")","v":""},0,null,{"$f":"IFERROR(VLOOKUP(T95,商品マスター!$B$7:$D$53,2,FALSE),\"\")","v":""},null,{"$f":"IFERROR(VLOOKUP(T95,商品マスター!$B$7:$D$53,3,FALSE),\"\")","v":""},0,null,{"$f":"IFERROR(VLOOKUP(Y95,商品マスター!$B$7:$D$53,2,FALSE),\"\")","v":""},null,{"$f":"IFERROR(VLOOKUP(Y95,商品マスター!$B$7:$D$53,3,FALSE),\"\")","v":""},0,null,{"$f":"IFERROR(VLOOKUP(AD95,商品マスター!$B$7:$D$53,2,FALSE),\"\")","v":""},null,{"$f":"IFERROR(VLOOKUP(AD95,商品マスター!$B$7:$D$53,3,FALSE),\"\")","v":""},0,null,{"$f":"IFERROR(VLOOKUP(AI95,商品マスター!$B$7:$D$53,2,FALSE),\"\")","v":""},null,{"$f":"IFERROR(VLOOKUP(AI95,商品マスター!$B$7:$D$53,3,FALSE),\"\")","v":""},0,null,{"$f":"IFERROR(VLOOKUP(AN95,商品マスター!$B$7:$D$53,2,FALSE),\"\")","v":""},null,{"$f":"IFERROR(VLOOKUP(AN95,商品マスター!$B$7:$D$53,3,FALSE),\"\")","v":""},0,null,{"$f":"IFERROR(VLOOKUP(AS95,商品マスター!$B$7:$D$53,2,FALSE),\"\")","v":""},null,{"$f":"IFERROR(VLOOKUP(AS95,商品マスター!$B$7:$D$53,3,FALSE),\"\")","v":""},0,null,{"$f":"IFERROR(VLOOKUP(AX95,商品マスター!$B$7:$D$53,2,FALSE),\"\")","v":""},null,{"$f":"IFERROR(VLOOKUP(AX95,商品マスター!$B$7:$D$53,3,FALSE),\"\")","v":""},0,null,{"$f":"IFERROR(VLOOKUP(BC95,商品マスター!$B$7:$D$53,2,FALSE),\"\")","v":""},null,{"$f":"IFERROR(VLOOKUP(BC95,商品マスター!$B$7:$D$53,3,FALSE),\"\")","v":""},0,null,{"$f":"IFERROR(VLOOKUP(BH95,商品マスター!$B$7:$D$53,2,FALSE),\"\")","v":""},null,{"$f":"IFERROR(VLOOKUP(BH95,商品マスター!$B$7:$D$53,3,FALSE),\"\")","v":""},0,0,0.1,0,null,0]
["",null,null,null,null,null,null,null,{"$f":"IFERROR(VLOOKUP(H96,得意先マスター!$B$7:$H$103,2,FALSE),\"\")","v":""},{"$f":"IFERROR(VLOOKUP(H96,得意先マスター!$B$7:$H$103,3,FALSE),\"\")","v":""},{"$f":"IFERROR(VLOOKUP(H96,得意先マスター!$B$7:$H$103,4,FALSE),\"\")","v":""},{"$f":"IFERROR(VLOOKUP(H96,得意先マスター!$B$7:$H$103,5,FALSE),\"\")","v":""},{"$f":"IFERROR(VLOOKUP(H96,得意先マスター!$B$7:$H$103,6,FALSE),\"\")","v":""},null,null,{"$f":"IFERROR(VLOOKUP(O96,商品マスター!$B$7:$D$53,2,FALSE),\"\")","v":""},null,{"$f":"IFERROR(VLOOKUP(O96,商品マスター!$B$7:$D$53,3,FALSE),\"\")","v":""},0,null,{"$f":"IFERROR(VLOOKUP(T96,商品マスター!$B$7:$D$53,2,FALSE),\"\")","v":""},null,{"$f":"IFERROR(VLOOKUP(T96,商品マスター!$B$7:$D$53,3,FALSE),\"\")","v":""},0,null,{"$f":"IFERROR(VLOOKUP(Y96,商品マスター!$B$7:$D$53,2,FALSE),\"\")","v":""},null,{"$f":"IFERROR(VLOOKUP(Y96,商品マスター!$B$7:$D$53,3,FALSE),\"\")","v":""},0,null,{"$f":"IFERROR(VLOOKUP(AD96,商品マスター!$B$7:$D$53,2,FALSE),\"\")","v":""},null,{"$f":"IFERROR(VLOOKUP(AD96,商品マスター!$B$7:$D$53,3,FALSE),\"\")","v":""},0,null,{"$f":"IFERROR(VLOOKUP(AI96,商品マスター!$B$7:$D$53,2,FALSE),\"\")","v":""},null,{"$f":"IFERROR(VLOOKUP(AI96,商品マスター!$B$7:$D$53,3,FALSE),\"\")","v":""},0,null,{"$f":"IFERROR(VLOOKUP(AN96,商品マスター!$B$7:$D$53,2,FALSE),\"\")","v":""},null,{"$f":"IFERROR(VLOOKUP(AN96,商品マスター!$B$7:$D$53,3,FALSE),\"\")","v":""},0,null,{"$f":"IFERROR(VLOOKUP(AS96,商品マスター!$B$7:$D$53,2,FALSE),\"\")","v":""},null,{"$f":"IFERROR(VLOOKUP(AS96,商品マスター!$B$7:$D$53,3,FALSE),\"\")","v":""},0,null,{"$f":"IFERROR(VLOOKUP(AX96,商品マスター!$B$7:$D$53,2,FALSE),\"\")","v":""},null,{"$f":"IFERROR(VLOOKUP(AX96,商品マスター!$B$7:$D$53,3,FALSE),\"\")","v":""},0,null,{"$f":"IFERROR(VLOOKUP(BC96,商品マスター!$B$7:$D$53,2,FALSE),\"\")","v":""},null,{"$f":"IFERROR(VLOOKUP(BC96,商品マスター!$B$7:$D$53,3,FALSE),\"\")","v":""},0,null,{"$f":"IFERROR(VLOOKUP(BH96,商品マスター!$B$7:$D$53,2,FALSE),\"\")","v":""},null,{"$f":"IFERROR(VLOOKUP(BH96,商品マスター!$B$7:$D$53,3,FALSE),\"\")","v":""},0,0,0.1,0,null,0]
["",null,null,null,null,null,null,null,{"$f":"IFERROR(VLOOKUP(H97,得意先マスター!$B$7:$H$103,2,FALSE),\"\")","v":""},{"$f":"IFERROR(VLOOKUP(H97,得意先マスター!$B$7:$H$103,3,FALSE),\"\")","v":""},{"$f":"IFERROR(VLOOKUP(H97,得意先マスター!$B$7:$H$103,4,FALSE),\"\")","v":""},{"$f":"IFERROR(VLOOKUP(H97,得意先マスター!$B$7:$H$103,5,FALSE),\"\")","v":""},{"$f":"IFERROR(VLOOKUP(H97,得意先マスター!$B$7:$H$103,6,FALSE),\"\")","v":""},null,null,{"$f":"IFERROR(VLOOKUP(O97,商品マスター!$B$7:$D$53,2,FALSE),\"\")","v":""},null,{"$f":"IFERROR(VLOOKUP(O97,商品マスター!$B$7:$D$53,3,FALSE),\"\")","v":""},0,null,{"$f":"IFERROR(VLOOKUP(T97,商品マスター!$B$7:$D$53,2,FALSE),\"\")","v":""},null,{"$f":"IFERROR(VLOOKUP(T97,商品マスター!$B$7:$D$53,3,FALSE),\"\")","v":""},0,null,{"$f":"IFERROR(VLOOKUP(Y97,商品マスター!$B$7:$D$53,2,FALSE),\"\")","v":""},null,{"$f":"IFERROR(VLOOKUP(Y97,商品マスター!$B$7:$D$53,3,FALSE),\"\")","v":""},0,null,{"$f":"IFERROR(VLOOKUP(AD97,商品マスター!$B$7:$D$53,2,FALSE),\"\")","v":""},null,{"$f":"IFERROR(VLOOKUP(AD97,商品マスター!$B$7:$D$53,3,FALSE),\"\")","v":""},0,null,{"$f":"IFERROR(VLOOKUP(AI97,商品マスター!$B$7:$D$53,2,FALSE),\"\")","v":""},null,{"$f":"IFERROR(VLOOKUP(AI97,商品マスター!$B$7:$D$53,3,FALSE),\"\")","v":""},0,null,{"$f":"IFERROR(VLOOKUP(AN97,商品マスター!$B$7:$D$53,2,FALSE),\"\")","v":""},null,{"$f":"IFERROR(VLOOKUP(AN97,商品マスター!$B$7:$D$53,3,FALSE),\"\")","v":""},0,null,{"$f":"IFERROR(VLOOKUP(AS97,商品マスター!$B$7:$D$53,2,FALSE),\"\")","v":""},null,{"$f":"IFERROR(VLOOKUP(AS97,商品マスター!$B$7:$D$53,3,FALSE),\"\")","v":""},0,null,{"$f":"IFERROR(VLOOKUP(AX97,商品マスター!$B$7:$D$53,2,FALSE),\"\")","v":""},null,{"$f":"IFERROR(VLOOKUP(AX97,商品マスター!$B$7:$D$53,3,FALSE),\"\")","v":""},0,null,{"$f":"IFERROR(VLOOKUP(BC97,商品マスター!$B$7:$D$53,2,FALSE),\"\")","v":""},null,{"$f":"IFERROR(VLOOKUP(BC97,商品マスター!$B$7:$D$53,3,FALSE),\"\")","v":""},0,null,{"$f":"IFERROR(VLOOKUP(BH97,商品マスター!$B$7:$D$53,2,FALSE),\"\")","v":""},null,{"$f":"IFERROR(VLOOKUP(BH97,商品マスター!$B$7:$D$53,3,FALSE),\"\")","v":""},0,0,0.1,0,null,0]
["",null,null,null,null,null,null,null,{"$f":"IFERROR(VLOOKUP(H98,得意先マスター!$B$7:$H$103,2,FALSE),\"\")","v":""},{"$f":"IFERROR(VLOOKUP(H98,得意先マスター!$B$7:$H$103,3,FALSE),\"\")","v":""},{"$f":"IFERROR(VLOOKUP(H98,得意先マスター!$B$7:$H$103,4,FALSE),\"\")","v":""},{"$f":"IFERROR(VLOOKUP(H98,得意先マスター!$B$7:$H$103,5,FALSE),\"\")","v":""},{"$f":"IFERROR(VLOOKUP(H98,得意先マスター!$B$7:$H$103,6,FALSE),\"\")","v":""},null,null,{"$f":"IFERROR(VLOOKUP(O98,商品マスター!$B$7:$D$53,2,FALSE),\"\")","v":""},null,{"$f":"IFERROR(VLOOKUP(O98,商品マスター!$B$7:$D$53,3,FALSE),\"\")","v":""},0,null,{"$f":"IFERROR(VLOOKUP(T98,商品マスター!$B$7:$D$53,2,FALSE),\"\")","v":""},null,{"$f":"IFERROR(VLOOKUP(T98,商品マスター!$B$7:$D$53,3,FALSE),\"\")","v":""},0,null,{"$f":"IFERROR(VLOOKUP(Y98,商品マスター!$B$7:$D$53,2,FALSE),\"\")","v":""},null,{"$f":"IFERROR(VLOOKUP(Y98,商品マスター!$B$7:$D$53,3,FALSE),\"\")","v":""},0,null,{"$f":"IFERROR(VLOOKUP(AD98,商品マスター!$B$7:$D$53,2,FALSE),\"\")","v":""},null,{"$f":"IFERROR(VLOOKUP(AD98,商品マスター!$B$7:$D$53,3,FALSE),\"\")","v":""},0,null,{"$f":"IFERROR(VLOOKUP(AI98,商品マスター!$B$7:$D$53,2,FALSE),\"\")","v":""},null,{"$f":"IFERROR(VLOOKUP(AI98,商品マスター!$B$7:$D$53,3,FALSE),\"\")","v":""},0,null,{"$f":"IFERROR(VLOOKUP(AN98,商品マスター!$B$7:$D$53,2,FALSE),\"\")","v":""},null,{"$f":"IFERROR(VLOOKUP(AN98,商品マスター!$B$7:$D$53,3,FALSE),\"\")","v":""},0,null,{"$f":"IFERROR(VLOOKUP(AS98,商品マスター!$B$7:$D$53,2,FALSE),\"\")","v":""},null,{"$f":"IFERROR(VLOOKUP(AS98,商品マスター!$B$7:$D$53,3,FALSE),\"\")","v":""},0,null,{"$f":"IFERROR(VLOOKUP(AX98,商品マスター!$B$7:$D$53,2,FALSE),\"\")","v":""},null,{"$f":"IFERROR(VLOOKUP(AX98,商品マスター!$B$7:$D$53,3,FALSE),\"\")","v":""},0,null,{"$f":"IFERROR(VLOOKUP(BC98,商品マスター!$B$7:$D$53,2,FALSE),\"\")","v":""},null,{"$f":"IFERROR(VLOOKUP(BC98,商品マスター!$B$7:$D$53,3,FALSE),\"\")","v":""},0,null,{"$f":"IFERROR(VLOOKUP(BH98,商品マスター!$B$7:$D$53,2,FALSE),\"\")","v":""},null,{"$f":"IFERROR(VLOOKUP(BH98,商品マスター!$B$7:$D$53,3,FALSE),\"\")","v":""},0,0,0.1,0,null,0]
["",null,null,null,null,null,null,null,{"$f":"IFERROR(VLOOKUP(H99,得意先マスター!$B$7:$H$103,2,FALSE),\"\")","v":""},{"$f":"IFERROR(VLOOKUP(H99,得意先マスター!$B$7:$H$103,3,FALSE),\"\")","v":""},{"$f":"IFERROR(VLOOKUP(H99,得意先マスター!$B$7:$H$103,4,FALSE),\"\")","v":""},{"$f":"IFERROR(VLOOKUP(H99,得意先マスター!$B$7:$H$103,5,FALSE),\"\")","v":""},{"$f":"IFERROR(VLOOKUP(H99,得意先マスター!$B$7:$H$103,6,FALSE),\"\")","v":""},null,null,{"$f":"IFERROR(VLOOKUP(O99,商品マスター!$B$7:$D$53,2,FALSE),\"\")","v":""},null,{"$f":"IFERROR(VLOOKUP(O99,商品マスター!$B$7:$D$53,3,FALSE),\"\")","v":""},0,null,{"$f":"IFERROR(VLOOKUP(T99,商品マスター!$B$7:$D$53,2,FALSE),\"\")","v":""},null,{"$f":"IFERROR(VLOOKUP(T99,商品マスター!$B$7:$D$53,3,FALSE),\"\")","v":""},0,null,{"$f":"IFERROR(VLOOKUP(Y99,商品マスター!$B$7:$D$53,2,FALSE),\"\")","v":""},null,{"$f":"IFERROR(VLOOKUP(Y99,商品マスター!$B$7:$D$53,3,FALSE),\"\")","v":""},0,null,{"$f":"IFERROR(VLOOKUP(AD99,商品マスター!$B$7:$D$53,2,FALSE),\"\")","v":""},null,{"$f":"IFERROR(VLOOKUP(AD99,商品マスター!$B$7:$D$53,3,FALSE),\"\")","v":""},0,null,{"$f":"IFERROR(VLOOKUP(AI99,商品マスター!$B$7:$D$53,2,FALSE),\"\")","v":""},null,{"$f":"IFERROR(VLOOKUP(AI99,商品マスター!$B$7:$D$53,3,FALSE),\"\")","v":""},0,null,{"$f":"IFERROR(VLOOKUP(AN99,商品マスター!$B$7:$D$53,2,FALSE),\"\")","v":""},null,{"$f":"IFERROR(VLOOKUP(AN99,商品マスター!$B$7:$D$53,3,FALSE),\"\")","v":""},0,null,{"$f":"IFERROR(VLOOKUP(AS99,商品マスター!$B$7:$D$53,2,FALSE),\"\")","v":""},null,{"$f":"IFERROR(VLOOKUP(AS99,商品マスター!$B$7:$D$53,3,FALSE),\"\")","v":""},0,null,{"$f":"IFERROR(VLOOKUP(AX99,商品マスター!$B$7:$D$53,2,FALSE),\"\")","v":""},null,{"$f":"IFERROR(VLOOKUP(AX99,商品マスター!$B$7:$D$53,3,FALSE),\"\")","v":""},0,null,{"$f":"IFERROR(VLOOKUP(BC99,商品マスター!$B$7:$D$53,2,FALSE),\"\")","v":""},null,{"$f":"IFERROR(VLOOKUP(BC99,商品マスター!$B$7:$D$53,3,FALSE),\"\")","v":""},0,null,{"$f":"IFERROR(VLOOKUP(BH99,商品マスター!$B$7:$D$53,2,FALSE),\"\")","v":""},null,{"$f":"IFERROR(VLOOKUP(BH99,商品マスター!$B$7:$D$53,3,FALSE),\"\")","v":""},0,0,0.1,0,null,0]
["",null,null,null,null,null,null,null,{"$f":"IFERROR(VLOOKUP(H100,得意先マスター!$B$7:$H$103,2,FALSE),\"\")","v":""},{"$f":"IFERROR(VLOOKUP(H100,得意先マスター!$B$7:$H$103,3,FALSE),\"\")","v":""},{"$f":"IFERROR(VLOOKUP(H100,得意先マスター!$B$7:$H$103,4,FALSE),\"\")","v":""},{"$f":"IFERROR(VLOOKUP(H100,得意先マスター!$B$7:$H$103,5,FALSE),\"\")","v":""},{"$f":"IFERROR(VLOOKUP(H100,得意先マスター!$B$7:$H$103,6,FALSE),\"\")","v":""},null,null,{"$f":"IFERROR(VLOOKUP(O100,商品マスター!$B$7:$D$53,2,FALSE),\"\")","v":""},null,{"$f":"IFERROR(VLOOKUP(O100,商品マスター!$B$7:$D$53,3,FALSE),\"\")","v":""},0,null,{"$f":"IFERROR(VLOOKUP(T100,商品マスター!$B$7:$D$53,2,FALSE),\"\")","v":""},null,{"$f":"IFERROR(VLOOKUP(T100,商品マスター!$B$7:$D$53,3,FALSE),\"\")","v":""},0,null,{"$f":"IFERROR(VLOOKUP(Y100,商品マスター!$B$7:$D$53,2,FALSE),\"\")","v":""},null,{"$f":"IFERROR(VLOOKUP(Y100,商品マスター!$B$7:$D$53,3,FALSE),\"\")","v":""},0,null,{"$f":"IFERROR(VLOOKUP(AD100,商品マスター!$B$7:$D$53,2,FALSE),\"\")","v":""},null,{"$f":"IFERROR(VLOOKUP(AD100,商品マスター!$B$7:$D$53,3,FALSE),\"\")","v":""},0,null,{"$f":"IFERROR(VLOOKUP(AI100,商品マスター!$B$7:$D$53,2,FALSE),\"\")","v":""},null,{"$f":"IFERROR(VLOOKUP(AI100,商品マスター!$B$7:$D$53,3,FALSE),\"\")","v":""},0,null,{"$f":"IFERROR(VLOOKUP(AN100,商品マスター!$B$7:$D$53,2,FALSE),\"\")","v":""},null,{"$f":"IFERROR(VLOOKUP(AN100,商品マスター!$B$7:$D$53,3,FALSE),\"\")","v":""},0,null,{"$f":"IFERROR(VLOOKUP(AS100,商品マスター!$B$7:$D$53,2,FALSE),\"\")","v":""},null,{"$f":"IFERROR(VLOOKUP(AS100,商品マスター!$B$7:$D$53,3,FALSE),\"\")","v":""},0,null,{"$f":"IFERROR(VLOOKUP(AX100,商品マスター!$B$7:$D$53,2,FALSE),\"\")","v":""},null,{"$f":"IFERROR(VLOOKUP(AX100,商品マスター!$B$7:$D$53,3,FALSE),\"\")","v":""},0,null,{"$f":"IFERROR(VLOOKUP(BC100,商品マスター!$B$7:$D$53,2,FALSE),\"\")","v":""},null,{"$f":"IFERROR(VLOOKUP(BC100,商品マスター!$B$7:$D$53,3,FALSE),\"\")","v":""},0,null,{"$f":"IFERROR(VLOOKUP(BH100,商品マスター!$B$7:$D$53,2,FALSE),\"\")","v":""},null,{"$f":"IFERROR(VLOOKUP(BH100,商品マスター!$B$7:$D$53,3,FALSE),\"\")","v":""},0,0,0.1,0,null,0]
["",null,null,null,null,null,null,null,{"$f":"IFERROR(VLOOKUP(H101,得意先マスター!$B$7:$H$103,2,FALSE),\"\")","v":""},{"$f":"IFERROR(VLOOKUP(H101,得意先マスター!$B$7:$H$103,3,FALSE),\"\")","v":""},{"$f":"IFERROR(VLOOKUP(H101,得意先マスター!$B$7:$H$103,4,FALSE),\"\")","v":""},{"$f":"IFERROR(VLOOKUP(H101,得意先マスター!$B$7:$H$103,5,FALSE),\"\")","v":""},{"$f":"IFERROR(VLOOKUP(H101,得意先マスター!$B$7:$H$103,6,FALSE),\"\")","v":""},null,null,{"$f":"IFERROR(VLOOKUP(O101,商品マスター!$B$7:$D$53,2,FALSE),\"\")","v":""},null,{"$f":"IFERROR(VLOOKUP(O101,商品マスター!$B$7:$D$53,3,FALSE),\"\")","v":""},0,null,{"$f":"IFERROR(VLOOKUP(T101,商品マスター!$B$7:$D$53,2,FALSE),\"\")","v":""},null,{"$f":"IFERROR(VLOOKUP(T101,商品マスター!$B$7:$D$53,3,FALSE),\"\")","v":""},0,null,{"$f":"IFERROR(VLOOKUP(Y101,商品マスター!$B$7:$D$53,2,FALSE),\"\")","v":""},null,{"$f":"IFERROR(VLOOKUP(Y101,商品マスター!$B$7:$D$53,3,FALSE),\"\")","v":""},0,null,{"$f":"IFERROR(VLOOKUP(AD101,商品マスター!$B$7:$D$53,2,FALSE),\"\")","v":""},null,{"$f":"IFERROR(VLOOKUP(AD101,商品マスター!$B$7:$D$53,3,FALSE),\"\")","v":""},0,null,{"$f":"IFERROR(VLOOKUP(AI101,商品マスター!$B$7:$D$53,2,FALSE),\"\")","v":""},null,{"$f":"IFERROR(VLOOKUP(AI101,商品マスター!$B$7:$D$53,3,FALSE),\"\")","v":""},0,null,{"$f":"IFERROR(VLOOKUP(AN101,商品マスター!$B$7:$D$53,2,FALSE),\"\")","v":""},null,{"$f":"IFERROR(VLOOKUP(AN101,商品マスター!$B$7:$D$53,3,FALSE),\"\")","v":""},0,null,{"$f":"IFERROR(VLOOKUP(AS101,商品マスター!$B$7:$D$53,2,FALSE),\"\")","v":""},null,{"$f":"IFERROR(VLOOKUP(AS101,商品マスター!$B$7:$D$53,3,FALSE),\"\")","v":""},0,null,{"$f":"IFERROR(VLOOKUP(AX101,商品マスター!$B$7:$D$53,2,FALSE),\"\")","v":""},null,{"$f":"IFERROR(VLOOKUP(AX101,商品マスター!$B$7:$D$53,3,FALSE),\"\")","v":""},0,null,{"$f":"IFERROR(VLOOKUP(BC101,商品マスター!$B$7:$D$53,2,FALSE),\"\")","v":""},null,{"$f":"IFERROR(VLOOKUP(BC101,商品マスター!$B$7:$D$53,3,FALSE),\"\")","v":""},0,null,{"$f":"IFERROR(VLOOKUP(BH101,商品マスター!$B$7:$D$53,2,FALSE),\"\")","v":""},null,{"$f":"IFERROR(VLOOKUP(BH101,商品マスター!$B$7:$D$53,3,FALSE),\"\")","v":""},0,0,0.1,0,null,0]
["",null,null,null,null,null,null,null,{"$f":"IFERROR(VLOOKUP(H102,得意先マスター!$B$7:$H$103,2,FALSE),\"\")","v":""},{"$f":"IFERROR(VLOOKUP(H102,得意先マスター!$B$7:$H$103,3,FALSE),\"\")","v":""},{"$f":"IFERROR(VLOOKUP(H102,得意先マスター!$B$7:$H$103,4,FALSE),\"\")","v":""},{"$f":"IFERROR(VLOOKUP(H102,得意先マスター!$B$7:$H$103,5,FALSE),\"\")","v":""},{"$f":"IFERROR(VLOOKUP(H102,得意先マスター!$B$7:$H$103,6,FALSE),\"\")","v":""},null,null,{"$f":"IFERROR(VLOOKUP(O102,商品マスター!$B$7:$D$53,2,FALSE),\"\")","v":""},null,{"$f":"IFERROR(VLOOKUP(O102,商品マスター!$B$7:$D$53,3,FALSE),\"\")","v":""},0,null,{"$f":"IFERROR(VLOOKUP(T102,商品マスター!$B$7:$D$53,2,FALSE),\"\")","v":""},null,{"$f":"IFERROR(VLOOKUP(T102,商品マスター!$B$7:$D$53,3,FALSE),\"\")","v":""},0,null,{"$f":"IFERROR(VLOOKUP(Y102,商品マスター!$B$7:$D$53,2,FALSE),\"\")","v":""},null,{"$f":"IFERROR(VLOOKUP(Y102,商品マスター!$B$7:$D$53,3,FALSE),\"\")","v":""},0,null,{"$f":"IFERROR(VLOOKUP(AD102,商品マスター!$B$7:$D$53,2,FALSE),\"\")","v":""},null,{"$f":"IFERROR(VLOOKUP(AD102,商品マスター!$B$7:$D$53,3,FALSE),\"\")","v":""},0,null,{"$f":"IFERROR(VLOOKUP(AI102,商品マスター!$B$7:$D$53,2,FALSE),\"\")","v":""},null,{"$f":"IFERROR(VLOOKUP(AI102,商品マスター!$B$7:$D$53,3,FALSE),\"\")","v":""},0,null,{"$f":"IFERROR(VLOOKUP(AN102,商品マスター!$B$7:$D$53,2,FALSE),\"\")","v":""},null,{"$f":"IFERROR(VLOOKUP(AN102,商品マスター!$B$7:$D$53,3,FALSE),\"\")","v":""},0,null,{"$f":"IFERROR(VLOOKUP(AS102,商品マスター!$B$7:$D$53,2,FALSE),\"\")","v":""},null,{"$f":"IFERROR(VLOOKUP(AS102,商品マスター!$B$7:$D$53,3,FALSE),\"\")","v":""},0,null,{"$f":"IFERROR(VLOOKUP(AX102,商品マスター!$B$7:$D$53,2,FALSE),\"\")","v":""},null,{"$f":"IFERROR(VLOOKUP(AX102,商品マスター!$B$7:$D$53,3,FALSE),\"\")","v":""},0,null,{"$f":"IFERROR(VLOOKUP(BC102,商品マスター!$B$7:$D$53,2,FALSE),\"\")","v":""},null,{"$f":"IFERROR(VLOOKUP(BC102,商品マスター!$B$7:$D$53,3,FALSE),\"\")","v":""},0,null,{"$f":"IFERROR(VLOOKUP(BH102,商品マスター!$B$7:$D$53,2,FALSE),\"\")","v":""},null,{"$f":"IFERROR(VLOOKUP(BH102,商品マスター!$B$7:$D$53,3,FALSE),\"\")","v":""},0,0,0.1,0,null,0]
["",null,null,null,null,null,null,null,{"$f":"IFERROR(VLOOKUP(H103,得意先マスター!$B$7:$H$103,2,FALSE),\"\")","v":""},{"$f":"IFERROR(VLOOKUP(H103,得意先マスター!$B$7:$H$103,3,FALSE),\"\")","v":""},{"$f":"IFERROR(VLOOKUP(H103,得意先マスター!$B$7:$H$103,4,FALSE),\"\")","v":""},{"$f":"IFERROR(VLOOKUP(H103,得意先マスター!$B$7:$H$103,5,FALSE),\"\")","v":""},{"$f":"IFERROR(VLOOKUP(H103,得意先マスター!$B$7:$H$103,6,FALSE),\"\")","v":""},null,null,{"$f":"IFERROR(VLOOKUP(O103,商品マスター!$B$7:$D$53,2,FALSE),\"\")","v":""},null,{"$f":"IFERROR(VLOOKUP(O103,商品マスター!$B$7:$D$53,3,FALSE),\"\")","v":""},0,null,{"$f":"IFERROR(VLOOKUP(T103,商品マスター!$B$7:$D$53,2,FALSE),\"\")","v":""},null,{"$f":"IFERROR(VLOOKUP(T103,商品マスター!$B$7:$D$53,3,FALSE),\"\")","v":""},0,null,{"$f":"IFERROR(VLOOKUP(Y103,商品マスター!$B$7:$D$53,2,FALSE),\"\")","v":""},null,{"$f":"IFERROR(VLOOKUP(Y103,商品マスター!$B$7:$D$53,3,FALSE),\"\")","v":""},0,null,{"$f":"IFERROR(VLOOKUP(AD103,商品マスター!$B$7:$D$53,2,FALSE),\"\")","v":""},null,{"$f":"IFERROR(VLOOKUP(AD103,商品マスター!$B$7:$D$53,3,FALSE),\"\")","v":""},0,null,{"$f":"IFERROR(VLOOKUP(AI103,商品マスター!$B$7:$D$53,2,FALSE),\"\")","v":""},null,{"$f":"IFERROR(VLOOKUP(AI103,商品マスター!$B$7:$D$53,3,FALSE),\"\")","v":""},0,null,{"$f":"IFERROR(VLOOKUP(AN103,商品マスター!$B$7:$D$53,2,FALSE),\"\")","v":""},null,{"$f":"IFERROR(VLOOKUP(AN103,商品マスター!$B$7:$D$53,3,FALSE),\"\")","v":""},0,null,{"$f":"IFERROR(VLOOKUP(AS103,商品マスター!$B$7:$D$53,2,FALSE),\"\")","v":""},null,{"$f":"IFERROR(VLOOKUP(AS103,商品マスター!$B$7:$D$53,3,FALSE),\"\")","v":""},0,null,{"$f":"IFERROR(VLOOKUP(AX103,商品マスター!$B$7:$D$53,2,FALSE),\"\")","v":""},null,{"$f":"IFERROR(VLOOKUP(AX103,商品マスター!$B$7:$D$53,3,FALSE),\"\")","v":""},0,null,{"$f":"IFERROR(VLOOKUP(BC103,商品マスター!$B$7:$D$53,2,FALSE),\"\")","v":""},null,{"$f":"IFERROR(VLOOKUP(BC103,商品マスター!$B$7:$D$53,3,FALSE),\"\")","v":""},0,null,{"$f":"IFERROR(VLOOKUP(BH103,商品マスター!$B$7:$D$53,2,FALSE),\"\")","v":""},null,{"$f":"IFERROR(VLOOKUP(BH103,商品マスター!$B$7:$D$53,3,FALSE),\"\")","v":""},0,0,0.1,0,null,0]
["",null,null,null,null,null,null,null,{"$f":"IFERROR(VLOOKUP(H104,得意先マスター!$B$7:$H$103,2,FALSE),\"\")","v":""},{"$f":"IFERROR(VLOOKUP(H104,得意先マスター!$B$7:$H$103,3,FALSE),\"\")","v":""},{"$f":"IFERROR(VLOOKUP(H104,得意先マスター!$B$7:$H$103,4,FALSE),\"\")","v":""},{"$f":"IFERROR(VLOOKUP(H104,得意先マスター!$B$7:$H$103,5,FALSE),\"\")","v":""},{"$f":"IFERROR(VLOOKUP(H104,得意先マスター!$B$7:$H$103,6,FALSE),\"\")","v":""},null,null,{"$f":"IFERROR(VLOOKUP(O104,商品マスター!$B$7:$D$53,2,FALSE),\"\")","v":""},null,{"$f":"IFERROR(VLOOKUP(O104,商品マスター!$B$7:$D$53,3,FALSE),\"\")","v":""},0,null,{"$f":"IFERROR(VLOOKUP(T104,商品マスター!$B$7:$D$53,2,FALSE),\"\")","v":""},null,{"$f":"IFERROR(VLOOKUP(T104,商品マスター!$B$7:$D$53,3,FALSE),\"\")","v":""},0,null,{"$f":"IFERROR(VLOOKUP(Y104,商品マスター!$B$7:$D$53,2,FALSE),\"\")","v":""},null,{"$f":"IFERROR(VLOOKUP(Y104,商品マスター!$B$7:$D$53,3,FALSE),\"\")","v":""},0,null,{"$f":"IFERROR(VLOOKUP(AD104,商品マスター!$B$7:$D$53,2,FALSE),\"\")","v":""},null,{"$f":"IFERROR(VLOOKUP(AD104,商品マスター!$B$7:$D$53,3,FALSE),\"\")","v":""},0,null,{"$f":"IFERROR(VLOOKUP(AI104,商品マスター!$B$7:$D$53,2,FALSE),\"\")","v":""},null,{"$f":"IFERROR(VLOOKUP(AI104,商品マスター!$B$7:$D$53,3,FALSE),\"\")","v":""},0,null,{"$f":"IFERROR(VLOOKUP(AN104,商品マスター!$B$7:$D$53,2,FALSE),\"\")","v":""},null,{"$f":"IFERROR(VLOOKUP(AN104,商品マスター!$B$7:$D$53,3,FALSE),\"\")","v":""},0,null,{"$f":"IFERROR(VLOOKUP(AS104,商品マスター!$B$7:$D$53,2,FALSE),\"\")","v":""},null,{"$f":"IFERROR(VLOOKUP(AS104,商品マスター!$B$7:$D$53,3,FALSE),\"\")","v":""},0,null,{"$f":"IFERROR(VLOOKUP(AX104,商品マスター!$B$7:$D$53,2,FALSE),\"\")","v":""},null,{"$f":"IFERROR(VLOOKUP(AX104,商品マスター!$B$7:$D$53,3,FALSE),\"\")","v":""},0,null,{"$f":"IFERROR(VLOOKUP(BC104,商品マスター!$B$7:$D$53,2,FALSE),\"\")","v":""},null,{"$f":"IFERROR(VLOOKUP(BC104,商品マスター!$B$7:$D$53,3,FALSE),\"\")","v":""},0,null,{"$f":"IFERROR(VLOOKUP(BH104,商品マスター!$B$7:$D$53,2,FALSE),\"\")","v":""},null,{"$f":"IFERROR(VLOOKUP(BH104,商品マスター!$B$7:$D$53,3,FALSE),\"\")","v":""},0,0,0.1,0,null,0]
["",null,null,null,null,null,null,null,{"$f":"IFERROR(VLOOKUP(H105,得意先マスター!$B$7:$H$103,2,FALSE),\"\")","v":""},{"$f":"IFERROR(VLOOKUP(H105,得意先マスター!$B$7:$H$103,3,FALSE),\"\")","v":""},{"$f":"IFERROR(VLOOKUP(H105,得意先マスター!$B$7:$H$103,4,FALSE),\"\")","v":""},{"$f":"IFERROR(VLOOKUP(H105,得意先マスター!$B$7:$H$103,5,FALSE),\"\")","v":""},{"$f":"IFERROR(VLOOKUP(H105,得意先マスター!$B$7:$H$103,6,FALSE),\"\")","v":""},null,null,{"$f":"IFERROR(VLOOKUP(O105,商品マスター!$B$7:$D$53,2,FALSE),\"\")","v":""},null,{"$f":"IFERROR(VLOOKUP(O105,商品マスター!$B$7:$D$53,3,FALSE),\"\")","v":""},0,null,{"$f":"IFERROR(VLOOKUP(T105,商品マスター!$B$7:$D$53,2,FALSE),\"\")","v":""},null,{"$f":"IFERROR(VLOOKUP(T105,商品マスター!$B$7:$D$53,3,FALSE),\"\")","v":""},0,null,{"$f":"IFERROR(VLOOKUP(Y105,商品マスター!$B$7:$D$53,2,FALSE),\"\")","v":""},null,{"$f":"IFERROR(VLOOKUP(Y105,商品マスター!$B$7:$D$53,3,FALSE),\"\")","v":""},0,null,{"$f":"IFERROR(VLOOKUP(AD105,商品マスター!$B$7:$D$53,2,FALSE),\"\")","v":""},null,{"$f":"IFERROR(VLOOKUP(AD105,商品マスター!$B$7:$D$53,3,FALSE),\"\")","v":""},0,null,{"$f":"IFERROR(VLOOKUP(AI105,商品マスター!$B$7:$D$53,2,FALSE),\"\")","v":""},null,{"$f":"IFERROR(VLOOKUP(AI105,商品マスター!$B$7:$D$53,3,FALSE),\"\")","v":""},0,null,{"$f":"IFERROR(VLOOKUP(AN105,商品マスター!$B$7:$D$53,2,FALSE),\"\")","v":""},null,{"$f":"IFERROR(VLOOKUP(AN105,商品マスター!$B$7:$D$53,3,FALSE),\"\")","v":""},0,null,{"$f":"IFERROR(VLOOKUP(AS105,商品マスター!$B$7:$D$53,2,FALSE),\"\")","v":""},null,{"$f":"IFERROR(VLOOKUP(AS105,商品マスター!$B$7:$D$53,3,FALSE),\"\")","v":""},0,null,{"$f":"IFERROR(VLOOKUP(AX105,商品マスター!$B$7:$D$53,2,FALSE),\"\")","v":""},null,{"$f":"IFERROR(VLOOKUP(AX105,商品マスター!$B$7:$D$53,3,FALSE),\"\")","v":""},0,null,{"$f":"IFERROR(VLOOKUP(BC105,商品マスター!$B$7:$D$53,2,FALSE),\"\")","v":""},null,{"$f":"IFERROR(VLOOKUP(BC105,商品マスター!$B$7:$D$53,3,FALSE),\"\")","v":""},0,null,{"$f":"IFERROR(VLOOKUP(BH105,商品マスター!$B$7:$D$53,2,FALSE),\"\")","v":""},null,{"$f":"IFERROR(VLOOKUP(BH105,商品マスター!$B$7:$D$53,3,FALSE),\"\")","v":""},0,0,0.1,0,null,0]
["",null,null,null,null,null,null,null,{"$f":"IFERROR(VLOOKUP(H106,得意先マスター!$B$7:$H$103,2,FALSE),\"\")","v":""},{"$f":"IFERROR(VLOOKUP(H106,得意先マスター!$B$7:$H$103,3,FALSE),\"\")","v":""},{"$f":"IFERROR(VLOOKUP(H106,得意先マスター!$B$7:$H$103,4,FALSE),\"\")","v":""},{"$f":"IFERROR(VLOOKUP(H106,得意先マスター!$B$7:$H$103,5,FALSE),\"\")","v":""},{"$f":"IFERROR(VLOOKUP(H106,得意先マスター!$B$7:$H$103,6,FALSE),\"\")","v":""},null,null,{"$f":"IFERROR(VLOOKUP(O106,商品マスター!$B$7:$D$53,2,FALSE),\"\")","v":""},null,{"$f":"IFERROR(VLOOKUP(O106,商品マスター!$B$7:$D$53,3,FALSE),\"\")","v":""},0,null,{"$f":"IFERROR(VLOOKUP(T106,商品マスター!$B$7:$D$53,2,FALSE),\"\")","v":""},null,{"$f":"IFERROR(VLOOKUP(T106,商品マスター!$B$7:$D$53,3,FALSE),\"\")","v":""},0,null,{"$f":"IFERROR(VLOOKUP(Y106,商品マスター!$B$7:$D$53,2,FALSE),\"\")","v":""},null,{"$f":"IFERROR(VLOOKUP(Y106,商品マスター!$B$7:$D$53,3,FALSE),\"\")","v":""},0,null,{"$f":"IFERROR(VLOOKUP(AD106,商品マスター!$B$7:$D$53,2,FALSE),\"\")","v":""},null,{"$f":"IFERROR(VLOOKUP(AD106,商品マスター!$B$7:$D$53,3,FALSE),\"\")","v":""},0,null,{"$f":"IFERROR(VLOOKUP(AI106,商品マスター!$B$7:$D$53,2,FALSE),\"\")","v":""},null,{"$f":"IFERROR(VLOOKUP(AI106,商品マスター!$B$7:$D$53,3,FALSE),\"\")","v":""},0,null,{"$f":"IFERROR(VLOOKUP(AN106,商品マスター!$B$7:$D$53,2,FALSE),\"\")","v":""},null,{"$f":"IFERROR(VLOOKUP(AN106,商品マスター!$B$7:$D$53,3,FALSE),\"\")","v":""},0,null,{"$f":"IFERROR(VLOOKUP(AS106,商品マスター!$B$7:$D$53,2,FALSE),\"\")","v":""},null,{"$f":"IFERROR(VLOOKUP(AS106,商品マスター!$B$7:$D$53,3,FALSE),\"\")","v":""},0,null,{"$f":"IFERROR(VLOOKUP(AX106,商品マスター!$B$7:$D$53,2,FALSE),\"\")","v":""},null,{"$f":"IFERROR(VLOOKUP(AX106,商品マスター!$B$7:$D$53,3,FALSE),\"\")","v":""},0,null,{"$f":"IFERROR(VLOOKUP(BC106,商品マスター!$B$7:$D$53,2,FALSE),\"\")","v":""},null,{"$f":"IFERROR(VLOOKUP(BC106,商品マスター!$B$7:$D$53,3,FALSE),\"\")","v":""},0,null,{"$f":"IFERROR(VLOOKUP(BH106,商品マスター!$B$7:$D$53,2,FALSE),\"\")","v":""},null,{"$f":"IFERROR(VLOOKUP(BH106,商品マスター!$B$7:$D$53,3,FALSE),\"\")","v":""},0,0,0.1,0,null,0]
["",null,null,null,null,null,null,null,{"$f":"IFERROR(VLOOKUP(H107,得意先マスター!$B$7:$H$103,2,FALSE),\"\")","v":""},{"$f":"IFERROR(VLOOKUP(H107,得意先マスター!$B$7:$H$103,3,FALSE),\"\")","v":""},{"$f":"IFERROR(VLOOKUP(H107,得意先マスター!$B$7:$H$103,4,FALSE),\"\")","v":""},{"$f":"IFERROR(VLOOKUP(H107,得意先マスター!$B$7:$H$103,5,FALSE),\"\")","v":""},{"$f":"IFERROR(VLOOKUP(H107,得意先マスター!$B$7:$H$103,6,FALSE),\"\")","v":""},null,null,{"$f":"IFERROR(VLOOKUP(O107,商品マスター!$B$7:$D$53,2,FALSE),\"\")","v":""},null,{"$f":"IFERROR(VLOOKUP(O107,商品マスター!$B$7:$D$53,3,FALSE),\"\")","v":""},0,null,{"$f":"IFERROR(VLOOKUP(T107,商品マスター!$B$7:$D$53,2,FALSE),\"\")","v":""},null,{"$f":"IFERROR(VLOOKUP(T107,商品マスター!$B$7:$D$53,3,FALSE),\"\")","v":""},0,null,{"$f":"IFERROR(VLOOKUP(Y107,商品マスター!$B$7:$D$53,2,FALSE),\"\")","v":""},null,{"$f":"IFERROR(VLOOKUP(Y107,商品マスター!$B$7:$D$53,3,FALSE),\"\")","v":""},0,null,{"$f":"IFERROR(VLOOKUP(AD107,商品マスター!$B$7:$D$53,2,FALSE),\"\")","v":""},null,{"$f":"IFERROR(VLOOKUP(AD107,商品マスター!$B$7:$D$53,3,FALSE),\"\")","v":""},0,null,{"$f":"IFERROR(VLOOKUP(AI107,商品マスター!$B$7:$D$53,2,FALSE),\"\")","v":""},null,{"$f":"IFERROR(VLOOKUP(AI107,商品マスター!$B$7:$D$53,3,FALSE),\"\")","v":""},0,null,{"$f":"IFERROR(VLOOKUP(AN107,商品マスター!$B$7:$D$53,2,FALSE),\"\")","v":""},null,{"$f":"IFERROR(VLOOKUP(AN107,商品マスター!$B$7:$D$53,3,FALSE),\"\")","v":""},0,null,{"$f":"IFERROR(VLOOKUP(AS107,商品マスター!$B$7:$D$53,2,FALSE),\"\")","v":""},null,{"$f":"IFERROR(VLOOKUP(AS107,商品マスター!$B$7:$D$53,3,FALSE),\"\")","v":""},0,null,{"$f":"IFERROR(VLOOKUP(AX107,商品マスター!$B$7:$D$53,2,FALSE),\"\")","v":""},null,{"$f":"IFERROR(VLOOKUP(AX107,商品マスター!$B$7:$D$53,3,FALSE),\"\")","v":""},0,null,{"$f":"IFERROR(VLOOKUP(BC107,商品マスター!$B$7:$D$53,2,FALSE),\"\")","v":""},null,{"$f":"IFERROR(VLOOKUP(BC107,商品マスター!$B$7:$D$53,3,FALSE),\"\")","v":""},0,null,{"$f":"IFERROR(VLOOKUP(BH107,商品マスター!$B$7:$D$53,2,FALSE),\"\")","v":""},null,{"$f":"IFERROR(VLOOKUP(BH107,商品マスター!$B$7:$D$53,3,FALSE),\"\")","v":""},0,0,0.1,0,null,0]
["",null,null,null,null,null,null,null,{"$f":"IFERROR(VLOOKUP(H108,得意先マスター!$B$7:$H$103,2,FALSE),\"\")","v":""},{"$f":"IFERROR(VLOOKUP(H108,得意先マスター!$B$7:$H$103,3,FALSE),\"\")","v":""},{"$f":"IFERROR(VLOOKUP(H108,得意先マスター!$B$7:$H$103,4,FALSE),\"\")","v":""},{"$f":"IFERROR(VLOOKUP(H108,得意先マスター!$B$7:$H$103,5,FALSE),\"\")","v":""},{"$f":"IFERROR(VLOOKUP(H108,得意先マスター!$B$7:$H$103,6,FALSE),\"\")","v":""},null,null,{"$f":"IFERROR(VLOOKUP(O108,商品マスター!$B$7:$D$53,2,FALSE),\"\")","v":""},null,{"$f":"IFERROR(VLOOKUP(O108,商品マスター!$B$7:$D$53,3,FALSE),\"\")","v":""},0,null,{"$f":"IFERROR(VLOOKUP(T108,商品マスター!$B$7:$D$53,2,FALSE),\"\")","v":""},null,{"$f":"IFERROR(VLOOKUP(T108,商品マスター!$B$7:$D$53,3,FALSE),\"\")","v":""},0,null,{"$f":"IFERROR(VLOOKUP(Y108,商品マスター!$B$7:$D$53,2,FALSE),\"\")","v":""},null,{"$f":"IFERROR(VLOOKUP(Y108,商品マスター!$B$7:$D$53,3,FALSE),\"\")","v":""},0,null,{"$f":"IFERROR(VLOOKUP(AD108,商品マスター!$B$7:$D$53,2,FALSE),\"\")","v":""},null,{"$f":"IFERROR(VLOOKUP(AD108,商品マスター!$B$7:$D$53,3,FALSE),\"\")","v":""},0,null,{"$f":"IFERROR(VLOOKUP(AI108,商品マスター!$B$7:$D$53,2,FALSE),\"\")","v":""},null,{"$f":"IFERROR(VLOOKUP(AI108,商品マスター!$B$7:$D$53,3,FALSE),\"\")","v":""},0,null,{"$f":"IFERROR(VLOOKUP(AN108,商品マスター!$B$7:$D$53,2,FALSE),\"\")","v":""},null,{"$f":"IFERROR(VLOOKUP(AN108,商品マスター!$B$7:$D$53,3,FALSE),\"\")","v":""},0,null,{"$f":"IFERROR(VLOOKUP(AS108,商品マスター!$B$7:$D$53,2,FALSE),\"\")","v":""},null,{"$f":"IFERROR(VLOOKUP(AS108,商品マスター!$B$7:$D$53,3,FALSE),\"\")","v":""},0,null,{"$f":"IFERROR(VLOOKUP(AX108,商品マスター!$B$7:$D$53,2,FALSE),\"\")","v":""},null,{"$f":"IFERROR(VLOOKUP(AX108,商品マスター!$B$7:$D$53,3,FALSE),\"\")","v":""},0,null,{"$f":"IFERROR(VLOOKUP(BC108,商品マスター!$B$7:$D$53,2,FALSE),\"\")","v":""},null,{"$f":"IFERROR(VLOOKUP(BC108,商品マスター!$B$7:$D$53,3,FALSE),\"\")","v":""},0,null,{"$f":"IFERROR(VLOOKUP(BH108,商品マスター!$B$7:$D$53,2,FALSE),\"\")","v":""},null,{"$f":"IFERROR(VLOOKUP(BH108,商品マスター!$B$7:$D$53,3,FALSE),\"\")","v":""},0,0,0.1,0,null,0]
["",null,null,null,null,null,null,null,{"$f":"IFERROR(VLOOKUP(H109,得意先マスター!$B$7:$H$103,2,FALSE),\"\")","v":""},{"$f":"IFERROR(VLOOKUP(H109,得意先マスター!$B$7:$H$103,3,FALSE),\"\")","v":""},{"$f":"IFERROR(VLOOKUP(H109,得意先マスター!$B$7:$H$103,4,FALSE),\"\")","v":""},{"$f":"IFERROR(VLOOKUP(H109,得意先マスター!$B$7:$H$103,5,FALSE),\"\")","v":""},{"$f":"IFERROR(VLOOKUP(H109,得意先マスター!$B$7:$H$103,6,FALSE),\"\")","v":""},null,null,{"$f":"IFERROR(VLOOKUP(O109,商品マスター!$B$7:$D$53,2,FALSE),\"\")","v":""},null,{"$f":"IFERROR(VLOOKUP(O109,商品マスター!$B$7:$D$53,3,FALSE),\"\")","v":""},0,null,{"$f":"IFERROR(VLOOKUP(T109,商品マスター!$B$7:$D$53,2,FALSE),\"\")","v":""},null,{"$f":"IFERROR(VLOOKUP(T109,商品マスター!$B$7:$D$53,3,FALSE),\"\")","v":""},0,null,{"$f":"IFERROR(VLOOKUP(Y109,商品マスター!$B$7:$D$53,2,FALSE),\"\")","v":""},null,{"$f":"IFERROR(VLOOKUP(Y109,商品マスター!$B$7:$D$53,3,FALSE),\"\")","v":""},0,null,{"$f":"IFERROR(VLOOKUP(AD109,商品マスター!$B$7:$D$53,2,FALSE),\"\")","v":""},null,{"$f":"IFERROR(VLOOKUP(AD109,商品マスター!$B$7:$D$53,3,FALSE),\"\")","v":""},0,null,{"$f":"IFERROR(VLOOKUP(AI109,商品マスター!$B$7:$D$53,2,FALSE),\"\")","v":""},null,{"$f":"IFERROR(VLOOKUP(AI109,商品マスター!$B$7:$D$53,3,FALSE),\"\")","v":""},0,null,{"$f":"IFERROR(VLOOKUP(AN109,商品マスター!$B$7:$D$53,2,FALSE),\"\")","v":""},null,{"$f":"IFERROR(VLOOKUP(AN109,商品マスター!$B$7:$D$53,3,FALSE),\"\")","v":""},0,null,{"$f":"IFERROR(VLOOKUP(AS109,商品マスター!$B$7:$D$53,2,FALSE),\"\")","v":""},null,{"$f":"IFERROR(VLOOKUP(AS109,商品マスター!$B$7:$D$53,3,FALSE),\"\")","v":""},0,null,{"$f":"IFERROR(VLOOKUP(AX109,商品マスター!$B$7:$D$53,2,FALSE),\"\")","v":""},null,{"$f":"IFERROR(VLOOKUP(AX109,商品マスター!$B$7:$D$53,3,FALSE),\"\")","v":""},0,null,{"$f":"IFERROR(VLOOKUP(BC109,商品マスター!$B$7:$D$53,2,FALSE),\"\")","v":""},null,{"$f":"IFERROR(VLOOKUP(BC109,商品マスター!$B$7:$D$53,3,FALSE),\"\")","v":""},0,null,{"$f":"IFERROR(VLOOKUP(BH109,商品マスター!$B$7:$D$53,2,FALSE),\"\")","v":""},null,{"$f":"IFERROR(VLOOKUP(BH109,商品マスター!$B$7:$D$53,3,FALSE),\"\")","v":""},0,0,0.1,0,null,0]
["",null,null,null,null,null,null,null,{"$f":"IFERROR(VLOOKUP(H110,得意先マスター!$B$7:$H$103,2,FALSE),\"\")","v":""},{"$f":"IFERROR(VLOOKUP(H110,得意先マスター!$B$7:$H$103,3,FALSE),\"\")","v":""},{"$f":"IFERROR(VLOOKUP(H110,得意先マスター!$B$7:$H$103,4,FALSE),\"\")","v":""},{"$f":"IFERROR(VLOOKUP(H110,得意先マスター!$B$7:$H$103,5,FALSE),\"\")","v":""},{"$f":"IFERROR(VLOOKUP(H110,得意先マスター!$B$7:$H$103,6,FALSE),\"\")","v":""},null,null,{"$f":"IFERROR(VLOOKUP(O110,商品マスター!$B$7:$D$53,2,FALSE),\"\")","v":""},null,{"$f":"IFERROR(VLOOKUP(O110,商品マスター!$B$7:$D$53,3,FALSE),\"\")","v":""},0,null,{"$f":"IFERROR(VLOOKUP(T110,商品マスター!$B$7:$D$53,2,FALSE),\"\")","v":""},null,{"$f":"IFERROR(VLOOKUP(T110,商品マスター!$B$7:$D$53,3,FALSE),\"\")","v":""},0,null,{"$f":"IFERROR(VLOOKUP(Y110,商品マスター!$B$7:$D$53,2,FALSE),\"\")","v":""},null,{"$f":"IFERROR(VLOOKUP(Y110,商品マスター!$B$7:$D$53,3,FALSE),\"\")","v":""},0,null,{"$f":"IFERROR(VLOOKUP(AD110,商品マスター!$B$7:$D$53,2,FALSE),\"\")","v":""},null,{"$f":"IFERROR(VLOOKUP(AD110,商品マスター!$B$7:$D$53,3,FALSE),\"\")","v":""},0,null,{"$f":"IFERROR(VLOOKUP(AI110,商品マスター!$B$7:$D$53,2,FALSE),\"\")","v":""},null,{"$f":"IFERROR(VLOOKUP(AI110,商品マスター!$B$7:$D$53,3,FALSE),\"\")","v":""},0,null,{"$f":"IFERROR(VLOOKUP(AN110,商品マスター!$B$7:$D$53,2,FALSE),\"\")","v":""},null,{"$f":"IFERROR(VLOOKUP(AN110,商品マスター!$B$7:$D$53,3,FALSE),\"\")","v":""},0,null,{"$f":"IFERROR(VLOOKUP(AS110,商品マスター!$B$7:$D$53,2,FALSE),\"\")","v":""},null,{"$f":"IFERROR(VLOOKUP(AS110,商品マスター!$B$7:$D$53,3,FALSE),\"\")","v":""},0,null,{"$f":"IFERROR(VLOOKUP(AX110,商品マスター!$B$7:$D$53,2,FALSE),\"\")","v":""},null,{"$f":"IFERROR(VLOOKUP(AX110,商品マスター!$B$7:$D$53,3,FALSE),\"\")","v":""},0,null,{"$f":"IFERROR(VLOOKUP(BC110,商品マスター!$B$7:$D$53,2,FALSE),\"\")","v":""},null,{"$f":"IFERROR(VLOOKUP(BC110,商品マスター!$B$7:$D$53,3,FALSE),\"\")","v":""},0,null,{"$f":"IFERROR(VLOOKUP(BH110,商品マスター!$B$7:$D$53,2,FALSE),\"\")","v":""},null,{"$f":"IFERROR(VLOOKUP(BH110,商品マスター!$B$7:$D$53,3,FALSE),\"\")","v":""},0,0,0.1,0,null,0]
["",null,null,null,null,null,null,null,{"$f":"IFERROR(VLOOKUP(H111,得意先マスター!$B$7:$H$103,2,FALSE),\"\")","v":""},{"$f":"IFERROR(VLOOKUP(H111,得意先マスター!$B$7:$H$103,3,FALSE),\"\")","v":""},{"$f":"IFERROR(VLOOKUP(H111,得意先マスター!$B$7:$H$103,4,FALSE),\"\")","v":""},{"$f":"IFERROR(VLOOKUP(H111,得意先マスター!$B$7:$H$103,5,FALSE),\"\")","v":""},{"$f":"IFERROR(VLOOKUP(H111,得意先マスター!$B$7:$H$103,6,FALSE),\"\")","v":""},null,null,{"$f":"IFERROR(VLOOKUP(O111,商品マスター!$B$7:$D$53,2,FALSE),\"\")","v":""},null,{"$f":"IFERROR(VLOOKUP(O111,商品マスター!$B$7:$D$53,3,FALSE),\"\")","v":""},0,null,{"$f":"IFERROR(VLOOKUP(T111,商品マスター!$B$7:$D$53,2,FALSE),\"\")","v":""},null,{"$f":"IFERROR(VLOOKUP(T111,商品マスター!$B$7:$D$53,3,FALSE),\"\")","v":""},0,null,{"$f":"IFERROR(VLOOKUP(Y111,商品マスター!$B$7:$D$53,2,FALSE),\"\")","v":""},null,{"$f":"IFERROR(VLOOKUP(Y111,商品マスター!$B$7:$D$53,3,FALSE),\"\")","v":""},0,null,{"$f":"IFERROR(VLOOKUP(AD111,商品マスター!$B$7:$D$53,2,FALSE),\"\")","v":""},null,{"$f":"IFERROR(VLOOKUP(AD111,商品マスター!$B$7:$D$53,3,FALSE),\"\")","v":""},0,null,{"$f":"IFERROR(VLOOKUP(AI111,商品マスター!$B$7:$D$53,2,FALSE),\"\")","v":""},null,{"$f":"IFERROR(VLOOKUP(AI111,商品マスター!$B$7:$D$53,3,FALSE),\"\")","v":""},0,null,{"$f":"IFERROR(VLOOKUP(AN111,商品マスター!$B$7:$D$53,2,FALSE),\"\")","v":""},null,{"$f":"IFERROR(VLOOKUP(AN111,商品マスター!$B$7:$D$53,3,FALSE),\"\")","v":""},0,null,{"$f":"IFERROR(VLOOKUP(AS111,商品マスター!$B$7:$D$53,2,FALSE),\"\")","v":""},null,{"$f":"IFERROR(VLOOKUP(AS111,商品マスター!$B$7:$D$53,3,FALSE),\"\")","v":""},0,null,{"$f":"IFERROR(VLOOKUP(AX111,商品マスター!$B$7:$D$53,2,FALSE),\"\")","v":""},null,{"$f":"IFERROR(VLOOKUP(AX111,商品マスター!$B$7:$D$53,3,FALSE),\"\")","v":""},0,null,{"$f":"IFERROR(VLOOKUP(BC111,商品マスター!$B$7:$D$53,2,FALSE),\"\")","v":""},null,{"$f":"IFERROR(VLOOKUP(BC111,商品マスター!$B$7:$D$53,3,FALSE),\"\")","v":""},0,null,{"$f":"IFERROR(VLOOKUP(BH111,商品マスター!$B$7:$D$53,2,FALSE),\"\")","v":""},null,{"$f":"IFERROR(VLOOKUP(BH111,商品マスター!$B$7:$D$53,3,FALSE),\"\")","v":""},0,0,0.1,0,null,0]
["",null,null,null,null,null,null,null,{"$f":"IFERROR(VLOOKUP(H112,得意先マスター!$B$7:$H$103,2,FALSE),\"\")","v":""},{"$f":"IFERROR(VLOOKUP(H112,得意先マスター!$B$7:$H$103,3,FALSE),\"\")","v":""},{"$f":"IFERROR(VLOOKUP(H112,得意先マスター!$B$7:$H$103,4,FALSE),\"\")","v":""},{"$f":"IFERROR(VLOOKUP(H112,得意先マスター!$B$7:$H$103,5,FALSE),\"\")","v":""},{"$f":"IFERROR(VLOOKUP(H112,得意先マスター!$B$7:$H$103,6,FALSE),\"\")","v":""},null,null,{"$f":"IFERROR(VLOOKUP(O112,商品マスター!$B$7:$D$53,2,FALSE),\"\")","v":""},null,{"$f":"IFERROR(VLOOKUP(O112,商品マスター!$B$7:$D$53,3,FALSE),\"\")","v":""},0,null,{"$f":"IFERROR(VLOOKUP(T112,商品マスター!$B$7:$D$53,2,FALSE),\"\")","v":""},null,{"$f":"IFERROR(VLOOKUP(T112,商品マスター!$B$7:$D$53,3,FALSE),\"\")","v":""},0,null,{"$f":"IFERROR(VLOOKUP(Y112,商品マスター!$B$7:$D$53,2,FALSE),\"\")","v":""},null,{"$f":"IFERROR(VLOOKUP(Y112,商品マスター!$B$7:$D$53,3,FALSE),\"\")","v":""},0,null,{"$f":"IFERROR(VLOOKUP(AD112,商品マスター!$B$7:$D$53,2,FALSE),\"\")","v":""},null,{"$f":"IFERROR(VLOOKUP(AD112,商品マスター!$B$7:$D$53,3,FALSE),\"\")","v":""},0,null,{"$f":"IFERROR(VLOOKUP(AI112,商品マスター!$B$7:$D$53,2,FALSE),\"\")","v":""},null,{"$f":"IFERROR(VLOOKUP(AI112,商品マスター!$B$7:$D$53,3,FALSE),\"\")","v":""},0,null,{"$f":"IFERROR(VLOOKUP(AN112,商品マスター!$B$7:$D$53,2,FALSE),\"\")","v":""},null,{"$f":"IFERROR(VLOOKUP(AN112,商品マスター!$B$7:$D$53,3,FALSE),\"\")","v":""},0,null,{"$f":"IFERROR(VLOOKUP(AS112,商品マスター!$B$7:$D$53,2,FALSE),\"\")","v":""},null,{"$f":"IFERROR(VLOOKUP(AS112,商品マスター!$B$7:$D$53,3,FALSE),\"\")","v":""},0,null,{"$f":"IFERROR(VLOOKUP(AX112,商品マスター!$B$7:$D$53,2,FALSE),\"\")","v":""},null,{"$f":"IFERROR(VLOOKUP(AX112,商品マスター!$B$7:$D$53,3,FALSE),\"\")","v":""},0,null,{"$f":"IFERROR(VLOOKUP(BC112,商品マスター!$B$7:$D$53,2,FALSE),\"\")","v":""},null,{"$f":"IFERROR(VLOOKUP(BC112,商品マスター!$B$7:$D$53,3,FALSE),\"\")","v":""},0,null,{"$f":"IFERROR(VLOOKUP(BH112,商品マスター!$B$7:$D$53,2,FALSE),\"\")","v":""},null,{"$f":"IFERROR(VLOOKUP(BH112,商品マスター!$B$7:$D$53,3,FALSE),\"\")","v":""},0,0,0.1,0,null,0]
["",null,null,null,null,null,null,null,{"$f":"IFERROR(VLOOKUP(H113,得意先マスター!$B$7:$H$103,2,FALSE),\"\")","v":""},{"$f":"IFERROR(VLOOKUP(H113,得意先マスター!$B$7:$H$103,3,FALSE),\"\")","v":""},{"$f":"IFERROR(VLOOKUP(H113,得意先マスター!$B$7:$H$103,4,FALSE),\"\")","v":""},{"$f":"IFERROR(VLOOKUP(H113,得意先マスター!$B$7:$H$103,5,FALSE),\"\")","v":""},{"$f":"IFERROR(VLOOKUP(H113,得意先マスター!$B$7:$H$103,6,FALSE),\"\")","v":""},null,null,{"$f":"IFERROR(VLOOKUP(O113,商品マスター!$B$7:$D$53,2,FALSE),\"\")","v":""},null,{"$f":"IFERROR(VLOOKUP(O113,商品マスター!$B$7:$D$53,3,FALSE),\"\")","v":""},0,null,{"$f":"IFERROR(VLOOKUP(T113,商品マスター!$B$7:$D$53,2,FALSE),\"\")","v":""},null,{"$f":"IFERROR(VLOOKUP(T113,商品マスター!$B$7:$D$53,3,FALSE),\"\")","v":""},0,null,{"$f":"IFERROR(VLOOKUP(Y113,商品マスター!$B$7:$D$53,2,FALSE),\"\")","v":""},null,{"$f":"IFERROR(VLOOKUP(Y113,商品マスター!$B$7:$D$53,3,FALSE),\"\")","v":""},0,null,{"$f":"IFERROR(VLOOKUP(AD113,商品マスター!$B$7:$D$53,2,FALSE),\"\")","v":""},null,{"$f":"IFERROR(VLOOKUP(AD113,商品マスター!$B$7:$D$53,3,FALSE),\"\")","v":""},0,null,{"$f":"IFERROR(VLOOKUP(AI113,商品マスター!$B$7:$D$53,2,FALSE),\"\")","v":""},null,{"$f":"IFERROR(VLOOKUP(AI113,商品マスター!$B$7:$D$53,3,FALSE),\"\")","v":""},0,null,{"$f":"IFERROR(VLOOKUP(AN113,商品マスター!$B$7:$D$53,2,FALSE),\"\")","v":""},null,{"$f":"IFERROR(VLOOKUP(AN113,商品マスター!$B$7:$D$53,3,FALSE),\"\")","v":""},0,null,{"$f":"IFERROR(VLOOKUP(AS113,商品マスター!$B$7:$D$53,2,FALSE),\"\")","v":""},null,{"$f":"IFERROR(VLOOKUP(AS113,商品マスター!$B$7:$D$53,3,FALSE),\"\")","v":""},0,null,{"$f":"IFERROR(VLOOKUP(AX113,商品マスター!$B$7:$D$53,2,FALSE),\"\")","v":""},null,{"$f":"IFERROR(VLOOKUP(AX113,商品マスター!$B$7:$D$53,3,FALSE),\"\")","v":""},0,null,{"$f":"IFERROR(VLOOKUP(BC113,商品マスター!$B$7:$D$53,2,FALSE),\"\")","v":""},null,{"$f":"IFERROR(VLOOKUP(BC113,商品マスター!$B$7:$D$53,3,FALSE),\"\")","v":""},0,null,{"$f":"IFERROR(VLOOKUP(BH113,商品マスター!$B$7:$D$53,2,FALSE),\"\")","v":""},null,{"$f":"IFERROR(VLOOKUP(BH113,商品マスター!$B$7:$D$53,3,FALSE),\"\")","v":""},0,0,0.1,0,null,0]
["",null,null,null,null,null,null,null,{"$f":"IFERROR(VLOOKUP(H114,得意先マスター!$B$7:$H$103,2,FALSE),\"\")","v":""},{"$f":"IFERROR(VLOOKUP(H114,得意先マスター!$B$7:$H$103,3,FALSE),\"\")","v":""},{"$f":"IFERROR(VLOOKUP(H114,得意先マスター!$B$7:$H$103,4,FALSE),\"\")","v":""},{"$f":"IFERROR(VLOOKUP(H114,得意先マスター!$B$7:$H$103,5,FALSE),\"\")","v":""},{"$f":"IFERROR(VLOOKUP(H114,得意先マスター!$B$7:$H$103,6,FALSE),\"\")","v":""},null,null,{"$f":"IFERROR(VLOOKUP(O114,商品マスター!$B$7:$D$53,2,FALSE),\"\")","v":""},null,{"$f":"IFERROR(VLOOKUP(O114,商品マスター!$B$7:$D$53,3,FALSE),\"\")","v":""},0,null,{"$f":"IFERROR(VLOOKUP(T114,商品マスター!$B$7:$D$53,2,FALSE),\"\")","v":""},null,{"$f":"IFERROR(VLOOKUP(T114,商品マスター!$B$7:$D$53,3,FALSE),\"\")","v":""},0,null,{"$f":"IFERROR(VLOOKUP(Y114,商品マスター!$B$7:$D$53,2,FALSE),\"\")","v":""},null,{"$f":"IFERROR(VLOOKUP(Y114,商品マスター!$B$7:$D$53,3,FALSE),\"\")","v":""},0,null,{"$f":"IFERROR(VLOOKUP(AD114,商品マスター!$B$7:$D$53,2,FALSE),\"\")","v":""},null,{"$f":"IFERROR(VLOOKUP(AD114,商品マスター!$B$7:$D$53,3,FALSE),\"\")","v":""},0,null,{"$f":"IFERROR(VLOOKUP(AI114,商品マスター!$B$7:$D$53,2,FALSE),\"\")","v":""},null,{"$f":"IFERROR(VLOOKUP(AI114,商品マスター!$B$7:$D$53,3,FALSE),\"\")","v":""},0,null,{"$f":"IFERROR(VLOOKUP(AN114,商品マスター!$B$7:$D$53,2,FALSE),\"\")","v":""},null,{"$f":"IFERROR(VLOOKUP(AN114,商品マスター!$B$7:$D$53,3,FALSE),\"\")","v":""},0,null,{"$f":"IFERROR(VLOOKUP(AS114,商品マスター!$B$7:$D$53,2,FALSE),\"\")","v":""},null,{"$f":"IFERROR(VLOOKUP(AS114,商品マスター!$B$7:$D$53,3,FALSE),\"\")","v":""},0,null,{"$f":"IFERROR(VLOOKUP(AX114,商品マスター!$B$7:$D$53,2,FALSE),\"\")","v":""},null,{"$f":"IFERROR(VLOOKUP(AX114,商品マスター!$B$7:$D$53,3,FALSE),\"\")","v":""},0,null,{"$f":"IFERROR(VLOOKUP(BC114,商品マスター!$B$7:$D$53,2,FALSE),\"\")","v":""},null,{"$f":"IFERROR(VLOOKUP(BC114,商品マスター!$B$7:$D$53,3,FALSE),\"\")","v":""},0,null,{"$f":"IFERROR(VLOOKUP(BH114,商品マスター!$B$7:$D$53,2,FALSE),\"\")","v":""},null,{"$f":"IFERROR(VLOOKUP(BH114,商品マスター!$B$7:$D$53,3,FALSE),\"\")","v":""},0,0,0.1,0,null,0]
["",null,null,null,null,null,null,null,{"$f":"IFERROR(VLOOKUP(H115,得意先マスター!$B$7:$H$103,2,FALSE),\"\")","v":""},{"$f":"IFERROR(VLOOKUP(H115,得意先マスター!$B$7:$H$103,3,FALSE),\"\")","v":""},{"$f":"IFERROR(VLOOKUP(H115,得意先マスター!$B$7:$H$103,4,FALSE),\"\")","v":""},{"$f":"IFERROR(VLOOKUP(H115,得意先マスター!$B$7:$H$103,5,FALSE),\"\")","v":""},{"$f":"IFERROR(VLOOKUP(H115,得意先マスター!$B$7:$H$103,6,FALSE),\"\")","v":""},null,null,{"$f":"IFERROR(VLOOKUP(O115,商品マスター!$B$7:$D$53,2,FALSE),\"\")","v":""},null,{"$f":"IFERROR(VLOOKUP(O115,商品マスター!$B$7:$D$53,3,FALSE),\"\")","v":""},0,null,{"$f":"IFERROR(VLOOKUP(T115,商品マスター!$B$7:$D$53,2,FALSE),\"\")","v":""},null,{"$f":"IFERROR(VLOOKUP(T115,商品マスター!$B$7:$D$53,3,FALSE),\"\")","v":""},0,null,{"$f":"IFERROR(VLOOKUP(Y115,商品マスター!$B$7:$D$53,2,FALSE),\"\")","v":""},null,{"$f":"IFERROR(VLOOKUP(Y115,商品マスター!$B$7:$D$53,3,FALSE),\"\")","v":""},0,null,{"$f":"IFERROR(VLOOKUP(AD115,商品マスター!$B$7:$D$53,2,FALSE),\"\")","v":""},null,{"$f":"IFERROR(VLOOKUP(AD115,商品マスター!$B$7:$D$53,3,FALSE),\"\")","v":""},0,null,{"$f":"IFERROR(VLOOKUP(AI115,商品マスター!$B$7:$D$53,2,FALSE),\"\")","v":""},null,{"$f":"IFERROR(VLOOKUP(AI115,商品マスター!$B$7:$D$53,3,FALSE),\"\")","v":""},0,null,{"$f":"IFERROR(VLOOKUP(AN115,商品マスター!$B$7:$D$53,2,FALSE),\"\")","v":""},null,{"$f":"IFERROR(VLOOKUP(AN115,商品マスター!$B$7:$D$53,3,FALSE),\"\")","v":""},0,null,{"$f":"IFERROR(VLOOKUP(AS115,商品マスター!$B$7:$D$53,2,FALSE),\"\")","v":""},null,{"$f":"IFERROR(VLOOKUP(AS115,商品マスター!$B$7:$D$53,3,FALSE),\"\")","v":""},0,null,{"$f":"IFERROR(VLOOKUP(AX115,商品マスター!$B$7:$D$53,2,FALSE),\"\")","v":""},null,{"$f":"IFERROR(VLOOKUP(AX115,商品マスター!$B$7:$D$53,3,FALSE),\"\")","v":""},0,null,{"$f":"IFERROR(VLOOKUP(BC115,商品マスター!$B$7:$D$53,2,FALSE),\"\")","v":""},null,{"$f":"IFERROR(VLOOKUP(BC115,商品マスター!$B$7:$D$53,3,FALSE),\"\")","v":""},0,null,{"$f":"IFERROR(VLOOKUP(BH115,商品マスター!$B$7:$D$53,2,FALSE),\"\")","v":""},null,{"$f":"IFERROR(VLOOKUP(BH115,商品マスター!$B$7:$D$53,3,FALSE),\"\")","v":""},0,0,0.1,0,null,0]
["",null,null,null,null,null,null,null,{"$f":"IFERROR(VLOOKUP(H116,得意先マスター!$B$7:$H$103,2,FALSE),\"\")","v":""},{"$f":"IFERROR(VLOOKUP(H116,得意先マスター!$B$7:$H$103,3,FALSE),\"\")","v":""},{"$f":"IFERROR(VLOOKUP(H116,得意先マスター!$B$7:$H$103,4,FALSE),\"\")","v":""},{"$f":"IFERROR(VLOOKUP(H116,得意先マスター!$B$7:$H$103,5,FALSE),\"\")","v":""},{"$f":"IFERROR(VLOOKUP(H116,得意先マスター!$B$7:$H$103,6,FALSE),\"\")","v":""},null,null,{"$f":"IFERROR(VLOOKUP(O116,商品マスター!$B$7:$D$53,2,FALSE),\"\")","v":""},null,{"$f":"IFERROR(VLOOKUP(O116,商品マスター!$B$7:$D$53,3,FALSE),\"\")","v":""},0,null,{"$f":"IFERROR(VLOOKUP(T116,商品マスター!$B$7:$D$53,2,FALSE),\"\")","v":""},null,{"$f":"IFERROR(VLOOKUP(T116,商品マスター!$B$7:$D$53,3,FALSE),\"\")","v":""},0,null,{"$f":"IFERROR(VLOOKUP(Y116,商品マスター!$B$7:$D$53,2,FALSE),\"\")","v":""},null,{"$f":"IFERROR(VLOOKUP(Y116,商品マスター!$B$7:$D$53,3,FALSE),\"\")","v":""},0,null,{"$f":"IFERROR(VLOOKUP(AD116,商品マスター!$B$7:$D$53,2,FALSE),\"\")","v":""},null,{"$f":"IFERROR(VLOOKUP(AD116,商品マスター!$B$7:$D$53,3,FALSE),\"\")","v":""},0,null,{"$f":"IFERROR(VLOOKUP(AI116,商品マスター!$B$7:$D$53,2,FALSE),\"\")","v":""},null,{"$f":"IFERROR(VLOOKUP(AI116,商品マスター!$B$7:$D$53,3,FALSE),\"\")","v":""},0,null,{"$f":"IFERROR(VLOOKUP(AN116,商品マスター!$B$7:$D$53,2,FALSE),\"\")","v":""},null,{"$f":"IFERROR(VLOOKUP(AN116,商品マスター!$B$7:$D$53,3,FALSE),\"\")","v":""},0,null,{"$f":"IFERROR(VLOOKUP(AS116,商品マスター!$B$7:$D$53,2,FALSE),\"\")","v":""},null,{"$f":"IFERROR(VLOOKUP(AS116,商品マスター!$B$7:$D$53,3,FALSE),\"\")","v":""},0,null,{"$f":"IFERROR(VLOOKUP(AX116,商品マスター!$B$7:$D$53,2,FALSE),\"\")","v":""},null,{"$f":"IFERROR(VLOOKUP(AX116,商品マスター!$B$7:$D$53,3,FALSE),\"\")","v":""},0,null,{"$f":"IFERROR(VLOOKUP(BC116,商品マスター!$B$7:$D$53,2,FALSE),\"\")","v":""},null,{"$f":"IFERROR(VLOOKUP(BC116,商品マスター!$B$7:$D$53,3,FALSE),\"\")","v":""},0,null,{"$f":"IFERROR(VLOOKUP(BH116,商品マスター!$B$7:$D$53,2,FALSE),\"\")","v":""},null,{"$f":"IFERROR(VLOOKUP(BH116,商品マスター!$B$7:$D$53,3,FALSE),\"\")","v":""},0,0,0.1,0,null,0]
["",null,null,null,null,null,null,null,{"$f":"IFERROR(VLOOKUP(H117,得意先マスター!$B$7:$H$103,2,FALSE),\"\")","v":""},{"$f":"IFERROR(VLOOKUP(H117,得意先マスター!$B$7:$H$103,3,FALSE),\"\")","v":""},{"$f":"IFERROR(VLOOKUP(H117,得意先マスター!$B$7:$H$103,4,FALSE),\"\")","v":""},{"$f":"IFERROR(VLOOKUP(H117,得意先マスター!$B$7:$H$103,5,FALSE),\"\")","v":""},{"$f":"IFERROR(VLOOKUP(H117,得意先マスター!$B$7:$H$103,6,FALSE),\"\")","v":""},null,null,{"$f":"IFERROR(VLOOKUP(O117,商品マスター!$B$7:$D$53,2,FALSE),\"\")","v":""},null,{"$f":"IFERROR(VLOOKUP(O117,商品マスター!$B$7:$D$53,3,FALSE),\"\")","v":""},0,null,{"$f":"IFERROR(VLOOKUP(T117,商品マスター!$B$7:$D$53,2,FALSE),\"\")","v":""},null,{"$f":"IFERROR(VLOOKUP(T117,商品マスター!$B$7:$D$53,3,FALSE),\"\")","v":""},0,null,{"$f":"IFERROR(VLOOKUP(Y117,商品マスター!$B$7:$D$53,2,FALSE),\"\")","v":""},null,{"$f":"IFERROR(VLOOKUP(Y117,商品マスター!$B$7:$D$53,3,FALSE),\"\")","v":""},0,null,{"$f":"IFERROR(VLOOKUP(AD117,商品マスター!$B$7:$D$53,2,FALSE),\"\")","v":""},null,{"$f":"IFERROR(VLOOKUP(AD117,商品マスター!$B$7:$D$53,3,FALSE),\"\")","v":""},0,null,{"$f":"IFERROR(VLOOKUP(AI117,商品マスター!$B$7:$D$53,2,FALSE),\"\")","v":""},null,{"$f":"IFERROR(VLOOKUP(AI117,商品マスター!$B$7:$D$53,3,FALSE),\"\")","v":""},0,null,{"$f":"IFERROR(VLOOKUP(AN117,商品マスター!$B$7:$D$53,2,FALSE),\"\")","v":""},null,{"$f":"IFERROR(VLOOKUP(AN117,商品マスター!$B$7:$D$53,3,FALSE),\"\")","v":""},0,null,{"$f":"IFERROR(VLOOKUP(AS117,商品マスター!$B$7:$D$53,2,FALSE),\"\")","v":""},null,{"$f":"IFERROR(VLOOKUP(AS117,商品マスター!$B$7:$D$53,3,FALSE),\"\")","v":""},0,null,{"$f":"IFERROR(VLOOKUP(AX117,商品マスター!$B$7:$D$53,2,FALSE),\"\")","v":""},null,{"$f":"IFERROR(VLOOKUP(AX117,商品マスター!$B$7:$D$53,3,FALSE),\"\")","v":""},0,null,{"$f":"IFERROR(VLOOKUP(BC117,商品マスター!$B$7:$D$53,2,FALSE),\"\")","v":""},null,{"$f":"IFERROR(VLOOKUP(BC117,商品マスター!$B$7:$D$53,3,FALSE),\"\")","v":""},0,null,{"$f":"IFERROR(VLOOKUP(BH117,商品マスター!$B$7:$D$53,2,FALSE),\"\")","v":""},null,{"$f":"IFERROR(VLOOKUP(BH117,商品マスター!$B$7:$D$53,3,FALSE),\"\")","v":""},0,0,0.1,0,null,0]
["",null,null,null,null,null,null,null,{"$f":"IFERROR(VLOOKUP(H118,得意先マスター!$B$7:$H$103,2,FALSE),\"\")","v":""},{"$f":"IFERROR(VLOOKUP(H118,得意先マスター!$B$7:$H$103,3,FALSE),\"\")","v":""},{"$f":"IFERROR(VLOOKUP(H118,得意先マスター!$B$7:$H$103,4,FALSE),\"\")","v":""},{"$f":"IFERROR(VLOOKUP(H118,得意先マスター!$B$7:$H$103,5,FALSE),\"\")","v":""},{"$f":"IFERROR(VLOOKUP(H118,得意先マスター!$B$7:$H$103,6,FALSE),\"\")","v":""},null,null,{"$f":"IFERROR(VLOOKUP(O118,商品マスター!$B$7:$D$53,2,FALSE),\"\")","v":""},null,{"$f":"IFERROR(VLOOKUP(O118,商品マスター!$B$7:$D$53,3,FALSE),\"\")","v":""},0,null,{"$f":"IFERROR(VLOOKUP(T118,商品マスター!$B$7:$D$53,2,FALSE),\"\")","v":""},null,{"$f":"IFERROR(VLOOKUP(T118,商品マスター!$B$7:$D$53,3,FALSE),\"\")","v":""},0,null,{"$f":"IFERROR(VLOOKUP(Y118,商品マスター!$B$7:$D$53,2,FALSE),\"\")","v":""},null,{"$f":"IFERROR(VLOOKUP(Y118,商品マスター!$B$7:$D$53,3,FALSE),\"\")","v":""},0,null,{"$f":"IFERROR(VLOOKUP(AD118,商品マスター!$B$7:$D$53,2,FALSE),\"\")","v":""},null,{"$f":"IFERROR(VLOOKUP(AD118,商品マスター!$B$7:$D$53,3,FALSE),\"\")","v":""},0,null,{"$f":"IFERROR(VLOOKUP(AI118,商品マスター!$B$7:$D$53,2,FALSE),\"\")","v":""},null,{"$f":"IFERROR(VLOOKUP(AI118,商品マスター!$B$7:$D$53,3,FALSE),\"\")","v":""},0,null,{"$f":"IFERROR(VLOOKUP(AN118,商品マスター!$B$7:$D$53,2,FALSE),\"\")","v":""},null,{"$f":"IFERROR(VLOOKUP(AN118,商品マスター!$B$7:$D$53,3,FALSE),\"\")","v":""},0,null,{"$f":"IFERROR(VLOOKUP(AS118,商品マスター!$B$7:$D$53,2,FALSE),\"\")","v":""},null,{"$f":"IFERROR(VLOOKUP(AS118,商品マスター!$B$7:$D$53,3,FALSE),\"\")","v":""},0,null,{"$f":"IFERROR(VLOOKUP(AX118,商品マスター!$B$7:$D$53,2,FALSE),\"\")","v":""},null,{"$f":"IFERROR(VLOOKUP(AX118,商品マスター!$B$7:$D$53,3,FALSE),\"\")","v":""},0,null,{"$f":"IFERROR(VLOOKUP(BC118,商品マスター!$B$7:$D$53,2,FALSE),\"\")","v":""},null,{"$f":"IFERROR(VLOOKUP(BC118,商品マスター!$B$7:$D$53,3,FALSE),\"\")","v":""},0,null,{"$f":"IFERROR(VLOOKUP(BH118,商品マスター!$B$7:$D$53,2,FALSE),\"\")","v":""},null,{"$f":"IFERROR(VLOOKUP(BH118,商品マスター!$B$7:$D$53,3,FALSE),\"\")","v":""},0,0,0.1,0,null,0]
["",null,null,null,null,null,null,null,{"$f":"IFERROR(VLOOKUP(H119,得意先マスター!$B$7:$H$103,2,FALSE),\"\")","v":""},{"$f":"IFERROR(VLOOKUP(H119,得意先マスター!$B$7:$H$103,3,FALSE),\"\")","v":""},{"$f":"IFERROR(VLOOKUP(H119,得意先マスター!$B$7:$H$103,4,FALSE),\"\")","v":""},{"$f":"IFERROR(VLOOKUP(H119,得意先マスター!$B$7:$H$103,5,FALSE),\"\")","v":""},{"$f":"IFERROR(VLOOKUP(H119,得意先マスター!$B$7:$H$103,6,FALSE),\"\")","v":""},null,null,{"$f":"IFERROR(VLOOKUP(O119,商品マスター!$B$7:$D$53,2,FALSE),\"\")","v":""},null,{"$f":"IFERROR(VLOOKUP(O119,商品マスター!$B$7:$D$53,3,FALSE),\"\")","v":""},0,null,{"$f":"IFERROR(VLOOKUP(T119,商品マスター!$B$7:$D$53,2,FALSE),\"\")","v":""},null,{"$f":"IFERROR(VLOOKUP(T119,商品マスター!$B$7:$D$53,3,FALSE),\"\")","v":""},0,null,{"$f":"IFERROR(VLOOKUP(Y119,商品マスター!$B$7:$D$53,2,FALSE),\"\")","v":""},null,{"$f":"IFERROR(VLOOKUP(Y119,商品マスター!$B$7:$D$53,3,FALSE),\"\")","v":""},0,null,{"$f":"IFERROR(VLOOKUP(AD119,商品マスター!$B$7:$D$53,2,FALSE),\"\")","v":""},null,{"$f":"IFERROR(VLOOKUP(AD119,商品マスター!$B$7:$D$53,3,FALSE),\"\")","v":""},0,null,{"$f":"IFERROR(VLOOKUP(AI119,商品マスター!$B$7:$D$53,2,FALSE),\"\")","v":""},null,{"$f":"IFERROR(VLOOKUP(AI119,商品マスター!$B$7:$D$53,3,FALSE),\"\")","v":""},0,null,{"$f":"IFERROR(VLOOKUP(AN119,商品マスター!$B$7:$D$53,2,FALSE),\"\")","v":""},null,{"$f":"IFERROR(VLOOKUP(AN119,商品マスター!$B$7:$D$53,3,FALSE),\"\")","v":""},0,null,{"$f":"IFERROR(VLOOKUP(AS119,商品マスター!$B$7:$D$53,2,FALSE),\"\")","v":""},null,{"$f":"IFERROR(VLOOKUP(AS119,商品マスター!$B$7:$D$53,3,FALSE),\"\")","v":""},0,null,{"$f":"IFERROR(VLOOKUP(AX119,商品マスター!$B$7:$D$53,2,FALSE),\"\")","v":""},null,{"$f":"IFERROR(VLOOKUP(AX119,商品マスター!$B$7:$D$53,3,FALSE),\"\")","v":""},0,null,{"$f":"IFERROR(VLOOKUP(BC119,商品マスター!$B$7:$D$53,2,FALSE),\"\")","v":""},null,{"$f":"IFERROR(VLOOKUP(BC119,商品マスター!$B$7:$D$53,3,FALSE),\"\")","v":""},0,null,{"$f":"IFERROR(VLOOKUP(BH119,商品マスター!$B$7:$D$53,2,FALSE),\"\")","v":""},null,{"$f":"IFERROR(VLOOKUP(BH119,商品マスター!$B$7:$D$53,3,FALSE),\"\")","v":""},0,0,0.1,0,null,0]
["",null,null,null,null,null,null,null,{"$f":"IFERROR(VLOOKUP(H120,得意先マスター!$B$7:$H$103,2,FALSE),\"\")","v":""},{"$f":"IFERROR(VLOOKUP(H120,得意先マスター!$B$7:$H$103,3,FALSE),\"\")","v":""},{"$f":"IFERROR(VLOOKUP(H120,得意先マスター!$B$7:$H$103,4,FALSE),\"\")","v":""},{"$f":"IFERROR(VLOOKUP(H120,得意先マスター!$B$7:$H$103,5,FALSE),\"\")","v":""},{"$f":"IFERROR(VLOOKUP(H120,得意先マスター!$B$7:$H$103,6,FALSE),\"\")","v":""},null,null,{"$f":"IFERROR(VLOOKUP(O120,商品マスター!$B$7:$D$53,2,FALSE),\"\")","v":""},null,{"$f":"IFERROR(VLOOKUP(O120,商品マスター!$B$7:$D$53,3,FALSE),\"\")","v":""},0,null,{"$f":"IFERROR(VLOOKUP(T120,商品マスター!$B$7:$D$53,2,FALSE),\"\")","v":""},null,{"$f":"IFERROR(VLOOKUP(T120,商品マスター!$B$7:$D$53,3,FALSE),\"\")","v":""},0,null,{"$f":"IFERROR(VLOOKUP(Y120,商品マスター!$B$7:$D$53,2,FALSE),\"\")","v":""},null,{"$f":"IFERROR(VLOOKUP(Y120,商品マスター!$B$7:$D$53,3,FALSE),\"\")","v":""},0,null,{"$f":"IFERROR(VLOOKUP(AD120,商品マスター!$B$7:$D$53,2,FALSE),\"\")","v":""},null,{"$f":"IFERROR(VLOOKUP(AD120,商品マスター!$B$7:$D$53,3,FALSE),\"\")","v":""},0,null,{"$f":"IFERROR(VLOOKUP(AI120,商品マスター!$B$7:$D$53,2,FALSE),\"\")","v":""},null,{"$f":"IFERROR(VLOOKUP(AI120,商品マスター!$B$7:$D$53,3,FALSE),\"\")","v":""},0,null,{"$f":"IFERROR(VLOOKUP(AN120,商品マスター!$B$7:$D$53,2,FALSE),\"\")","v":""},null,{"$f":"IFERROR(VLOOKUP(AN120,商品マスター!$B$7:$D$53,3,FALSE),\"\")","v":""},0,null,{"$f":"IFERROR(VLOOKUP(AS120,商品マスター!$B$7:$D$53,2,FALSE),\"\")","v":""},null,{"$f":"IFERROR(VLOOKUP(AS120,商品マスター!$B$7:$D$53,3,FALSE),\"\")","v":""},0,null,{"$f":"IFERROR(VLOOKUP(AX120,商品マスター!$B$7:$D$53,2,FALSE),\"\")","v":""},null,{"$f":"IFERROR(VLOOKUP(AX120,商品マスター!$B$7:$D$53,3,FALSE),\"\")","v":""},0,null,{"$f":"IFERROR(VLOOKUP(BC120,商品マスター!$B$7:$D$53,2,FALSE),\"\")","v":""},null,{"$f":"IFERROR(VLOOKUP(BC120,商品マスター!$B$7:$D$53,3,FALSE),\"\")","v":""},0,null,{"$f":"IFERROR(VLOOKUP(BH120,商品マスター!$B$7:$D$53,2,FALSE),\"\")","v":""},null,{"$f":"IFERROR(VLOOKUP(BH120,商品マスター!$B$7:$D$53,3,FALSE),\"\")","v":""},0,0,0.1,0,null,0]
["",null,null,null,null,null,null,null,{"$f":"IFERROR(VLOOKUP(H121,得意先マスター!$B$7:$H$103,2,FALSE),\"\")","v":""},{"$f":"IFERROR(VLOOKUP(H121,得意先マスター!$B$7:$H$103,3,FALSE),\"\")","v":""},{"$f":"IFERROR(VLOOKUP(H121,得意先マスター!$B$7:$H$103,4,FALSE),\"\")","v":""},{"$f":"IFERROR(VLOOKUP(H121,得意先マスター!$B$7:$H$103,5,FALSE),\"\")","v":""},{"$f":"IFERROR(VLOOKUP(H121,得意先マスター!$B$7:$H$103,6,FALSE),\"\")","v":""},null,null,{"$f":"IFERROR(VLOOKUP(O121,商品マスター!$B$7:$D$53,2,FALSE),\"\")","v":""},null,{"$f":"IFERROR(VLOOKUP(O121,商品マスター!$B$7:$D$53,3,FALSE),\"\")","v":""},0,null,{"$f":"IFERROR(VLOOKUP(T121,商品マスター!$B$7:$D$53,2,FALSE),\"\")","v":""},null,{"$f":"IFERROR(VLOOKUP(T121,商品マスター!$B$7:$D$53,3,FALSE),\"\")","v":""},0,null,{"$f":"IFERROR(VLOOKUP(Y121,商品マスター!$B$7:$D$53,2,FALSE),\"\")","v":""},null,{"$f":"IFERROR(VLOOKUP(Y121,商品マスター!$B$7:$D$53,3,FALSE),\"\")","v":""},0,null,{"$f":"IFERROR(VLOOKUP(AD121,商品マスター!$B$7:$D$53,2,FALSE),\"\")","v":""},null,{"$f":"IFERROR(VLOOKUP(AD121,商品マスター!$B$7:$D$53,3,FALSE),\"\")","v":""},0,null,{"$f":"IFERROR(VLOOKUP(AI121,商品マスター!$B$7:$D$53,2,FALSE),\"\")","v":""},null,{"$f":"IFERROR(VLOOKUP(AI121,商品マスター!$B$7:$D$53,3,FALSE),\"\")","v":""},0,null,{"$f":"IFERROR(VLOOKUP(AN121,商品マスター!$B$7:$D$53,2,FALSE),\"\")","v":""},null,{"$f":"IFERROR(VLOOKUP(AN121,商品マスター!$B$7:$D$53,3,FALSE),\"\")","v":""},0,null,{"$f":"IFERROR(VLOOKUP(AS121,商品マスター!$B$7:$D$53,2,FALSE),\"\")","v":""},null,{"$f":"IFERROR(VLOOKUP(AS121,商品マスター!$B$7:$D$53,3,FALSE),\"\")","v":""},0,null,{"$f":"IFERROR(VLOOKUP(AX121,商品マスター!$B$7:$D$53,2,FALSE),\"\")","v":""},null,{"$f":"IFERROR(VLOOKUP(AX121,商品マスター!$B$7:$D$53,3,FALSE),\"\")","v":""},0,null,{"$f":"IFERROR(VLOOKUP(BC121,商品マスター!$B$7:$D$53,2,FALSE),\"\")","v":""},null,{"$f":"IFERROR(VLOOKUP(BC121,商品マスター!$B$7:$D$53,3,FALSE),\"\")","v":""},0,null,{"$f":"IFERROR(VLOOKUP(BH121,商品マスター!$B$7:$D$53,2,FALSE),\"\")","v":""},null,{"$f":"IFERROR(VLOOKUP(BH121,商品マスター!$B$7:$D$53,3,FALSE),\"\")","v":""},0,0,0.1,0,null,0]
["",null,null,null,null,null,null,null,{"$f":"IFERROR(VLOOKUP(H122,得意先マスター!$B$7:$H$103,2,FALSE),\"\")","v":""},{"$f":"IFERROR(VLOOKUP(H122,得意先マスター!$B$7:$H$103,3,FALSE),\"\")","v":""},{"$f":"IFERROR(VLOOKUP(H122,得意先マスター!$B$7:$H$103,4,FALSE),\"\")","v":""},{"$f":"IFERROR(VLOOKUP(H122,得意先マスター!$B$7:$H$103,5,FALSE),\"\")","v":""},{"$f":"IFERROR(VLOOKUP(H122,得意先マスター!$B$7:$H$103,6,FALSE),\"\")","v":""},null,null,{"$f":"IFERROR(VLOOKUP(O122,商品マスター!$B$7:$D$53,2,FALSE),\"\")","v":""},null,{"$f":"IFERROR(VLOOKUP(O122,商品マスター!$B$7:$D$53,3,FALSE),\"\")","v":""},0,null,{"$f":"IFERROR(VLOOKUP(T122,商品マスター!$B$7:$D$53,2,FALSE),\"\")","v":""},null,{"$f":"IFERROR(VLOOKUP(T122,商品マスター!$B$7:$D$53,3,FALSE),\"\")","v":""},0,null,{"$f":"IFERROR(VLOOKUP(Y122,商品マスター!$B$7:$D$53,2,FALSE),\"\")","v":""},null,{"$f":"IFERROR(VLOOKUP(Y122,商品マスター!$B$7:$D$53,3,FALSE),\"\")","v":""},0,null,{"$f":"IFERROR(VLOOKUP(AD122,商品マスター!$B$7:$D$53,2,FALSE),\"\")","v":""},null,{"$f":"IFERROR(VLOOKUP(AD122,商品マスター!$B$7:$D$53,3,FALSE),\"\")","v":""},0,null,{"$f":"IFERROR(VLOOKUP(AI122,商品マスター!$B$7:$D$53,2,FALSE),\"\")","v":""},null,{"$f":"IFERROR(VLOOKUP(AI122,商品マスター!$B$7:$D$53,3,FALSE),\"\")","v":""},0,null,{"$f":"IFERROR(VLOOKUP(AN122,商品マスター!$B$7:$D$53,2,FALSE),\"\")","v":""},null,{"$f":"IFERROR(VLOOKUP(AN122,商品マスター!$B$7:$D$53,3,FALSE),\"\")","v":""},0,null,{"$f":"IFERROR(VLOOKUP(AS122,商品マスター!$B$7:$D$53,2,FALSE),\"\")","v":""},null,{"$f":"IFERROR(VLOOKUP(AS122,商品マスター!$B$7:$D$53,3,FALSE),\"\")","v":""},0,null,{"$f":"IFERROR(VLOOKUP(AX122,商品マスター!$B$7:$D$53,2,FALSE),\"\")","v":""},null,{"$f":"IFERROR(VLOOKUP(AX122,商品マスター!$B$7:$D$53,3,FALSE),\"\")","v":""},0,null,{"$f":"IFERROR(VLOOKUP(BC122,商品マスター!$B$7:$D$53,2,FALSE),\"\")","v":""},null,{"$f":"IFERROR(VLOOKUP(BC122,商品マスター!$B$7:$D$53,3,FALSE),\"\")","v":""},0,null,{"$f":"IFERROR(VLOOKUP(BH122,商品マスター!$B$7:$D$53,2,FALSE),\"\")","v":""},null,{"$f":"IFERROR(VLOOKUP(BH122,商品マスター!$B$7:$D$53,3,FALSE),\"\")","v":""},0,0,0.1,0,null,0]
["",null,null,null,null,null,null,null,{"$f":"IFERROR(VLOOKUP(H123,得意先マスター!$B$7:$H$103,2,FALSE),\"\")","v":""},{"$f":"IFERROR(VLOOKUP(H123,得意先マスター!$B$7:$H$103,3,FALSE),\"\")","v":""},{"$f":"IFERROR(VLOOKUP(H123,得意先マスター!$B$7:$H$103,4,FALSE),\"\")","v":""},{"$f":"IFERROR(VLOOKUP(H123,得意先マスター!$B$7:$H$103,5,FALSE),\"\")","v":""},{"$f":"IFERROR(VLOOKUP(H123,得意先マスター!$B$7:$H$103,6,FALSE),\"\")","v":""},null,null,{"$f":"IFERROR(VLOOKUP(O123,商品マスター!$B$7:$D$53,2,FALSE),\"\")","v":""},null,{"$f":"IFERROR(VLOOKUP(O123,商品マスター!$B$7:$D$53,3,FALSE),\"\")","v":""},0,null,{"$f":"IFERROR(VLOOKUP(T123,商品マスター!$B$7:$D$53,2,FALSE),\"\")","v":""},null,{"$f":"IFERROR(VLOOKUP(T123,商品マスター!$B$7:$D$53,3,FALSE),\"\")","v":""},0,null,{"$f":"IFERROR(VLOOKUP(Y123,商品マスター!$B$7:$D$53,2,FALSE),\"\")","v":""},null,{"$f":"IFERROR(VLOOKUP(Y123,商品マスター!$B$7:$D$53,3,FALSE),\"\")","v":""},0,null,{"$f":"IFERROR(VLOOKUP(AD123,商品マスター!$B$7:$D$53,2,FALSE),\"\")","v":""},null,{"$f":"IFERROR(VLOOKUP(AD123,商品マスター!$B$7:$D$53,3,FALSE),\"\")","v":""},0,null,{"$f":"IFERROR(VLOOKUP(AI123,商品マスター!$B$7:$D$53,2,FALSE),\"\")","v":""},null,{"$f":"IFERROR(VLOOKUP(AI123,商品マスター!$B$7:$D$53,3,FALSE),\"\")","v":""},0,null,{"$f":"IFERROR(VLOOKUP(AN123,商品マスター!$B$7:$D$53,2,FALSE),\"\")","v":""},null,{"$f":"IFERROR(VLOOKUP(AN123,商品マスター!$B$7:$D$53,3,FALSE),\"\")","v":""},0,null,{"$f":"IFERROR(VLOOKUP(AS123,商品マスター!$B$7:$D$53,2,FALSE),\"\")","v":""},null,{"$f":"IFERROR(VLOOKUP(AS123,商品マスター!$B$7:$D$53,3,FALSE),\"\")","v":""},0,null,{"$f":"IFERROR(VLOOKUP(AX123,商品マスター!$B$7:$D$53,2,FALSE),\"\")","v":""},null,{"$f":"IFERROR(VLOOKUP(AX123,商品マスター!$B$7:$D$53,3,FALSE),\"\")","v":""},0,null,{"$f":"IFERROR(VLOOKUP(BC123,商品マスター!$B$7:$D$53,2,FALSE),\"\")","v":""},null,{"$f":"IFERROR(VLOOKUP(BC123,商品マスター!$B$7:$D$53,3,FALSE),\"\")","v":""},0,null,{"$f":"IFERROR(VLOOKUP(BH123,商品マスター!$B$7:$D$53,2,FALSE),\"\")","v":""},null,{"$f":"IFERROR(VLOOKUP(BH123,商品マスター!$B$7:$D$53,3,FALSE),\"\")","v":""},0,0,0.1,0,null,0]
["",null,null,null,null,null,null,null,{"$f":"IFERROR(VLOOKUP(H124,得意先マスター!$B$7:$H$103,2,FALSE),\"\")","v":""},{"$f":"IFERROR(VLOOKUP(H124,得意先マスター!$B$7:$H$103,3,FALSE),\"\")","v":""},{"$f":"IFERROR(VLOOKUP(H124,得意先マスター!$B$7:$H$103,4,FALSE),\"\")","v":""},{"$f":"IFERROR(VLOOKUP(H124,得意先マスター!$B$7:$H$103,5,FALSE),\"\")","v":""},{"$f":"IFERROR(VLOOKUP(H124,得意先マスター!$B$7:$H$103,6,FALSE),\"\")","v":""},null,null,{"$f":"IFERROR(VLOOKUP(O124,商品マスター!$B$7:$D$53,2,FALSE),\"\")","v":""},null,{"$f":"IFERROR(VLOOKUP(O124,商品マスター!$B$7:$D$53,3,FALSE),\"\")","v":""},0,null,{"$f":"IFERROR(VLOOKUP(T124,商品マスター!$B$7:$D$53,2,FALSE),\"\")","v":""},null,{"$f":"IFERROR(VLOOKUP(T124,商品マスター!$B$7:$D$53,3,FALSE),\"\")","v":""},0,null,{"$f":"IFERROR(VLOOKUP(Y124,商品マスター!$B$7:$D$53,2,FALSE),\"\")","v":""},null,{"$f":"IFERROR(VLOOKUP(Y124,商品マスター!$B$7:$D$53,3,FALSE),\"\")","v":""},0,null,{"$f":"IFERROR(VLOOKUP(AD124,商品マスター!$B$7:$D$53,2,FALSE),\"\")","v":""},null,{"$f":"IFERROR(VLOOKUP(AD124,商品マスター!$B$7:$D$53,3,FALSE),\"\")","v":""},0,null,{"$f":"IFERROR(VLOOKUP(AI124,商品マスター!$B$7:$D$53,2,FALSE),\"\")","v":""},null,{"$f":"IFERROR(VLOOKUP(AI124,商品マスター!$B$7:$D$53,3,FALSE),\"\")","v":""},0,null,{"$f":"IFERROR(VLOOKUP(AN124,商品マスター!$B$7:$D$53,2,FALSE),\"\")","v":""},null,{"$f":"IFERROR(VLOOKUP(AN124,商品マスター!$B$7:$D$53,3,FALSE),\"\")","v":""},0,null,{"$f":"IFERROR(VLOOKUP(AS124,商品マスター!$B$7:$D$53,2,FALSE),\"\")","v":""},null,{"$f":"IFERROR(VLOOKUP(AS124,商品マスター!$B$7:$D$53,3,FALSE),\"\")","v":""},0,null,{"$f":"IFERROR(VLOOKUP(AX124,商品マスター!$B$7:$D$53,2,FALSE),\"\")","v":""},null,{"$f":"IFERROR(VLOOKUP(AX124,商品マスター!$B$7:$D$53,3,FALSE),\"\")","v":""},0,null,{"$f":"IFERROR(VLOOKUP(BC124,商品マスター!$B$7:$D$53,2,FALSE),\"\")","v":""},null,{"$f":"IFERROR(VLOOKUP(BC124,商品マスター!$B$7:$D$53,3,FALSE),\"\")","v":""},0,null,{"$f":"IFERROR(VLOOKUP(BH124,商品マスター!$B$7:$D$53,2,FALSE),\"\")","v":""},null,{"$f":"IFERROR(VLOOKUP(BH124,商品マスター!$B$7:$D$53,3,FALSE),\"\")","v":""},0,0,0.1,0,null,0]
["",null,null,null,null,null,null,null,{"$f":"IFERROR(VLOOKUP(H125,得意先マスター!$B$7:$H$103,2,FALSE),\"\")","v":""},{"$f":"IFERROR(VLOOKUP(H125,得意先マスター!$B$7:$H$103,3,FALSE),\"\")","v":""},{"$f":"IFERROR(VLOOKUP(H125,得意先マスター!$B$7:$H$103,4,FALSE),\"\")","v":""},{"$f":"IFERROR(VLOOKUP(H125,得意先マスター!$B$7:$H$103,5,FALSE),\"\")","v":""},{"$f":"IFERROR(VLOOKUP(H125,得意先マスター!$B$7:$H$103,6,FALSE),\"\")","v":""},null,null,{"$f":"IFERROR(VLOOKUP(O125,商品マスター!$B$7:$D$53,2,FALSE),\"\")","v":""},null,{"$f":"IFERROR(VLOOKUP(O125,商品マスター!$B$7:$D$53,3,FALSE),\"\")","v":""},0,null,{"$f":"IFERROR(VLOOKUP(T125,商品マスター!$B$7:$D$53,2,FALSE),\"\")","v":""},null,{"$f":"IFERROR(VLOOKUP(T125,商品マスター!$B$7:$D$53,3,FALSE),\"\")","v":""},0,null,{"$f":"IFERROR(VLOOKUP(Y125,商品マスター!$B$7:$D$53,2,FALSE),\"\")","v":""},null,{"$f":"IFERROR(VLOOKUP(Y125,商品マスター!$B$7:$D$53,3,FALSE),\"\")","v":""},0,null,{"$f":"IFERROR(VLOOKUP(AD125,商品マスター!$B$7:$D$53,2,FALSE),\"\")","v":""},null,{"$f":"IFERROR(VLOOKUP(AD125,商品マスター!$B$7:$D$53,3,FALSE),\"\")","v":""},0,null,{"$f":"IFERROR(VLOOKUP(AI125,商品マスター!$B$7:$D$53,2,FALSE),\"\")","v":""},null,{"$f":"IFERROR(VLOOKUP(AI125,商品マスター!$B$7:$D$53,3,FALSE),\"\")","v":""},0,null,{"$f":"IFERROR(VLOOKUP(AN125,商品マスター!$B$7:$D$53,2,FALSE),\"\")","v":""},null,{"$f":"IFERROR(VLOOKUP(AN125,商品マスター!$B$7:$D$53,3,FALSE),\"\")","v":""},0,null,{"$f":"IFERROR(VLOOKUP(AS125,商品マスター!$B$7:$D$53,2,FALSE),\"\")","v":""},null,{"$f":"IFERROR(VLOOKUP(AS125,商品マスター!$B$7:$D$53,3,FALSE),\"\")","v":""},0,null,{"$f":"IFERROR(VLOOKUP(AX125,商品マスター!$B$7:$D$53,2,FALSE),\"\")","v":""},null,{"$f":"IFERROR(VLOOKUP(AX125,商品マスター!$B$7:$D$53,3,FALSE),\"\")","v":""},0,null,{"$f":"IFERROR(VLOOKUP(BC125,商品マスター!$B$7:$D$53,2,FALSE),\"\")","v":""},null,{"$f":"IFERROR(VLOOKUP(BC125,商品マスター!$B$7:$D$53,3,FALSE),\"\")","v":""},0,null,{"$f":"IFERROR(VLOOKUP(BH125,商品マスター!$B$7:$D$53,2,FALSE),\"\")","v":""},null,{"$f":"IFERROR(VLOOKUP(BH125,商品マスター!$B$7:$D$53,3,FALSE),\"\")","v":""},0,0,0.1,0,null,0]
["",null,null,null,null,null,null,null,{"$f":"IFERROR(VLOOKUP(H126,得意先マスター!$B$7:$H$103,2,FALSE),\"\")","v":""},{"$f":"IFERROR(VLOOKUP(H126,得意先マスター!$B$7:$H$103,3,FALSE),\"\")","v":""},{"$f":"IFERROR(VLOOKUP(H126,得意先マスター!$B$7:$H$103,4,FALSE),\"\")","v":""},{"$f":"IFERROR(VLOOKUP(H126,得意先マスター!$B$7:$H$103,5,FALSE),\"\")","v":""},{"$f":"IFERROR(VLOOKUP(H126,得意先マスター!$B$7:$H$103,6,FALSE),\"\")","v":""},null,null,{"$f":"IFERROR(VLOOKUP(O126,商品マスター!$B$7:$D$53,2,FALSE),\"\")","v":""},null,{"$f":"IFERROR(VLOOKUP(O126,商品マスター!$B$7:$D$53,3,FALSE),\"\")","v":""},0,null,{"$f":"IFERROR(VLOOKUP(T126,商品マスター!$B$7:$D$53,2,FALSE),\"\")","v":""},null,{"$f":"IFERROR(VLOOKUP(T126,商品マスター!$B$7:$D$53,3,FALSE),\"\")","v":""},0,null,{"$f":"IFERROR(VLOOKUP(Y126,商品マスター!$B$7:$D$53,2,FALSE),\"\")","v":""},null,{"$f":"IFERROR(VLOOKUP(Y126,商品マスター!$B$7:$D$53,3,FALSE),\"\")","v":""},0,null,{"$f":"IFERROR(VLOOKUP(AD126,商品マスター!$B$7:$D$53,2,FALSE),\"\")","v":""},null,{"$f":"IFERROR(VLOOKUP(AD126,商品マスター!$B$7:$D$53,3,FALSE),\"\")","v":""},0,null,{"$f":"IFERROR(VLOOKUP(AI126,商品マスター!$B$7:$D$53,2,FALSE),\"\")","v":""},null,{"$f":"IFERROR(VLOOKUP(AI126,商品マスター!$B$7:$D$53,3,FALSE),\"\")","v":""},0,null,{"$f":"IFERROR(VLOOKUP(AN126,商品マスター!$B$7:$D$53,2,FALSE),\"\")","v":""},null,{"$f":"IFERROR(VLOOKUP(AN126,商品マスター!$B$7:$D$53,3,FALSE),\"\")","v":""},0,null,{"$f":"IFERROR(VLOOKUP(AS126,商品マスター!$B$7:$D$53,2,FALSE),\"\")","v":""},null,{"$f":"IFERROR(VLOOKUP(AS126,商品マスター!$B$7:$D$53,3,FALSE),\"\")","v":""},0,null,{"$f":"IFERROR(VLOOKUP(AX126,商品マスター!$B$7:$D$53,2,FALSE),\"\")","v":""},null,{"$f":"IFERROR(VLOOKUP(AX126,商品マスター!$B$7:$D$53,3,FALSE),\"\")","v":""},0,null,{"$f":"IFERROR(VLOOKUP(BC126,商品マスター!$B$7:$D$53,2,FALSE),\"\")","v":""},null,{"$f":"IFERROR(VLOOKUP(BC126,商品マスター!$B$7:$D$53,3,FALSE),\"\")","v":""},0,null,{"$f":"IFERROR(VLOOKUP(BH126,商品マスター!$B$7:$D$53,2,FALSE),\"\")","v":""},null,{"$f":"IFERROR(VLOOKUP(BH126,商品マスター!$B$7:$D$53,3,FALSE),\"\")","v":""},0,0,0.1,0,null,0]
["",null,null,null,null,null,null,null,{"$f":"IFERROR(VLOOKUP(H127,得意先マスター!$B$7:$H$103,2,FALSE),\"\")","v":""},{"$f":"IFERROR(VLOOKUP(H127,得意先マスター!$B$7:$H$103,3,FALSE),\"\")","v":""},{"$f":"IFERROR(VLOOKUP(H127,得意先マスター!$B$7:$H$103,4,FALSE),\"\")","v":""},{"$f":"IFERROR(VLOOKUP(H127,得意先マスター!$B$7:$H$103,5,FALSE),\"\")","v":""},{"$f":"IFERROR(VLOOKUP(H127,得意先マスター!$B$7:$H$103,6,FALSE),\"\")","v":""},null,null,{"$f":"IFERROR(VLOOKUP(O127,商品マスター!$B$7:$D$53,2,FALSE),\"\")","v":""},null,{"$f":"IFERROR(VLOOKUP(O127,商品マスター!$B$7:$D$53,3,FALSE),\"\")","v":""},0,null,{"$f":"IFERROR(VLOOKUP(T127,商品マスター!$B$7:$D$53,2,FALSE),\"\")","v":""},null,{"$f":"IFERROR(VLOOKUP(T127,商品マスター!$B$7:$D$53,3,FALSE),\"\")","v":""},0,null,{"$f":"IFERROR(VLOOKUP(Y127,商品マスター!$B$7:$D$53,2,FALSE),\"\")","v":""},null,{"$f":"IFERROR(VLOOKUP(Y127,商品マスター!$B$7:$D$53,3,FALSE),\"\")","v":""},0,null,{"$f":"IFERROR(VLOOKUP(AD127,商品マスター!$B$7:$D$53,2,FALSE),\"\")","v":""},null,{"$f":"IFERROR(VLOOKUP(AD127,商品マスター!$B$7:$D$53,3,FALSE),\"\")","v":""},0,null,{"$f":"IFERROR(VLOOKUP(AI127,商品マスター!$B$7:$D$53,2,FALSE),\"\")","v":""},null,{"$f":"IFERROR(VLOOKUP(AI127,商品マスター!$B$7:$D$53,3,FALSE),\"\")","v":""},0,null,{"$f":"IFERROR(VLOOKUP(AN127,商品マスター!$B$7:$D$53,2,FALSE),\"\")","v":""},null,{"$f":"IFERROR(VLOOKUP(AN127,商品マスター!$B$7:$D$53,3,FALSE),\"\")","v":""},0,null,{"$f":"IFERROR(VLOOKUP(AS127,商品マスター!$B$7:$D$53,2,FALSE),\"\")","v":""},null,{"$f":"IFERROR(VLOOKUP(AS127,商品マスター!$B$7:$D$53,3,FALSE),\"\")","v":""},0,null,{"$f":"IFERROR(VLOOKUP(AX127,商品マスター!$B$7:$D$53,2,FALSE),\"\")","v":""},null,{"$f":"IFERROR(VLOOKUP(AX127,商品マスター!$B$7:$D$53,3,FALSE),\"\")","v":""},0,null,{"$f":"IFERROR(VLOOKUP(BC127,商品マスター!$B$7:$D$53,2,FALSE),\"\")","v":""},null,{"$f":"IFERROR(VLOOKUP(BC127,商品マスター!$B$7:$D$53,3,FALSE),\"\")","v":""},0,null,{"$f":"IFERROR(VLOOKUP(BH127,商品マスター!$B$7:$D$53,2,FALSE),\"\")","v":""},null,{"$f":"IFERROR(VLOOKUP(BH127,商品マスター!$B$7:$D$53,3,FALSE),\"\")","v":""},0,0,0.1,0,null,0]
["",null,null,null,null,null,null,null,{"$f":"IFERROR(VLOOKUP(H128,得意先マスター!$B$7:$H$103,2,FALSE),\"\")","v":""},{"$f":"IFERROR(VLOOKUP(H128,得意先マスター!$B$7:$H$103,3,FALSE),\"\")","v":""},{"$f":"IFERROR(VLOOKUP(H128,得意先マスター!$B$7:$H$103,4,FALSE),\"\")","v":""},{"$f":"IFERROR(VLOOKUP(H128,得意先マスター!$B$7:$H$103,5,FALSE),\"\")","v":""},{"$f":"IFERROR(VLOOKUP(H128,得意先マスター!$B$7:$H$103,6,FALSE),\"\")","v":""},null,null,{"$f":"IFERROR(VLOOKUP(O128,商品マスター!$B$7:$D$53,2,FALSE),\"\")","v":""},null,{"$f":"IFERROR(VLOOKUP(O128,商品マスター!$B$7:$D$53,3,FALSE),\"\")","v":""},0,null,{"$f":"IFERROR(VLOOKUP(T128,商品マスター!$B$7:$D$53,2,FALSE),\"\")","v":""},null,{"$f":"IFERROR(VLOOKUP(T128,商品マスター!$B$7:$D$53,3,FALSE),\"\")","v":""},0,null,{"$f":"IFERROR(VLOOKUP(Y128,商品マスター!$B$7:$D$53,2,FALSE),\"\")","v":""},null,{"$f":"IFERROR(VLOOKUP(Y128,商品マスター!$B$7:$D$53,3,FALSE),\"\")","v":""},0,null,{"$f":"IFERROR(VLOOKUP(AD128,商品マスター!$B$7:$D$53,2,FALSE),\"\")","v":""},null,{"$f":"IFERROR(VLOOKUP(AD128,商品マスター!$B$7:$D$53,3,FALSE),\"\")","v":""},0,null,{"$f":"IFERROR(VLOOKUP(AI128,商品マスター!$B$7:$D$53,2,FALSE),\"\")","v":""},null,{"$f":"IFERROR(VLOOKUP(AI128,商品マスター!$B$7:$D$53,3,FALSE),\"\")","v":""},0,null,{"$f":"IFERROR(VLOOKUP(AN128,商品マスター!$B$7:$D$53,2,FALSE),\"\")","v":""},null,{"$f":"IFERROR(VLOOKUP(AN128,商品マスター!$B$7:$D$53,3,FALSE),\"\")","v":""},0,null,{"$f":"IFERROR(VLOOKUP(AS128,商品マスター!$B$7:$D$53,2,FALSE),\"\")","v":""},null,{"$f":"IFERROR(VLOOKUP(AS128,商品マスター!$B$7:$D$53,3,FALSE),\"\")","v":""},0,null,{"$f":"IFERROR(VLOOKUP(AX128,商品マスター!$B$7:$D$53,2,FALSE),\"\")","v":""},null,{"$f":"IFERROR(VLOOKUP(AX128,商品マスター!$B$7:$D$53,3,FALSE),\"\")","v":""},0,null,{"$f":"IFERROR(VLOOKUP(BC128,商品マスター!$B$7:$D$53,2,FALSE),\"\")","v":""},null,{"$f":"IFERROR(VLOOKUP(BC128,商品マスター!$B$7:$D$53,3,FALSE),\"\")","v":""},0,null,{"$f":"IFERROR(VLOOKUP(BH128,商品マスター!$B$7:$D$53,2,FALSE),\"\")","v":""},null,{"$f":"IFERROR(VLOOKUP(BH128,商品マスター!$B$7:$D$53,3,FALSE),\"\")","v":""},0,0,0.1,0,null,0]
["",null,null,null,null,null,null,null,{"$f":"IFERROR(VLOOKUP(H129,得意先マスター!$B$7:$H$103,2,FALSE),\"\")","v":""},{"$f":"IFERROR(VLOOKUP(H129,得意先マスター!$B$7:$H$103,3,FALSE),\"\")","v":""},{"$f":"IFERROR(VLOOKUP(H129,得意先マスター!$B$7:$H$103,4,FALSE),\"\")","v":""},{"$f":"IFERROR(VLOOKUP(H129,得意先マスター!$B$7:$H$103,5,FALSE),\"\")","v":""},{"$f":"IFERROR(VLOOKUP(H129,得意先マスター!$B$7:$H$103,6,FALSE),\"\")","v":""},null,null,{"$f":"IFERROR(VLOOKUP(O129,商品マスター!$B$7:$D$53,2,FALSE),\"\")","v":""},null,{"$f":"IFERROR(VLOOKUP(O129,商品マスター!$B$7:$D$53,3,FALSE),\"\")","v":""},0,null,{"$f":"IFERROR(VLOOKUP(T129,商品マスター!$B$7:$D$53,2,FALSE),\"\")","v":""},null,{"$f":"IFERROR(VLOOKUP(T129,商品マスター!$B$7:$D$53,3,FALSE),\"\")","v":""},0,null,{"$f":"IFERROR(VLOOKUP(Y129,商品マスター!$B$7:$D$53,2,FALSE),\"\")","v":""},null,{"$f":"IFERROR(VLOOKUP(Y129,商品マスター!$B$7:$D$53,3,FALSE),\"\")","v":""},0,null,{"$f":"IFERROR(VLOOKUP(AD129,商品マスター!$B$7:$D$53,2,FALSE),\"\")","v":""},null,{"$f":"IFERROR(VLOOKUP(AD129,商品マスター!$B$7:$D$53,3,FALSE),\"\")","v":""},0,null,{"$f":"IFERROR(VLOOKUP(AI129,商品マスター!$B$7:$D$53,2,FALSE),\"\")","v":""},null,{"$f":"IFERROR(VLOOKUP(AI129,商品マスター!$B$7:$D$53,3,FALSE),\"\")","v":""},0,null,{"$f":"IFERROR(VLOOKUP(AN129,商品マスター!$B$7:$D$53,2,FALSE),\"\")","v":""},null,{"$f":"IFERROR(VLOOKUP(AN129,商品マスター!$B$7:$D$53,3,FALSE),\"\")","v":""},0,null,{"$f":"IFERROR(VLOOKUP(AS129,商品マスター!$B$7:$D$53,2,FALSE),\"\")","v":""},null,{"$f":"IFERROR(VLOOKUP(AS129,商品マスター!$B$7:$D$53,3,FALSE),\"\")","v":""},0,null,{"$f":"IFERROR(VLOOKUP(AX129,商品マスター!$B$7:$D$53,2,FALSE),\"\")","v":""},null,{"$f":"IFERROR(VLOOKUP(AX129,商品マスター!$B$7:$D$53,3,FALSE),\"\")","v":""},0,null,{"$f":"IFERROR(VLOOKUP(BC129,商品マスター!$B$7:$D$53,2,FALSE),\"\")","v":""},null,{"$f":"IFERROR(VLOOKUP(BC129,商品マスター!$B$7:$D$53,3,FALSE),\"\")","v":""},0,null,{"$f":"IFERROR(VLOOKUP(BH129,商品マスター!$B$7:$D$53,2,FALSE),\"\")","v":""},null,{"$f":"IFERROR(VLOOKUP(BH129,商品マスター!$B$7:$D$53,3,FALSE),\"\")","v":""},0,0,0.1,0,null,0]
["",null,null,null,null,null,null,null,{"$f":"IFERROR(VLOOKUP(H130,得意先マスター!$B$7:$H$103,2,FALSE),\"\")","v":""},{"$f":"IFERROR(VLOOKUP(H130,得意先マスター!$B$7:$H$103,3,FALSE),\"\")","v":""},{"$f":"IFERROR(VLOOKUP(H130,得意先マスター!$B$7:$H$103,4,FALSE),\"\")","v":""},{"$f":"IFERROR(VLOOKUP(H130,得意先マスター!$B$7:$H$103,5,FALSE),\"\")","v":""},{"$f":"IFERROR(VLOOKUP(H130,得意先マスター!$B$7:$H$103,6,FALSE),\"\")","v":""},null,null,{"$f":"IFERROR(VLOOKUP(O130,商品マスター!$B$7:$D$53,2,FALSE),\"\")","v":""},null,{"$f":"IFERROR(VLOOKUP(O130,商品マスター!$B$7:$D$53,3,FALSE),\"\")","v":""},0,null,{"$f":"IFERROR(VLOOKUP(T130,商品マスター!$B$7:$D$53,2,FALSE),\"\")","v":""},null,{"$f":"IFERROR(VLOOKUP(T130,商品マスター!$B$7:$D$53,3,FALSE),\"\")","v":""},0,null,{"$f":"IFERROR(VLOOKUP(Y130,商品マスター!$B$7:$D$53,2,FALSE),\"\")","v":""},null,{"$f":"IFERROR(VLOOKUP(Y130,商品マスター!$B$7:$D$53,3,FALSE),\"\")","v":""},0,null,{"$f":"IFERROR(VLOOKUP(AD130,商品マスター!$B$7:$D$53,2,FALSE),\"\")","v":""},null,{"$f":"IFERROR(VLOOKUP(AD130,商品マスター!$B$7:$D$53,3,FALSE),\"\")","v":""},0,null,{"$f":"IFERROR(VLOOKUP(AI130,商品マスター!$B$7:$D$53,2,FALSE),\"\")","v":""},null,{"$f":"IFERROR(VLOOKUP(AI130,商品マスター!$B$7:$D$53,3,FALSE),\"\")","v":""},0,null,{"$f":"IFERROR(VLOOKUP(AN130,商品マスター!$B$7:$D$53,2,FALSE),\"\")","v":""},null,{"$f":"IFERROR(VLOOKUP(AN130,商品マスター!$B$7:$D$53,3,FALSE),\"\")","v":""},0,null,{"$f":"IFERROR(VLOOKUP(AS130,商品マスター!$B$7:$D$53,2,FALSE),\"\")","v":""},null,{"$f":"IFERROR(VLOOKUP(AS130,商品マスター!$B$7:$D$53,3,FALSE),\"\")","v":""},0,null,{"$f":"IFERROR(VLOOKUP(AX130,商品マスター!$B$7:$D$53,2,FALSE),\"\")","v":""},null,{"$f":"IFERROR(VLOOKUP(AX130,商品マスター!$B$7:$D$53,3,FALSE),\"\")","v":""},0,null,{"$f":"IFERROR(VLOOKUP(BC130,商品マスター!$B$7:$D$53,2,FALSE),\"\")","v":""},null,{"$f":"IFERROR(VLOOKUP(BC130,商品マスター!$B$7:$D$53,3,FALSE),\"\")","v":""},0,null,{"$f":"IFERROR(VLOOKUP(BH130,商品マスター!$B$7:$D$53,2,FALSE),\"\")","v":""},null,{"$f":"IFERROR(VLOOKUP(BH130,商品マスター!$B$7:$D$53,3,FALSE),\"\")","v":""},0,0,0.1,0,null,0]
["",null,null,null,null,null,null,null,{"$f":"IFERROR(VLOOKUP(H131,得意先マスター!$B$7:$H$103,2,FALSE),\"\")","v":""},{"$f":"IFERROR(VLOOKUP(H131,得意先マスター!$B$7:$H$103,3,FALSE),\"\")","v":""},{"$f":"IFERROR(VLOOKUP(H131,得意先マスター!$B$7:$H$103,4,FALSE),\"\")","v":""},{"$f":"IFERROR(VLOOKUP(H131,得意先マスター!$B$7:$H$103,5,FALSE),\"\")","v":""},{"$f":"IFERROR(VLOOKUP(H131,得意先マスター!$B$7:$H$103,6,FALSE),\"\")","v":""},null,null,{"$f":"IFERROR(VLOOKUP(O131,商品マスター!$B$7:$D$53,2,FALSE),\"\")","v":""},null,{"$f":"IFERROR(VLOOKUP(O131,商品マスター!$B$7:$D$53,3,FALSE),\"\")","v":""},0,null,{"$f":"IFERROR(VLOOKUP(T131,商品マスター!$B$7:$D$53,2,FALSE),\"\")","v":""},null,{"$f":"IFERROR(VLOOKUP(T131,商品マスター!$B$7:$D$53,3,FALSE),\"\")","v":""},0,null,{"$f":"IFERROR(VLOOKUP(Y131,商品マスター!$B$7:$D$53,2,FALSE),\"\")","v":""},null,{"$f":"IFERROR(VLOOKUP(Y131,商品マスター!$B$7:$D$53,3,FALSE),\"\")","v":""},0,null,{"$f":"IFERROR(VLOOKUP(AD131,商品マスター!$B$7:$D$53,2,FALSE),\"\")","v":""},null,{"$f":"IFERROR(VLOOKUP(AD131,商品マスター!$B$7:$D$53,3,FALSE),\"\")","v":""},0,null,{"$f":"IFERROR(VLOOKUP(AI131,商品マスター!$B$7:$D$53,2,FALSE),\"\")","v":""},null,{"$f":"IFERROR(VLOOKUP(AI131,商品マスター!$B$7:$D$53,3,FALSE),\"\")","v":""},0,null,{"$f":"IFERROR(VLOOKUP(AN131,商品マスター!$B$7:$D$53,2,FALSE),\"\")","v":""},null,{"$f":"IFERROR(VLOOKUP(AN131,商品マスター!$B$7:$D$53,3,FALSE),\"\")","v":""},0,null,{"$f":"IFERROR(VLOOKUP(AS131,商品マスター!$B$7:$D$53,2,FALSE),\"\")","v":""},null,{"$f":"IFERROR(VLOOKUP(AS131,商品マスター!$B$7:$D$53,3,FALSE),\"\")","v":""},0,null,{"$f":"IFERROR(VLOOKUP(AX131,商品マスター!$B$7:$D$53,2,FALSE),\"\")","v":""},null,{"$f":"IFERROR(VLOOKUP(AX131,商品マスター!$B$7:$D$53,3,FALSE),\"\")","v":""},0,null,{"$f":"IFERROR(VLOOKUP(BC131,商品マスター!$B$7:$D$53,2,FALSE),\"\")","v":""},null,{"$f":"IFERROR(VLOOKUP(BC131,商品マスター!$B$7:$D$53,3,FALSE),\"\")","v":""},0,null,{"$f":"IFERROR(VLOOKUP(BH131,商品マスター!$B$7:$D$53,2,FALSE),\"\")","v":""},null,{"$f":"IFERROR(VLOOKUP(BH131,商品マスター!$B$7:$D$53,3,FALSE),\"\")","v":""},0,0,0.1,0,null,0]
["",null,null,null,null,null,null,null,{"$f":"IFERROR(VLOOKUP(H132,得意先マスター!$B$7:$H$103,2,FALSE),\"\")","v":""},{"$f":"IFERROR(VLOOKUP(H132,得意先マスター!$B$7:$H$103,3,FALSE),\"\")","v":""},{"$f":"IFERROR(VLOOKUP(H132,得意先マスター!$B$7:$H$103,4,FALSE),\"\")","v":""},{"$f":"IFERROR(VLOOKUP(H132,得意先マスター!$B$7:$H$103,5,FALSE),\"\")","v":""},{"$f":"IFERROR(VLOOKUP(H132,得意先マスター!$B$7:$H$103,6,FALSE),\"\")","v":""},null,null,{"$f":"IFERROR(VLOOKUP(O132,商品マスター!$B$7:$D$53,2,FALSE),\"\")","v":""},null,{"$f":"IFERROR(VLOOKUP(O132,商品マスター!$B$7:$D$53,3,FALSE),\"\")","v":""},0,null,{"$f":"IFERROR(VLOOKUP(T132,商品マスター!$B$7:$D$53,2,FALSE),\"\")","v":""},null,{"$f":"IFERROR(VLOOKUP(T132,商品マスター!$B$7:$D$53,3,FALSE),\"\")","v":""},0,null,{"$f":"IFERROR(VLOOKUP(Y132,商品マスター!$B$7:$D$53,2,FALSE),\"\")","v":""},null,{"$f":"IFERROR(VLOOKUP(Y132,商品マスター!$B$7:$D$53,3,FALSE),\"\")","v":""},0,null,{"$f":"IFERROR(VLOOKUP(AD132,商品マスター!$B$7:$D$53,2,FALSE),\"\")","v":""},null,{"$f":"IFERROR(VLOOKUP(AD132,商品マスター!$B$7:$D$53,3,FALSE),\"\")","v":""},0,null,{"$f":"IFERROR(VLOOKUP(AI132,商品マスター!$B$7:$D$53,2,FALSE),\"\")","v":""},null,{"$f":"IFERROR(VLOOKUP(AI132,商品マスター!$B$7:$D$53,3,FALSE),\"\")","v":""},0,null,{"$f":"IFERROR(VLOOKUP(AN132,商品マスター!$B$7:$D$53,2,FALSE),\"\")","v":""},null,{"$f":"IFERROR(VLOOKUP(AN132,商品マスター!$B$7:$D$53,3,FALSE),\"\")","v":""},0,null,{"$f":"IFERROR(VLOOKUP(AS132,商品マスター!$B$7:$D$53,2,FALSE),\"\")","v":""},null,{"$f":"IFERROR(VLOOKUP(AS132,商品マスター!$B$7:$D$53,3,FALSE),\"\")","v":""},0,null,{"$f":"IFERROR(VLOOKUP(AX132,商品マスター!$B$7:$D$53,2,FALSE),\"\")","v":""},null,{"$f":"IFERROR(VLOOKUP(AX132,商品マスター!$B$7:$D$53,3,FALSE),\"\")","v":""},0,null,{"$f":"IFERROR(VLOOKUP(BC132,商品マスター!$B$7:$D$53,2,FALSE),\"\")","v":""},null,{"$f":"IFERROR(VLOOKUP(BC132,商品マスター!$B$7:$D$53,3,FALSE),\"\")","v":""},0,null,{"$f":"IFERROR(VLOOKUP(BH132,商品マスター!$B$7:$D$53,2,FALSE),\"\")","v":""},null,{"$f":"IFERROR(VLOOKUP(BH132,商品マスター!$B$7:$D$53,3,FALSE),\"\")","v":""},0,0,0.1,0,null,0]
["",null,null,null,null,null,null,null,{"$f":"IFERROR(VLOOKUP(H133,得意先マスター!$B$7:$H$103,2,FALSE),\"\")","v":""},{"$f":"IFERROR(VLOOKUP(H133,得意先マスター!$B$7:$H$103,3,FALSE),\"\")","v":""},{"$f":"IFERROR(VLOOKUP(H133,得意先マスター!$B$7:$H$103,4,FALSE),\"\")","v":""},{"$f":"IFERROR(VLOOKUP(H133,得意先マスター!$B$7:$H$103,5,FALSE),\"\")","v":""},{"$f":"IFERROR(VLOOKUP(H133,得意先マスター!$B$7:$H$103,6,FALSE),\"\")","v":""},null,null,{"$f":"IFERROR(VLOOKUP(O133,商品マスター!$B$7:$D$53,2,FALSE),\"\")","v":""},null,{"$f":"IFERROR(VLOOKUP(O133,商品マスター!$B$7:$D$53,3,FALSE),\"\")","v":""},0,null,{"$f":"IFERROR(VLOOKUP(T133,商品マスター!$B$7:$D$53,2,FALSE),\"\")","v":""},null,{"$f":"IFERROR(VLOOKUP(T133,商品マスター!$B$7:$D$53,3,FALSE),\"\")","v":""},0,null,{"$f":"IFERROR(VLOOKUP(Y133,商品マスター!$B$7:$D$53,2,FALSE),\"\")","v":""},null,{"$f":"IFERROR(VLOOKUP(Y133,商品マスター!$B$7:$D$53,3,FALSE),\"\")","v":""},0,null,{"$f":"IFERROR(VLOOKUP(AD133,商品マスター!$B$7:$D$53,2,FALSE),\"\")","v":""},null,{"$f":"IFERROR(VLOOKUP(AD133,商品マスター!$B$7:$D$53,3,FALSE),\"\")","v":""},0,null,{"$f":"IFERROR(VLOOKUP(AI133,商品マスター!$B$7:$D$53,2,FALSE),\"\")","v":""},null,{"$f":"IFERROR(VLOOKUP(AI133,商品マスター!$B$7:$D$53,3,FALSE),\"\")","v":""},0,null,{"$f":"IFERROR(VLOOKUP(AN133,商品マスター!$B$7:$D$53,2,FALSE),\"\")","v":""},null,{"$f":"IFERROR(VLOOKUP(AN133,商品マスター!$B$7:$D$53,3,FALSE),\"\")","v":""},0,null,{"$f":"IFERROR(VLOOKUP(AS133,商品マスター!$B$7:$D$53,2,FALSE),\"\")","v":""},null,{"$f":"IFERROR(VLOOKUP(AS133,商品マスター!$B$7:$D$53,3,FALSE),\"\")","v":""},0,null,{"$f":"IFERROR(VLOOKUP(AX133,商品マスター!$B$7:$D$53,2,FALSE),\"\")","v":""},null,{"$f":"IFERROR(VLOOKUP(AX133,商品マスター!$B$7:$D$53,3,FALSE),\"\")","v":""},0,null,{"$f":"IFERROR(VLOOKUP(BC133,商品マスター!$B$7:$D$53,2,FALSE),\"\")","v":""},null,{"$f":"IFERROR(VLOOKUP(BC133,商品マスター!$B$7:$D$53,3,FALSE),\"\")","v":""},0,null,{"$f":"IFERROR(VLOOKUP(BH133,商品マスター!$B$7:$D$53,2,FALSE),\"\")","v":""},null,{"$f":"IFERROR(VLOOKUP(BH133,商品マスター!$B$7:$D$53,3,FALSE),\"\")","v":""},0,0,0.1,0,null,0]
[{"$f":"IF(ISBLANK(C134),\"\",MONTH(C134))","v":""},null,null,null,null,null,null,null,{"$f":"IFERROR(VLOOKUP(H134,得意先マスター!$B$7:$H$103,2,FALSE),\"\")","v":""},{"$f":"IFERROR(VLOOKUP(H134,得意先マスター!$B$7:$H$103,3,FALSE),\"\")","v":""},{"$f":"IFERROR(VLOOKUP(H134,得意先マスター!$B$7:$H$103,4,FALSE),\"\")","v":""},{"$f":"IFERROR(VLOOKUP(H134,得意先マスター!$B$7:$H$103,5,FALSE),\"\")","v":""},{"$f":"IFERROR(VLOOKUP(H134,得意先マスター!$B$7:$H$103,6,FALSE),\"\")","v":""},null,null,{"$f":"IFERROR(VLOOKUP(O134,商品マスター!$B$7:$D$53,2,FALSE),\"\")","v":""},null,{"$f":"IFERROR(VLOOKUP(O134,商品マスター!$B$7:$D$53,3,FALSE),\"\")","v":""},0,null,{"$f":"IFERROR(VLOOKUP(T134,商品マスター!$B$7:$D$53,2,FALSE),\"\")","v":""},null,{"$f":"IFERROR(VLOOKUP(T134,商品マスター!$B$7:$D$53,3,FALSE),\"\")","v":""},0,null,{"$f":"IFERROR(VLOOKUP(Y134,商品マスター!$B$7:$D$53,2,FALSE),\"\")","v":""},null,{"$f":"IFERROR(VLOOKUP(Y134,商品マスター!$B$7:$D$53,3,FALSE),\"\")","v":""},0,null,{"$f":"IFERROR(VLOOKUP(AD134,商品マスター!$B$7:$D$53,2,FALSE),\"\")","v":""},null,{"$f":"IFERROR(VLOOKUP(AD134,商品マスター!$B$7:$D$53,3,FALSE),\"\")","v":""},0,null,{"$f":"IFERROR(VLOOKUP(AI134,商品マスター!$B$7:$D$53,2,FALSE),\"\")","v":""},null,{"$f":"IFERROR(VLOOKUP(AI134,商品マスター!$B$7:$D$53,3,FALSE),\"\")","v":""},0,null,{"$f":"IFERROR(VLOOKUP(AN134,商品マスター!$B$7:$D$53,2,FALSE),\"\")","v":""},null,{"$f":"IFERROR(VLOOKUP(AN134,商品マスター!$B$7:$D$53,3,FALSE),\"\")","v":""},0,null,{"$f":"IFERROR(VLOOKUP(AS134,商品マスター!$B$7:$D$53,2,FALSE),\"\")","v":""},null,{"$f":"IFERROR(VLOOKUP(AS134,商品マスター!$B$7:$D$53,3,FALSE),\"\")","v":""},0,null,{"$f":"IFERROR(VLOOKUP(AX134,商品マスター!$B$7:$D$53,2,FALSE),\"\")","v":""},null,{"$f":"IFERROR(VLOOKUP(AX134,商品マスター!$B$7:$D$53,3,FALSE),\"\")","v":""},0,null,{"$f":"IFERROR(VLOOKUP(BC134,商品マスター!$B$7:$D$53,2,FALSE),\"\")","v":""},null,{"$f":"IFERROR(VLOOKUP(BC134,商品マスター!$B$7:$D$53,3,FALSE),\"\")","v":""},0,null,{"$f":"IFERROR(VLOOKUP(BH134,商品マスター!$B$7:$D$53,2,FALSE),\"\")","v":""},null,{"$f":"IFERROR(VLOOKUP(BH134,商品マスター!$B$7:$D$53,3,FALSE),\"\")","v":""},0,0,0.1,0,null,{"$f":"BM134+BO134-BP134","v":0}]
["",null,null,null,null,null,null,null,{"$f":"IFERROR(VLOOKUP(H135,得意先マスター!$B$7:$H$103,2,FALSE),\"\")","v":""},{"$f":"IFERROR(VLOOKUP(H135,得意先マスター!$B$7:$H$103,3,FALSE),\"\")","v":""},{"$f":"IFERROR(VLOOKUP(H135,得意先マスター!$B$7:$H$103,4,FALSE),\"\")","v":""},{"$f":"IFERROR(VLOOKUP(H135,得意先マスター!$B$7:$H$103,5,FALSE),\"\")","v":""},{"$f":"IFERROR(VLOOKUP(H135,得意先マスター!$B$7:$H$103,6,FALSE),\"\")","v":""},null,null,{"$f":"IFERROR(VLOOKUP(O135,商品マスター!$B$7:$D$53,2,FALSE),\"\")","v":""},null,{"$f":"IFERROR(VLOOKUP(O135,商品マスター!$B$7:$D$53,3,FALSE),\"\")","v":""},{"$f":"IFERROR(Q135*R135,0)","v":0},null,{"$f":"IFERROR(VLOOKUP(T135,商品マスター!$B$7:$D$53,2,FALSE),\"\")","v":""},null,{"$f":"IFERROR(VLOOKUP(T135,商品マスター!$B$7:$D$53,3,FALSE),\"\")","v":""},{"$f":"IFERROR(V135*W135,0)","v":0},null,{"$f":"IFERROR(VLOOKUP(Y135,商品マスター!$B$7:$D$53,2,FALSE),\"\")","v":""},null,{"$f":"IFERROR(VLOOKUP(Y135,商品マスター!$B$7:$D$53,3,FALSE),\"\")","v":""},{"$f":"IFERROR(AA135*AB135,0)","v":0},null,{"$f":"IFERROR(VLOOKUP(AD135,商品マスター!$B$7:$D$53,2,FALSE),\"\")","v":""},null,{"$f":"IFERROR(VLOOKUP(AD135,商品マスター!$B$7:$D$53,3,FALSE),\"\")","v":""},{"$f":"IFERROR(AF135*AG135,0)","v":0},null,{"$f":"IFERROR(VLOOKUP(AI135,商品マスター!$B$7:$D$53,2,FALSE),\"\")","v":""},null,{"$f":"IFERROR(VLOOKUP(AI135,商品マスター!$B$7:$D$53,3,FALSE),\"\")","v":""},{"$f":"IFERROR(AK135*AL135,0)","v":0},null,{"$f":"IFERROR(VLOOKUP(AN135,商品マスター!$B$7:$D$53,2,FALSE),\"\")","v":""},null,{"$f":"IFERROR(VLOOKUP(AN135,商品マスター!$B$7:$D$53,3,FALSE),\"\")","v":""},{"$f":"IFERROR(AP135*AQ135,0)","v":0},null,{"$f":"IFERROR(VLOOKUP(AS135,商品マスター!$B$7:$D$53,2,FALSE),\"\")","v":""},null,{"$f":"IFERROR(VLOOKUP(AS135,商品マスター!$B$7:$D$53,3,FALSE),\"\")","v":""},{"$f":"IFERROR(AU135*AV135,0)","v":0},null,{"$f":"IFERROR(VLOOKUP(AX135,商品マスター!$B$7:$D$53,2,FALSE),\"\")","v":""},null,{"$f":"IFERROR(VLOOKUP(AX135,商品マスター!$B$7:$D$53,3,FALSE),\"\")","v":""},{"$f":"IFERROR(AZ135*BA135,0)","v":0},null,{"$f":"IFERROR(VLOOKUP(BC135,商品マスター!$B$7:$D$53,2,FALSE),\"\")","v":""},null,{"$f":"IFERROR(VLOOKUP(BC135,商品マスター!$B$7:$D$53,3,FALSE),\"\")","v":""},{"$f":"IFERROR(BE135*BF135,0)","v":0},null,{"$f":"IFERROR(VLOOKUP(BH135,商品マスター!$B$7:$D$53,2,FALSE),\"\")","v":""},null,{"$f":"IFERROR(VLOOKUP(BH135,商品マスター!$B$7:$D$53,3,FALSE),\"\")","v":""},{"$f":"IFERROR(BJ135*BK135,0)","v":0},{"$f":"IFERROR(S135+X135+AC135+AH135+AM135+AR135+AW135+BB135+BG135+BL135, \"\")","v":0},0.1,{"$f":"IFERROR(BM135*BN135, \"\")","v":0},null,0]
["",null,null,null,null,null,null,null,{"$f":"IFERROR(VLOOKUP(H136,得意先マスター!$B$7:$H$103,2,FALSE),\"\")","v":""},{"$f":"IFERROR(VLOOKUP(H136,得意先マスター!$B$7:$H$103,3,FALSE),\"\")","v":""},{"$f":"IFERROR(VLOOKUP(H136,得意先マスター!$B$7:$H$103,4,FALSE),\"\")","v":""},{"$f":"IFERROR(VLOOKUP(H136,得意先マスター!$B$7:$H$103,5,FALSE),\"\")","v":""},{"$f":"IFERROR(VLOOKUP(H136,得意先マスター!$B$7:$H$103,6,FALSE),\"\")","v":""},null,null,{"$f":"IFERROR(VLOOKUP(O136,商品マスター!$B$7:$D$53,2,FALSE),\"\")","v":""},null,{"$f":"IFERROR(VLOOKUP(O136,商品マスター!$B$7:$D$53,3,FALSE),\"\")","v":""},0,null,{"$f":"IFERROR(VLOOKUP(T136,商品マスター!$B$7:$D$53,2,FALSE),\"\")","v":""},null,{"$f":"IFERROR(VLOOKUP(T136,商品マスター!$B$7:$D$53,3,FALSE),\"\")","v":""},0,null,{"$f":"IFERROR(VLOOKUP(Y136,商品マスター!$B$7:$D$53,2,FALSE),\"\")","v":""},null,{"$f":"IFERROR(VLOOKUP(Y136,商品マスター!$B$7:$D$53,3,FALSE),\"\")","v":""},0,null,{"$f":"IFERROR(VLOOKUP(AD136,商品マスター!$B$7:$D$53,2,FALSE),\"\")","v":""},null,{"$f":"IFERROR(VLOOKUP(AD136,商品マスター!$B$7:$D$53,3,FALSE),\"\")","v":""},0,null,{"$f":"IFERROR(VLOOKUP(AI136,商品マスター!$B$7:$D$53,2,FALSE),\"\")","v":""},null,{"$f":"IFERROR(VLOOKUP(AI136,商品マスター!$B$7:$D$53,3,FALSE),\"\")","v":""},0,null,{"$f":"IFERROR(VLOOKUP(AN136,商品マスター!$B$7:$D$53,2,FALSE),\"\")","v":""},null,{"$f":"IFERROR(VLOOKUP(AN136,商品マスター!$B$7:$D$53,3,FALSE),\"\")","v":""},0,null,{"$f":"IFERROR(VLOOKUP(AS136,商品マスター!$B$7:$D$53,2,FALSE),\"\")","v":""},null,{"$f":"IFERROR(VLOOKUP(AS136,商品マスター!$B$7:$D$53,3,FALSE),\"\")","v":""},0,null,{"$f":"IFERROR(VLOOKUP(AX136,商品マスター!$B$7:$D$53,2,FALSE),\"\")","v":""},null,{"$f":"IFERROR(VLOOKUP(AX136,商品マスター!$B$7:$D$53,3,FALSE),\"\")","v":""},0,null,{"$f":"IFERROR(VLOOKUP(BC136,商品マスター!$B$7:$D$53,2,FALSE),\"\")","v":""},null,{"$f":"IFERROR(VLOOKUP(BC136,商品マスター!$B$7:$D$53,3,FALSE),\"\")","v":""},0,null,{"$f":"IFERROR(VLOOKUP(BH136,商品マスター!$B$7:$D$53,2,FALSE),\"\")","v":""},null,{"$f":"IFERROR(VLOOKUP(BH136,商品マスター!$B$7:$D$53,3,FALSE),\"\")","v":""},0,0,0.1,0,null,0]
["",null,null,null,null,null,null,null,{"$f":"IFERROR(VLOOKUP(H137,得意先マスター!$B$7:$H$103,2,FALSE),\"\")","v":""},{"$f":"IFERROR(VLOOKUP(H137,得意先マスター!$B$7:$H$103,3,FALSE),\"\")","v":""},{"$f":"IFERROR(VLOOKUP(H137,得意先マスター!$B$7:$H$103,4,FALSE),\"\")","v":""},{"$f":"IFERROR(VLOOKUP(H137,得意先マスター!$B$7:$H$103,5,FALSE),\"\")","v":""},{"$f":"IFERROR(VLOOKUP(H137,得意先マスター!$B$7:$H$103,6,FALSE),\"\")","v":""},null,null,{"$f":"IFERROR(VLOOKUP(O137,商品マスター!$B$7:$D$53,2,FALSE),\"\")","v":""},null,{"$f":"IFERROR(VLOOKUP(O137,商品マスター!$B$7:$D$53,3,FALSE),\"\")","v":""},0,null,{"$f":"IFERROR(VLOOKUP(T137,商品マスター!$B$7:$D$53,2,FALSE),\"\")","v":""},null,{"$f":"IFERROR(VLOOKUP(T137,商品マスター!$B$7:$D$53,3,FALSE),\"\")","v":""},0,null,{"$f":"IFERROR(VLOOKUP(Y137,商品マスター!$B$7:$D$53,2,FALSE),\"\")","v":""},null,{"$f":"IFERROR(VLOOKUP(Y137,商品マスター!$B$7:$D$53,3,FALSE),\"\")","v":""},0,null,{"$f":"IFERROR(VLOOKUP(AD137,商品マスター!$B$7:$D$53,2,FALSE),\"\")","v":""},null,{"$f":"IFERROR(VLOOKUP(AD137,商品マスター!$B$7:$D$53,3,FALSE),\"\")","v":""},0,null,{"$f":"IFERROR(VLOOKUP(AI137,商品マスター!$B$7:$D$53,2,FALSE),\"\")","v":""},null,{"$f":"IFERROR(VLOOKUP(AI137,商品マスター!$B$7:$D$53,3,FALSE),\"\")","v":""},0,null,{"$f":"IFERROR(VLOOKUP(AN137,商品マスター!$B$7:$D$53,2,FALSE),\"\")","v":""},null,{"$f":"IFERROR(VLOOKUP(AN137,商品マスター!$B$7:$D$53,3,FALSE),\"\")","v":""},0,null,{"$f":"IFERROR(VLOOKUP(AS137,商品マスター!$B$7:$D$53,2,FALSE),\"\")","v":""},null,{"$f":"IFERROR(VLOOKUP(AS137,商品マスター!$B$7:$D$53,3,FALSE),\"\")","v":""},0,null,{"$f":"IFERROR(VLOOKUP(AX137,商品マスター!$B$7:$D$53,2,FALSE),\"\")","v":""},null,{"$f":"IFERROR(VLOOKUP(AX137,商品マスター!$B$7:$D$53,3,FALSE),\"\")","v":""},0,null,{"$f":"IFERROR(VLOOKUP(BC137,商品マスター!$B$7:$D$53,2,FALSE),\"\")","v":""},null,{"$f":"IFERROR(VLOOKUP(BC137,商品マスター!$B$7:$D$53,3,FALSE),\"\")","v":""},0,null,{"$f":"IFERROR(VLOOKUP(BH137,商品マスター!$B$7:$D$53,2,FALSE),\"\")","v":""},null,{"$f":"IFERROR(VLOOKUP(BH137,商品マスター!$B$7:$D$53,3,FALSE),\"\")","v":""},0,0,0.1,0,null,0]
["",null,null,null,null,null,null,null,{"$f":"IFERROR(VLOOKUP(H138,得意先マスター!$B$7:$H$103,2,FALSE),\"\")","v":""},{"$f":"IFERROR(VLOOKUP(H138,得意先マスター!$B$7:$H$103,3,FALSE),\"\")","v":""},{"$f":"IFERROR(VLOOKUP(H138,得意先マスター!$B$7:$H$103,4,FALSE),\"\")","v":""},{"$f":"IFERROR(VLOOKUP(H138,得意先マスター!$B$7:$H$103,5,FALSE),\"\")","v":""},{"$f":"IFERROR(VLOOKUP(H138,得意先マスター!$B$7:$H$103,6,FALSE),\"\")","v":""},null,null,{"$f":"IFERROR(VLOOKUP(O138,商品マスター!$B$7:$D$53,2,FALSE),\"\")","v":""},null,{"$f":"IFERROR(VLOOKUP(O138,商品マスター!$B$7:$D$53,3,FALSE),\"\")","v":""},0,null,{"$f":"IFERROR(VLOOKUP(T138,商品マスター!$B$7:$D$53,2,FALSE),\"\")","v":""},null,{"$f":"IFERROR(VLOOKUP(T138,商品マスター!$B$7:$D$53,3,FALSE),\"\")","v":""},0,null,{"$f":"IFERROR(VLOOKUP(Y138,商品マスター!$B$7:$D$53,2,FALSE),\"\")","v":""},null,{"$f":"IFERROR(VLOOKUP(Y138,商品マスター!$B$7:$D$53,3,FALSE),\"\")","v":""},0,null,{"$f":"IFERROR(VLOOKUP(AD138,商品マスター!$B$7:$D$53,2,FALSE),\"\")","v":""},null,{"$f":"IFERROR(VLOOKUP(AD138,商品マスター!$B$7:$D$53,3,FALSE),\"\")","v":""},0,null,{"$f":"IFERROR(VLOOKUP(AI138,商品マスター!$B$7:$D$53,2,FALSE),\"\")","v":""},null,{"$f":"IFERROR(VLOOKUP(AI138,商品マスター!$B$7:$D$53,3,FALSE),\"\")","v":""},0,null,{"$f":"IFERROR(VLOOKUP(AN138,商品マスター!$B$7:$D$53,2,FALSE),\"\")","v":""},null,{"$f":"IFERROR(VLOOKUP(AN138,商品マスター!$B$7:$D$53,3,FALSE),\"\")","v":""},0,null,{"$f":"IFERROR(VLOOKUP(AS138,商品マスター!$B$7:$D$53,2,FALSE),\"\")","v":""},null,{"$f":"IFERROR(VLOOKUP(AS138,商品マスター!$B$7:$D$53,3,FALSE),\"\")","v":""},0,null,{"$f":"IFERROR(VLOOKUP(AX138,商品マスター!$B$7:$D$53,2,FALSE),\"\")","v":""},null,{"$f":"IFERROR(VLOOKUP(AX138,商品マスター!$B$7:$D$53,3,FALSE),\"\")","v":""},0,null,{"$f":"IFERROR(VLOOKUP(BC138,商品マスター!$B$7:$D$53,2,FALSE),\"\")","v":""},null,{"$f":"IFERROR(VLOOKUP(BC138,商品マスター!$B$7:$D$53,3,FALSE),\"\")","v":""},0,null,{"$f":"IFERROR(VLOOKUP(BH138,商品マスター!$B$7:$D$53,2,FALSE),\"\")","v":""},null,{"$f":"IFERROR(VLOOKUP(BH138,商品マスター!$B$7:$D$53,3,FALSE),\"\")","v":""},0,0,0.1,0,null,0]
["",null,null,null,null,null,null,null,{"$f":"IFERROR(VLOOKUP(H139,得意先マスター!$B$7:$H$103,2,FALSE),\"\")","v":""},{"$f":"IFERROR(VLOOKUP(H139,得意先マスター!$B$7:$H$103,3,FALSE),\"\")","v":""},{"$f":"IFERROR(VLOOKUP(H139,得意先マスター!$B$7:$H$103,4,FALSE),\"\")","v":""},{"$f":"IFERROR(VLOOKUP(H139,得意先マスター!$B$7:$H$103,5,FALSE),\"\")","v":""},{"$f":"IFERROR(VLOOKUP(H139,得意先マスター!$B$7:$H$103,6,FALSE),\"\")","v":""},null,null,{"$f":"IFERROR(VLOOKUP(O139,商品マスター!$B$7:$D$53,2,FALSE),\"\")","v":""},null,{"$f":"IFERROR(VLOOKUP(O139,商品マスター!$B$7:$D$53,3,FALSE),\"\")","v":""},0,null,{"$f":"IFERROR(VLOOKUP(T139,商品マスター!$B$7:$D$53,2,FALSE),\"\")","v":""},null,{"$f":"IFERROR(VLOOKUP(T139,商品マスター!$B$7:$D$53,3,FALSE),\"\")","v":""},0,null,{"$f":"IFERROR(VLOOKUP(Y139,商品マスター!$B$7:$D$53,2,FALSE),\"\")","v":""},null,{"$f":"IFERROR(VLOOKUP(Y139,商品マスター!$B$7:$D$53,3,FALSE),\"\")","v":""},0,null,{"$f":"IFERROR(VLOOKUP(AD139,商品マスター!$B$7:$D$53,2,FALSE),\"\")","v":""},null,{"$f":"IFERROR(VLOOKUP(AD139,商品マスター!$B$7:$D$53,3,FALSE),\"\")","v":""},0,null,{"$f":"IFERROR(VLOOKUP(AI139,商品マスター!$B$7:$D$53,2,FALSE),\"\")","v":""},null,{"$f":"IFERROR(VLOOKUP(AI139,商品マスター!$B$7:$D$53,3,FALSE),\"\")","v":""},0,null,{"$f":"IFERROR(VLOOKUP(AN139,商品マスター!$B$7:$D$53,2,FALSE),\"\")","v":""},null,{"$f":"IFERROR(VLOOKUP(AN139,商品マスター!$B$7:$D$53,3,FALSE),\"\")","v":""},0,null,{"$f":"IFERROR(VLOOKUP(AS139,商品マスター!$B$7:$D$53,2,FALSE),\"\")","v":""},null,{"$f":"IFERROR(VLOOKUP(AS139,商品マスター!$B$7:$D$53,3,FALSE),\"\")","v":""},0,null,{"$f":"IFERROR(VLOOKUP(AX139,商品マスター!$B$7:$D$53,2,FALSE),\"\")","v":""},null,{"$f":"IFERROR(VLOOKUP(AX139,商品マスター!$B$7:$D$53,3,FALSE),\"\")","v":""},0,null,{"$f":"IFERROR(VLOOKUP(BC139,商品マスター!$B$7:$D$53,2,FALSE),\"\")","v":""},null,{"$f":"IFERROR(VLOOKUP(BC139,商品マスター!$B$7:$D$53,3,FALSE),\"\")","v":""},0,null,{"$f":"IFERROR(VLOOKUP(BH139,商品マスター!$B$7:$D$53,2,FALSE),\"\")","v":""},null,{"$f":"IFERROR(VLOOKUP(BH139,商品マスター!$B$7:$D$53,3,FALSE),\"\")","v":""},0,0,0.1,0,null,0]
["",null,null,null,null,null,null,null,{"$f":"IFERROR(VLOOKUP(H140,得意先マスター!$B$7:$H$103,2,FALSE),\"\")","v":""},{"$f":"IFERROR(VLOOKUP(H140,得意先マスター!$B$7:$H$103,3,FALSE),\"\")","v":""},{"$f":"IFERROR(VLOOKUP(H140,得意先マスター!$B$7:$H$103,4,FALSE),\"\")","v":""},{"$f":"IFERROR(VLOOKUP(H140,得意先マスター!$B$7:$H$103,5,FALSE),\"\")","v":""},{"$f":"IFERROR(VLOOKUP(H140,得意先マスター!$B$7:$H$103,6,FALSE),\"\")","v":""},null,null,{"$f":"IFERROR(VLOOKUP(O140,商品マスター!$B$7:$D$53,2,FALSE),\"\")","v":""},null,{"$f":"IFERROR(VLOOKUP(O140,商品マスター!$B$7:$D$53,3,FALSE),\"\")","v":""},0,null,{"$f":"IFERROR(VLOOKUP(T140,商品マスター!$B$7:$D$53,2,FALSE),\"\")","v":""},null,{"$f":"IFERROR(VLOOKUP(T140,商品マスター!$B$7:$D$53,3,FALSE),\"\")","v":""},0,null,{"$f":"IFERROR(VLOOKUP(Y140,商品マスター!$B$7:$D$53,2,FALSE),\"\")","v":""},null,{"$f":"IFERROR(VLOOKUP(Y140,商品マスター!$B$7:$D$53,3,FALSE),\"\")","v":""},0,null,{"$f":"IFERROR(VLOOKUP(AD140,商品マスター!$B$7:$D$53,2,FALSE),\"\")","v":""},null,{"$f":"IFERROR(VLOOKUP(AD140,商品マスター!$B$7:$D$53,3,FALSE),\"\")","v":""},0,null,{"$f":"IFERROR(VLOOKUP(AI140,商品マスター!$B$7:$D$53,2,FALSE),\"\")","v":""},null,{"$f":"IFERROR(VLOOKUP(AI140,商品マスター!$B$7:$D$53,3,FALSE),\"\")","v":""},0,null,{"$f":"IFERROR(VLOOKUP(AN140,商品マスター!$B$7:$D$53,2,FALSE),\"\")","v":""},null,{"$f":"IFERROR(VLOOKUP(AN140,商品マスター!$B$7:$D$53,3,FALSE),\"\")","v":""},0,null,{"$f":"IFERROR(VLOOKUP(AS140,商品マスター!$B$7:$D$53,2,FALSE),\"\")","v":""},null,{"$f":"IFERROR(VLOOKUP(AS140,商品マスター!$B$7:$D$53,3,FALSE),\"\")","v":""},0,null,{"$f":"IFERROR(VLOOKUP(AX140,商品マスター!$B$7:$D$53,2,FALSE),\"\")","v":""},null,{"$f":"IFERROR(VLOOKUP(AX140,商品マスター!$B$7:$D$53,3,FALSE),\"\")","v":""},0,null,{"$f":"IFERROR(VLOOKUP(BC140,商品マスター!$B$7:$D$53,2,FALSE),\"\")","v":""},null,{"$f":"IFERROR(VLOOKUP(BC140,商品マスター!$B$7:$D$53,3,FALSE),\"\")","v":""},0,null,{"$f":"IFERROR(VLOOKUP(BH140,商品マスター!$B$7:$D$53,2,FALSE),\"\")","v":""},null,{"$f":"IFERROR(VLOOKUP(BH140,商品マスター!$B$7:$D$53,3,FALSE),\"\")","v":""},0,0,0.1,0,null,0]
["",null,null,null,null,null,null,null,{"$f":"IFERROR(VLOOKUP(H141,得意先マスター!$B$7:$H$103,2,FALSE),\"\")","v":""},{"$f":"IFERROR(VLOOKUP(H141,得意先マスター!$B$7:$H$103,3,FALSE),\"\")","v":""},{"$f":"IFERROR(VLOOKUP(H141,得意先マスター!$B$7:$H$103,4,FALSE),\"\")","v":""},{"$f":"IFERROR(VLOOKUP(H141,得意先マスター!$B$7:$H$103,5,FALSE),\"\")","v":""},{"$f":"IFERROR(VLOOKUP(H141,得意先マスター!$B$7:$H$103,6,FALSE),\"\")","v":""},null,null,{"$f":"IFERROR(VLOOKUP(O141,商品マスター!$B$7:$D$53,2,FALSE),\"\")","v":""},null,{"$f":"IFERROR(VLOOKUP(O141,商品マスター!$B$7:$D$53,3,FALSE),\"\")","v":""},0,null,{"$f":"IFERROR(VLOOKUP(T141,商品マスター!$B$7:$D$53,2,FALSE),\"\")","v":""},null,{"$f":"IFERROR(VLOOKUP(T141,商品マスター!$B$7:$D$53,3,FALSE),\"\")","v":""},0,null,{"$f":"IFERROR(VLOOKUP(Y141,商品マスター!$B$7:$D$53,2,FALSE),\"\")","v":""},null,{"$f":"IFERROR(VLOOKUP(Y141,商品マスター!$B$7:$D$53,3,FALSE),\"\")","v":""},0,null,{"$f":"IFERROR(VLOOKUP(AD141,商品マスター!$B$7:$D$53,2,FALSE),\"\")","v":""},null,{"$f":"IFERROR(VLOOKUP(AD141,商品マスター!$B$7:$D$53,3,FALSE),\"\")","v":""},0,null,{"$f":"IFERROR(VLOOKUP(AI141,商品マスター!$B$7:$D$53,2,FALSE),\"\")","v":""},null,{"$f":"IFERROR(VLOOKUP(AI141,商品マスター!$B$7:$D$53,3,FALSE),\"\")","v":""},0,null,{"$f":"IFERROR(VLOOKUP(AN141,商品マスター!$B$7:$D$53,2,FALSE),\"\")","v":""},null,{"$f":"IFERROR(VLOOKUP(AN141,商品マスター!$B$7:$D$53,3,FALSE),\"\")","v":""},0,null,{"$f":"IFERROR(VLOOKUP(AS141,商品マスター!$B$7:$D$53,2,FALSE),\"\")","v":""},null,{"$f":"IFERROR(VLOOKUP(AS141,商品マスター!$B$7:$D$53,3,FALSE),\"\")","v":""},0,null,{"$f":"IFERROR(VLOOKUP(AX141,商品マスター!$B$7:$D$53,2,FALSE),\"\")","v":""},null,{"$f":"IFERROR(VLOOKUP(AX141,商品マスター!$B$7:$D$53,3,FALSE),\"\")","v":""},0,null,{"$f":"IFERROR(VLOOKUP(BC141,商品マスター!$B$7:$D$53,2,FALSE),\"\")","v":""},null,{"$f":"IFERROR(VLOOKUP(BC141,商品マスター!$B$7:$D$53,3,FALSE),\"\")","v":""},0,null,{"$f":"IFERROR(VLOOKUP(BH141,商品マスター!$B$7:$D$53,2,FALSE),\"\")","v":""},null,{"$f":"IFERROR(VLOOKUP(BH141,商品マスター!$B$7:$D$53,3,FALSE),\"\")","v":""},0,0,0.1,0,null,0]
["",null,null,null,null,null,null,null,{"$f":"IFERROR(VLOOKUP(H142,得意先マスター!$B$7:$H$103,2,FALSE),\"\")","v":""},{"$f":"IFERROR(VLOOKUP(H142,得意先マスター!$B$7:$H$103,3,FALSE),\"\")","v":""},{"$f":"IFERROR(VLOOKUP(H142,得意先マスター!$B$7:$H$103,4,FALSE),\"\")","v":""},{"$f":"IFERROR(VLOOKUP(H142,得意先マスター!$B$7:$H$103,5,FALSE),\"\")","v":""},{"$f":"IFERROR(VLOOKUP(H142,得意先マスター!$B$7:$H$103,6,FALSE),\"\")","v":""},null,null,{"$f":"IFERROR(VLOOKUP(O142,商品マスター!$B$7:$D$53,2,FALSE),\"\")","v":""},null,{"$f":"IFERROR(VLOOKUP(O142,商品マスター!$B$7:$D$53,3,FALSE),\"\")","v":""},0,null,{"$f":"IFERROR(VLOOKUP(T142,商品マスター!$B$7:$D$53,2,FALSE),\"\")","v":""},null,{"$f":"IFERROR(VLOOKUP(T142,商品マスター!$B$7:$D$53,3,FALSE),\"\")","v":""},0,null,{"$f":"IFERROR(VLOOKUP(Y142,商品マスター!$B$7:$D$53,2,FALSE),\"\")","v":""},null,{"$f":"IFERROR(VLOOKUP(Y142,商品マスター!$B$7:$D$53,3,FALSE),\"\")","v":""},0,null,{"$f":"IFERROR(VLOOKUP(AD142,商品マスター!$B$7:$D$53,2,FALSE),\"\")","v":""},null,{"$f":"IFERROR(VLOOKUP(AD142,商品マスター!$B$7:$D$53,3,FALSE),\"\")","v":""},0,null,{"$f":"IFERROR(VLOOKUP(AI142,商品マスター!$B$7:$D$53,2,FALSE),\"\")","v":""},null,{"$f":"IFERROR(VLOOKUP(AI142,商品マスター!$B$7:$D$53,3,FALSE),\"\")","v":""},0,null,{"$f":"IFERROR(VLOOKUP(AN142,商品マスター!$B$7:$D$53,2,FALSE),\"\")","v":""},null,{"$f":"IFERROR(VLOOKUP(AN142,商品マスター!$B$7:$D$53,3,FALSE),\"\")","v":""},0,null,{"$f":"IFERROR(VLOOKUP(AS142,商品マスター!$B$7:$D$53,2,FALSE),\"\")","v":""},null,{"$f":"IFERROR(VLOOKUP(AS142,商品マスター!$B$7:$D$53,3,FALSE),\"\")","v":""},0,null,{"$f":"IFERROR(VLOOKUP(AX142,商品マスター!$B$7:$D$53,2,FALSE),\"\")","v":""},null,{"$f":"IFERROR(VLOOKUP(AX142,商品マスター!$B$7:$D$53,3,FALSE),\"\")","v":""},0,null,{"$f":"IFERROR(VLOOKUP(BC142,商品マスター!$B$7:$D$53,2,FALSE),\"\")","v":""},null,{"$f":"IFERROR(VLOOKUP(BC142,商品マスター!$B$7:$D$53,3,FALSE),\"\")","v":""},0,null,{"$f":"IFERROR(VLOOKUP(BH142,商品マスター!$B$7:$D$53,2,FALSE),\"\")","v":""},null,{"$f":"IFERROR(VLOOKUP(BH142,商品マスター!$B$7:$D$53,3,FALSE),\"\")","v":""},0,0,0.1,0,null,0]
["",null,null,null,null,null,null,null,{"$f":"IFERROR(VLOOKUP(H143,得意先マスター!$B$7:$H$103,2,FALSE),\"\")","v":""},{"$f":"IFERROR(VLOOKUP(H143,得意先マスター!$B$7:$H$103,3,FALSE),\"\")","v":""},{"$f":"IFERROR(VLOOKUP(H143,得意先マスター!$B$7:$H$103,4,FALSE),\"\")","v":""},{"$f":"IFERROR(VLOOKUP(H143,得意先マスター!$B$7:$H$103,5,FALSE),\"\")","v":""},{"$f":"IFERROR(VLOOKUP(H143,得意先マスター!$B$7:$H$103,6,FALSE),\"\")","v":""},null,null,{"$f":"IFERROR(VLOOKUP(O143,商品マスター!$B$7:$D$53,2,FALSE),\"\")","v":""},null,{"$f":"IFERROR(VLOOKUP(O143,商品マスター!$B$7:$D$53,3,FALSE),\"\")","v":""},0,null,{"$f":"IFERROR(VLOOKUP(T143,商品マスター!$B$7:$D$53,2,FALSE),\"\")","v":""},null,{"$f":"IFERROR(VLOOKUP(T143,商品マスター!$B$7:$D$53,3,FALSE),\"\")","v":""},0,null,{"$f":"IFERROR(VLOOKUP(Y143,商品マスター!$B$7:$D$53,2,FALSE),\"\")","v":""},null,{"$f":"IFERROR(VLOOKUP(Y143,商品マスター!$B$7:$D$53,3,FALSE),\"\")","v":""},0,null,{"$f":"IFERROR(VLOOKUP(AD143,商品マスター!$B$7:$D$53,2,FALSE),\"\")","v":""},null,{"$f":"IFERROR(VLOOKUP(AD143,商品マスター!$B$7:$D$53,3,FALSE),\"\")","v":""},0,null,{"$f":"IFERROR(VLOOKUP(AI143,商品マスター!$B$7:$D$53,2,FALSE),\"\")","v":""},null,{"$f":"IFERROR(VLOOKUP(AI143,商品マスター!$B$7:$D$53,3,FALSE),\"\")","v":""},0,null,{"$f":"IFERROR(VLOOKUP(AN143,商品マスター!$B$7:$D$53,2,FALSE),\"\")","v":""},null,{"$f":"IFERROR(VLOOKUP(AN143,商品マスター!$B$7:$D$53,3,FALSE),\"\")","v":""},0,null,{"$f":"IFERROR(VLOOKUP(AS143,商品マスター!$B$7:$D$53,2,FALSE),\"\")","v":""},null,{"$f":"IFERROR(VLOOKUP(AS143,商品マスター!$B$7:$D$53,3,FALSE),\"\")","v":""},0,null,{"$f":"IFERROR(VLOOKUP(AX143,商品マスター!$B$7:$D$53,2,FALSE),\"\")","v":""},null,{"$f":"IFERROR(VLOOKUP(AX143,商品マスター!$B$7:$D$53,3,FALSE),\"\")","v":""},0,null,{"$f":"IFERROR(VLOOKUP(BC143,商品マスター!$B$7:$D$53,2,FALSE),\"\")","v":""},null,{"$f":"IFERROR(VLOOKUP(BC143,商品マスター!$B$7:$D$53,3,FALSE),\"\")","v":""},0,null,{"$f":"IFERROR(VLOOKUP(BH143,商品マスター!$B$7:$D$53,2,FALSE),\"\")","v":""},null,{"$f":"IFERROR(VLOOKUP(BH143,商品マスター!$B$7:$D$53,3,FALSE),\"\")","v":""},0,0,0.1,0,null,0]
["",null,null,null,null,null,null,null,{"$f":"IFERROR(VLOOKUP(H144,得意先マスター!$B$7:$H$103,2,FALSE),\"\")","v":""},{"$f":"IFERROR(VLOOKUP(H144,得意先マスター!$B$7:$H$103,3,FALSE),\"\")","v":""},{"$f":"IFERROR(VLOOKUP(H144,得意先マスター!$B$7:$H$103,4,FALSE),\"\")","v":""},{"$f":"IFERROR(VLOOKUP(H144,得意先マスター!$B$7:$H$103,5,FALSE),\"\")","v":""},{"$f":"IFERROR(VLOOKUP(H144,得意先マスター!$B$7:$H$103,6,FALSE),\"\")","v":""},null,null,{"$f":"IFERROR(VLOOKUP(O144,商品マスター!$B$7:$D$53,2,FALSE),\"\")","v":""},null,{"$f":"IFERROR(VLOOKUP(O144,商品マスター!$B$7:$D$53,3,FALSE),\"\")","v":""},0,null,{"$f":"IFERROR(VLOOKUP(T144,商品マスター!$B$7:$D$53,2,FALSE),\"\")","v":""},null,{"$f":"IFERROR(VLOOKUP(T144,商品マスター!$B$7:$D$53,3,FALSE),\"\")","v":""},0,null,{"$f":"IFERROR(VLOOKUP(Y144,商品マスター!$B$7:$D$53,2,FALSE),\"\")","v":""},null,{"$f":"IFERROR(VLOOKUP(Y144,商品マスター!$B$7:$D$53,3,FALSE),\"\")","v":""},0,null,{"$f":"IFERROR(VLOOKUP(AD144,商品マスター!$B$7:$D$53,2,FALSE),\"\")","v":""},null,{"$f":"IFERROR(VLOOKUP(AD144,商品マスター!$B$7:$D$53,3,FALSE),\"\")","v":""},0,null,{"$f":"IFERROR(VLOOKUP(AI144,商品マスター!$B$7:$D$53,2,FALSE),\"\")","v":""},null,{"$f":"IFERROR(VLOOKUP(AI144,商品マスター!$B$7:$D$53,3,FALSE),\"\")","v":""},0,null,{"$f":"IFERROR(VLOOKUP(AN144,商品マスター!$B$7:$D$53,2,FALSE),\"\")","v":""},null,{"$f":"IFERROR(VLOOKUP(AN144,商品マスター!$B$7:$D$53,3,FALSE),\"\")","v":""},0,null,{"$f":"IFERROR(VLOOKUP(AS144,商品マスター!$B$7:$D$53,2,FALSE),\"\")","v":""},null,{"$f":"IFERROR(VLOOKUP(AS144,商品マスター!$B$7:$D$53,3,FALSE),\"\")","v":""},0,null,{"$f":"IFERROR(VLOOKUP(AX144,商品マスター!$B$7:$D$53,2,FALSE),\"\")","v":""},null,{"$f":"IFERROR(VLOOKUP(AX144,商品マスター!$B$7:$D$53,3,FALSE),\"\")","v":""},0,null,{"$f":"IFERROR(VLOOKUP(BC144,商品マスター!$B$7:$D$53,2,FALSE),\"\")","v":""},null,{"$f":"IFERROR(VLOOKUP(BC144,商品マスター!$B$7:$D$53,3,FALSE),\"\")","v":""},0,null,{"$f":"IFERROR(VLOOKUP(BH144,商品マスター!$B$7:$D$53,2,FALSE),\"\")","v":""},null,{"$f":"IFERROR(VLOOKUP(BH144,商品マスター!$B$7:$D$53,3,FALSE),\"\")","v":""},0,0,0.1,0,null,0]
["",null,null,null,null,null,null,null,{"$f":"IFERROR(VLOOKUP(H145,得意先マスター!$B$7:$H$103,2,FALSE),\"\")","v":""},{"$f":"IFERROR(VLOOKUP(H145,得意先マスター!$B$7:$H$103,3,FALSE),\"\")","v":""},{"$f":"IFERROR(VLOOKUP(H145,得意先マスター!$B$7:$H$103,4,FALSE),\"\")","v":""},{"$f":"IFERROR(VLOOKUP(H145,得意先マスター!$B$7:$H$103,5,FALSE),\"\")","v":""},{"$f":"IFERROR(VLOOKUP(H145,得意先マスター!$B$7:$H$103,6,FALSE),\"\")","v":""},null,null,{"$f":"IFERROR(VLOOKUP(O145,商品マスター!$B$7:$D$53,2,FALSE),\"\")","v":""},null,{"$f":"IFERROR(VLOOKUP(O145,商品マスター!$B$7:$D$53,3,FALSE),\"\")","v":""},0,null,{"$f":"IFERROR(VLOOKUP(T145,商品マスター!$B$7:$D$53,2,FALSE),\"\")","v":""},null,{"$f":"IFERROR(VLOOKUP(T145,商品マスター!$B$7:$D$53,3,FALSE),\"\")","v":""},0,null,{"$f":"IFERROR(VLOOKUP(Y145,商品マスター!$B$7:$D$53,2,FALSE),\"\")","v":""},null,{"$f":"IFERROR(VLOOKUP(Y145,商品マスター!$B$7:$D$53,3,FALSE),\"\")","v":""},0,null,{"$f":"IFERROR(VLOOKUP(AD145,商品マスター!$B$7:$D$53,2,FALSE),\"\")","v":""},null,{"$f":"IFERROR(VLOOKUP(AD145,商品マスター!$B$7:$D$53,3,FALSE),\"\")","v":""},0,null,{"$f":"IFERROR(VLOOKUP(AI145,商品マスター!$B$7:$D$53,2,FALSE),\"\")","v":""},null,{"$f":"IFERROR(VLOOKUP(AI145,商品マスター!$B$7:$D$53,3,FALSE),\"\")","v":""},0,null,{"$f":"IFERROR(VLOOKUP(AN145,商品マスター!$B$7:$D$53,2,FALSE),\"\")","v":""},null,{"$f":"IFERROR(VLOOKUP(AN145,商品マスター!$B$7:$D$53,3,FALSE),\"\")","v":""},0,null,{"$f":"IFERROR(VLOOKUP(AS145,商品マスター!$B$7:$D$53,2,FALSE),\"\")","v":""},null,{"$f":"IFERROR(VLOOKUP(AS145,商品マスター!$B$7:$D$53,3,FALSE),\"\")","v":""},0,null,{"$f":"IFERROR(VLOOKUP(AX145,商品マスター!$B$7:$D$53,2,FALSE),\"\")","v":""},null,{"$f":"IFERROR(VLOOKUP(AX145,商品マスター!$B$7:$D$53,3,FALSE),\"\")","v":""},0,null,{"$f":"IFERROR(VLOOKUP(BC145,商品マスター!$B$7:$D$53,2,FALSE),\"\")","v":""},null,{"$f":"IFERROR(VLOOKUP(BC145,商品マスター!$B$7:$D$53,3,FALSE),\"\")","v":""},0,null,{"$f":"IFERROR(VLOOKUP(BH145,商品マスター!$B$7:$D$53,2,FALSE),\"\")","v":""},null,{"$f":"IFERROR(VLOOKUP(BH145,商品マスター!$B$7:$D$53,3,FALSE),\"\")","v":""},0,0,0.1,0,null,0]
["",null,null,null,null,null,null,null,{"$f":"IFERROR(VLOOKUP(H146,得意先マスター!$B$7:$H$103,2,FALSE),\"\")","v":""},{"$f":"IFERROR(VLOOKUP(H146,得意先マスター!$B$7:$H$103,3,FALSE),\"\")","v":""},{"$f":"IFERROR(VLOOKUP(H146,得意先マスター!$B$7:$H$103,4,FALSE),\"\")","v":""},{"$f":"IFERROR(VLOOKUP(H146,得意先マスター!$B$7:$H$103,5,FALSE),\"\")","v":""},{"$f":"IFERROR(VLOOKUP(H146,得意先マスター!$B$7:$H$103,6,FALSE),\"\")","v":""},null,null,{"$f":"IFERROR(VLOOKUP(O146,商品マスター!$B$7:$D$53,2,FALSE),\"\")","v":""},null,{"$f":"IFERROR(VLOOKUP(O146,商品マスター!$B$7:$D$53,3,FALSE),\"\")","v":""},0,null,{"$f":"IFERROR(VLOOKUP(T146,商品マスター!$B$7:$D$53,2,FALSE),\"\")","v":""},null,{"$f":"IFERROR(VLOOKUP(T146,商品マスター!$B$7:$D$53,3,FALSE),\"\")","v":""},0,null,{"$f":"IFERROR(VLOOKUP(Y146,商品マスター!$B$7:$D$53,2,FALSE),\"\")","v":""},null,{"$f":"IFERROR(VLOOKUP(Y146,商品マスター!$B$7:$D$53,3,FALSE),\"\")","v":""},0,null,{"$f":"IFERROR(VLOOKUP(AD146,商品マスター!$B$7:$D$53,2,FALSE),\"\")","v":""},null,{"$f":"IFERROR(VLOOKUP(AD146,商品マスター!$B$7:$D$53,3,FALSE),\"\")","v":""},0,null,{"$f":"IFERROR(VLOOKUP(AI146,商品マスター!$B$7:$D$53,2,FALSE),\"\")","v":""},null,{"$f":"IFERROR(VLOOKUP(AI146,商品マスター!$B$7:$D$53,3,FALSE),\"\")","v":""},0,null,{"$f":"IFERROR(VLOOKUP(AN146,商品マスター!$B$7:$D$53,2,FALSE),\"\")","v":""},null,{"$f":"IFERROR(VLOOKUP(AN146,商品マスター!$B$7:$D$53,3,FALSE),\"\")","v":""},0,null,{"$f":"IFERROR(VLOOKUP(AS146,商品マスター!$B$7:$D$53,2,FALSE),\"\")","v":""},null,{"$f":"IFERROR(VLOOKUP(AS146,商品マスター!$B$7:$D$53,3,FALSE),\"\")","v":""},0,null,{"$f":"IFERROR(VLOOKUP(AX146,商品マスター!$B$7:$D$53,2,FALSE),\"\")","v":""},null,{"$f":"IFERROR(VLOOKUP(AX146,商品マスター!$B$7:$D$53,3,FALSE),\"\")","v":""},0,null,{"$f":"IFERROR(VLOOKUP(BC146,商品マスター!$B$7:$D$53,2,FALSE),\"\")","v":""},null,{"$f":"IFERROR(VLOOKUP(BC146,商品マスター!$B$7:$D$53,3,FALSE),\"\")","v":""},0,null,{"$f":"IFERROR(VLOOKUP(BH146,商品マスター!$B$7:$D$53,2,FALSE),\"\")","v":""},null,{"$f":"IFERROR(VLOOKUP(BH146,商品マスター!$B$7:$D$53,3,FALSE),\"\")","v":""},0,0,0.1,0,null,0]
["",null,null,null,null,null,null,null,{"$f":"IFERROR(VLOOKUP(H147,得意先マスター!$B$7:$H$103,2,FALSE),\"\")","v":""},{"$f":"IFERROR(VLOOKUP(H147,得意先マスター!$B$7:$H$103,3,FALSE),\"\")","v":""},{"$f":"IFERROR(VLOOKUP(H147,得意先マスター!$B$7:$H$103,4,FALSE),\"\")","v":""},{"$f":"IFERROR(VLOOKUP(H147,得意先マスター!$B$7:$H$103,5,FALSE),\"\")","v":""},{"$f":"IFERROR(VLOOKUP(H147,得意先マスター!$B$7:$H$103,6,FALSE),\"\")","v":""},null,null,{"$f":"IFERROR(VLOOKUP(O147,商品マスター!$B$7:$D$53,2,FALSE),\"\")","v":""},null,{"$f":"IFERROR(VLOOKUP(O147,商品マスター!$B$7:$D$53,3,FALSE),\"\")","v":""},0,null,{"$f":"IFERROR(VLOOKUP(T147,商品マスター!$B$7:$D$53,2,FALSE),\"\")","v":""},null,{"$f":"IFERROR(VLOOKUP(T147,商品マスター!$B$7:$D$53,3,FALSE),\"\")","v":""},0,null,{"$f":"IFERROR(VLOOKUP(Y147,商品マスター!$B$7:$D$53,2,FALSE),\"\")","v":""},null,{"$f":"IFERROR(VLOOKUP(Y147,商品マスター!$B$7:$D$53,3,FALSE),\"\")","v":""},0,null,{"$f":"IFERROR(VLOOKUP(AD147,商品マスター!$B$7:$D$53,2,FALSE),\"\")","v":""},null,{"$f":"IFERROR(VLOOKUP(AD147,商品マスター!$B$7:$D$53,3,FALSE),\"\")","v":""},0,null,{"$f":"IFERROR(VLOOKUP(AI147,商品マスター!$B$7:$D$53,2,FALSE),\"\")","v":""},null,{"$f":"IFERROR(VLOOKUP(AI147,商品マスター!$B$7:$D$53,3,FALSE),\"\")","v":""},0,null,{"$f":"IFERROR(VLOOKUP(AN147,商品マスター!$B$7:$D$53,2,FALSE),\"\")","v":""},null,{"$f":"IFERROR(VLOOKUP(AN147,商品マスター!$B$7:$D$53,3,FALSE),\"\")","v":""},0,null,{"$f":"IFERROR(VLOOKUP(AS147,商品マスター!$B$7:$D$53,2,FALSE),\"\")","v":""},null,{"$f":"IFERROR(VLOOKUP(AS147,商品マスター!$B$7:$D$53,3,FALSE),\"\")","v":""},0,null,{"$f":"IFERROR(VLOOKUP(AX147,商品マスター!$B$7:$D$53,2,FALSE),\"\")","v":""},null,{"$f":"IFERROR(VLOOKUP(AX147,商品マスター!$B$7:$D$53,3,FALSE),\"\")","v":""},0,null,{"$f":"IFERROR(VLOOKUP(BC147,商品マスター!$B$7:$D$53,2,FALSE),\"\")","v":""},null,{"$f":"IFERROR(VLOOKUP(BC147,商品マスター!$B$7:$D$53,3,FALSE),\"\")","v":""},0,null,{"$f":"IFERROR(VLOOKUP(BH147,商品マスター!$B$7:$D$53,2,FALSE),\"\")","v":""},null,{"$f":"IFERROR(VLOOKUP(BH147,商品マスター!$B$7:$D$53,3,FALSE),\"\")","v":""},0,0,0.1,0,null,0]
["",null,null,null,null,null,null,null,{"$f":"IFERROR(VLOOKUP(H148,得意先マスター!$B$7:$H$103,2,FALSE),\"\")","v":""},{"$f":"IFERROR(VLOOKUP(H148,得意先マスター!$B$7:$H$103,3,FALSE),\"\")","v":""},{"$f":"IFERROR(VLOOKUP(H148,得意先マスター!$B$7:$H$103,4,FALSE),\"\")","v":""},{"$f":"IFERROR(VLOOKUP(H148,得意先マスター!$B$7:$H$103,5,FALSE),\"\")","v":""},{"$f":"IFERROR(VLOOKUP(H148,得意先マスター!$B$7:$H$103,6,FALSE),\"\")","v":""},null,null,{"$f":"IFERROR(VLOOKUP(O148,商品マスター!$B$7:$D$53,2,FALSE),\"\")","v":""},null,{"$f":"IFERROR(VLOOKUP(O148,商品マスター!$B$7:$D$53,3,FALSE),\"\")","v":""},0,null,{"$f":"IFERROR(VLOOKUP(T148,商品マスター!$B$7:$D$53,2,FALSE),\"\")","v":""},null,{"$f":"IFERROR(VLOOKUP(T148,商品マスター!$B$7:$D$53,3,FALSE),\"\")","v":""},0,null,{"$f":"IFERROR(VLOOKUP(Y148,商品マスター!$B$7:$D$53,2,FALSE),\"\")","v":""},null,{"$f":"IFERROR(VLOOKUP(Y148,商品マスター!$B$7:$D$53,3,FALSE),\"\")","v":""},0,null,{"$f":"IFERROR(VLOOKUP(AD148,商品マスター!$B$7:$D$53,2,FALSE),\"\")","v":""},null,{"$f":"IFERROR(VLOOKUP(AD148,商品マスター!$B$7:$D$53,3,FALSE),\"\")","v":""},0,null,{"$f":"IFERROR(VLOOKUP(AI148,商品マスター!$B$7:$D$53,2,FALSE),\"\")","v":""},null,{"$f":"IFERROR(VLOOKUP(AI148,商品マスター!$B$7:$D$53,3,FALSE),\"\")","v":""},0,null,{"$f":"IFERROR(VLOOKUP(AN148,商品マスター!$B$7:$D$53,2,FALSE),\"\")","v":""},null,{"$f":"IFERROR(VLOOKUP(AN148,商品マスター!$B$7:$D$53,3,FALSE),\"\")","v":""},0,null,{"$f":"IFERROR(VLOOKUP(AS148,商品マスター!$B$7:$D$53,2,FALSE),\"\")","v":""},null,{"$f":"IFERROR(VLOOKUP(AS148,商品マスター!$B$7:$D$53,3,FALSE),\"\")","v":""},0,null,{"$f":"IFERROR(VLOOKUP(AX148,商品マスター!$B$7:$D$53,2,FALSE),\"\")","v":""},null,{"$f":"IFERROR(VLOOKUP(AX148,商品マスター!$B$7:$D$53,3,FALSE),\"\")","v":""},0,null,{"$f":"IFERROR(VLOOKUP(BC148,商品マスター!$B$7:$D$53,2,FALSE),\"\")","v":""},null,{"$f":"IFERROR(VLOOKUP(BC148,商品マスター!$B$7:$D$53,3,FALSE),\"\")","v":""},0,null,{"$f":"IFERROR(VLOOKUP(BH148,商品マスター!$B$7:$D$53,2,FALSE),\"\")","v":""},null,{"$f":"IFERROR(VLOOKUP(BH148,商品マスター!$B$7:$D$53,3,FALSE),\"\")","v":""},0,0,0.1,0,null,0]
["",null,null,null,null,null,null,null,{"$f":"IFERROR(VLOOKUP(H149,得意先マスター!$B$7:$H$103,2,FALSE),\"\")","v":""},{"$f":"IFERROR(VLOOKUP(H149,得意先マスター!$B$7:$H$103,3,FALSE),\"\")","v":""},{"$f":"IFERROR(VLOOKUP(H149,得意先マスター!$B$7:$H$103,4,FALSE),\"\")","v":""},{"$f":"IFERROR(VLOOKUP(H149,得意先マスター!$B$7:$H$103,5,FALSE),\"\")","v":""},{"$f":"IFERROR(VLOOKUP(H149,得意先マスター!$B$7:$H$103,6,FALSE),\"\")","v":""},null,null,{"$f":"IFERROR(VLOOKUP(O149,商品マスター!$B$7:$D$53,2,FALSE),\"\")","v":""},null,{"$f":"IFERROR(VLOOKUP(O149,商品マスター!$B$7:$D$53,3,FALSE),\"\")","v":""},0,null,{"$f":"IFERROR(VLOOKUP(T149,商品マスター!$B$7:$D$53,2,FALSE),\"\")","v":""},null,{"$f":"IFERROR(VLOOKUP(T149,商品マスター!$B$7:$D$53,3,FALSE),\"\")","v":""},0,null,{"$f":"IFERROR(VLOOKUP(Y149,商品マスター!$B$7:$D$53,2,FALSE),\"\")","v":""},null,{"$f":"IFERROR(VLOOKUP(Y149,商品マスター!$B$7:$D$53,3,FALSE),\"\")","v":""},0,null,{"$f":"IFERROR(VLOOKUP(AD149,商品マスター!$B$7:$D$53,2,FALSE),\"\")","v":""},null,{"$f":"IFERROR(VLOOKUP(AD149,商品マスター!$B$7:$D$53,3,FALSE),\"\")","v":""},0,null,{"$f":"IFERROR(VLOOKUP(AI149,商品マスター!$B$7:$D$53,2,FALSE),\"\")","v":""},null,{"$f":"IFERROR(VLOOKUP(AI149,商品マスター!$B$7:$D$53,3,FALSE),\"\")","v":""},0,null,{"$f":"IFERROR(VLOOKUP(AN149,商品マスター!$B$7:$D$53,2,FALSE),\"\")","v":""},null,{"$f":"IFERROR(VLOOKUP(AN149,商品マスター!$B$7:$D$53,3,FALSE),\"\")","v":""},0,null,{"$f":"IFERROR(VLOOKUP(AS149,商品マスター!$B$7:$D$53,2,FALSE),\"\")","v":""},null,{"$f":"IFERROR(VLOOKUP(AS149,商品マスター!$B$7:$D$53,3,FALSE),\"\")","v":""},0,null,{"$f":"IFERROR(VLOOKUP(AX149,商品マスター!$B$7:$D$53,2,FALSE),\"\")","v":""},null,{"$f":"IFERROR(VLOOKUP(AX149,商品マスター!$B$7:$D$53,3,FALSE),\"\")","v":""},0,null,{"$f":"IFERROR(VLOOKUP(BC149,商品マスター!$B$7:$D$53,2,FALSE),\"\")","v":""},null,{"$f":"IFERROR(VLOOKUP(BC149,商品マスター!$B$7:$D$53,3,FALSE),\"\")","v":""},0,null,{"$f":"IFERROR(VLOOKUP(BH149,商品マスター!$B$7:$D$53,2,FALSE),\"\")","v":""},null,{"$f":"IFERROR(VLOOKUP(BH149,商品マスター!$B$7:$D$53,3,FALSE),\"\")","v":""},0,0,0.1,0,null,0]
["",null,null,null,null,null,null,null,{"$f":"IFERROR(VLOOKUP(H150,得意先マスター!$B$7:$H$103,2,FALSE),\"\")","v":""},{"$f":"IFERROR(VLOOKUP(H150,得意先マスター!$B$7:$H$103,3,FALSE),\"\")","v":""},{"$f":"IFERROR(VLOOKUP(H150,得意先マスター!$B$7:$H$103,4,FALSE),\"\")","v":""},{"$f":"IFERROR(VLOOKUP(H150,得意先マスター!$B$7:$H$103,5,FALSE),\"\")","v":""},{"$f":"IFERROR(VLOOKUP(H150,得意先マスター!$B$7:$H$103,6,FALSE),\"\")","v":""},null,null,{"$f":"IFERROR(VLOOKUP(O150,商品マスター!$B$7:$D$53,2,FALSE),\"\")","v":""},null,{"$f":"IFERROR(VLOOKUP(O150,商品マスター!$B$7:$D$53,3,FALSE),\"\")","v":""},0,null,{"$f":"IFERROR(VLOOKUP(T150,商品マスター!$B$7:$D$53,2,FALSE),\"\")","v":""},null,{"$f":"IFERROR(VLOOKUP(T150,商品マスター!$B$7:$D$53,3,FALSE),\"\")","v":""},0,null,{"$f":"IFERROR(VLOOKUP(Y150,商品マスター!$B$7:$D$53,2,FALSE),\"\")","v":""},null,{"$f":"IFERROR(VLOOKUP(Y150,商品マスター!$B$7:$D$53,3,FALSE),\"\")","v":""},0,null,{"$f":"IFERROR(VLOOKUP(AD150,商品マスター!$B$7:$D$53,2,FALSE),\"\")","v":""},null,{"$f":"IFERROR(VLOOKUP(AD150,商品マスター!$B$7:$D$53,3,FALSE),\"\")","v":""},0,null,{"$f":"IFERROR(VLOOKUP(AI150,商品マスター!$B$7:$D$53,2,FALSE),\"\")","v":""},null,{"$f":"IFERROR(VLOOKUP(AI150,商品マスター!$B$7:$D$53,3,FALSE),\"\")","v":""},0,null,{"$f":"IFERROR(VLOOKUP(AN150,商品マスター!$B$7:$D$53,2,FALSE),\"\")","v":""},null,{"$f":"IFERROR(VLOOKUP(AN150,商品マスター!$B$7:$D$53,3,FALSE),\"\")","v":""},0,null,{"$f":"IFERROR(VLOOKUP(AS150,商品マスター!$B$7:$D$53,2,FALSE),\"\")","v":""},null,{"$f":"IFERROR(VLOOKUP(AS150,商品マスター!$B$7:$D$53,3,FALSE),\"\")","v":""},0,null,{"$f":"IFERROR(VLOOKUP(AX150,商品マスター!$B$7:$D$53,2,FALSE),\"\")","v":""},null,{"$f":"IFERROR(VLOOKUP(AX150,商品マスター!$B$7:$D$53,3,FALSE),\"\")","v":""},0,null,{"$f":"IFERROR(VLOOKUP(BC150,商品マスター!$B$7:$D$53,2,FALSE),\"\")","v":""},null,{"$f":"IFERROR(VLOOKUP(BC150,商品マスター!$B$7:$D$53,3,FALSE),\"\")","v":""},0,null,{"$f":"IFERROR(VLOOKUP(BH150,商品マスター!$B$7:$D$53,2,FALSE),\"\")","v":""},null,{"$f":"IFERROR(VLOOKUP(BH150,商品マスター!$B$7:$D$53,3,FALSE),\"\")","v":""},0,0,0.1,0,null,0]
["",null,null,null,null,null,null,null,{"$f":"IFERROR(VLOOKUP(H151,得意先マスター!$B$7:$H$103,2,FALSE),\"\")","v":""},{"$f":"IFERROR(VLOOKUP(H151,得意先マスター!$B$7:$H$103,3,FALSE),\"\")","v":""},{"$f":"IFERROR(VLOOKUP(H151,得意先マスター!$B$7:$H$103,4,FALSE),\"\")","v":""},{"$f":"IFERROR(VLOOKUP(H151,得意先マスター!$B$7:$H$103,5,FALSE),\"\")","v":""},{"$f":"IFERROR(VLOOKUP(H151,得意先マスター!$B$7:$H$103,6,FALSE),\"\")","v":""},null,null,{"$f":"IFERROR(VLOOKUP(O151,商品マスター!$B$7:$D$53,2,FALSE),\"\")","v":""},null,{"$f":"IFERROR(VLOOKUP(O151,商品マスター!$B$7:$D$53,3,FALSE),\"\")","v":""},0,null,{"$f":"IFERROR(VLOOKUP(T151,商品マスター!$B$7:$D$53,2,FALSE),\"\")","v":""},null,{"$f":"IFERROR(VLOOKUP(T151,商品マスター!$B$7:$D$53,3,FALSE),\"\")","v":""},0,null,{"$f":"IFERROR(VLOOKUP(Y151,商品マスター!$B$7:$D$53,2,FALSE),\"\")","v":""},null,{"$f":"IFERROR(VLOOKUP(Y151,商品マスター!$B$7:$D$53,3,FALSE),\"\")","v":""},0,null,{"$f":"IFERROR(VLOOKUP(AD151,商品マスター!$B$7:$D$53,2,FALSE),\"\")","v":""},null,{"$f":"IFERROR(VLOOKUP(AD151,商品マスター!$B$7:$D$53,3,FALSE),\"\")","v":""},0,null,{"$f":"IFERROR(VLOOKUP(AI151,商品マスター!$B$7:$D$53,2,FALSE),\"\")","v":""},null,{"$f":"IFERROR(VLOOKUP(AI151,商品マスター!$B$7:$D$53,3,FALSE),\"\")","v":""},0,null,{"$f":"IFERROR(VLOOKUP(AN151,商品マスター!$B$7:$D$53,2,FALSE),\"\")","v":""},null,{"$f":"IFERROR(VLOOKUP(AN151,商品マスター!$B$7:$D$53,3,FALSE),\"\")","v":""},0,null,{"$f":"IFERROR(VLOOKUP(AS151,商品マスター!$B$7:$D$53,2,FALSE),\"\")","v":""},null,{"$f":"IFERROR(VLOOKUP(AS151,商品マスター!$B$7:$D$53,3,FALSE),\"\")","v":""},0,null,{"$f":"IFERROR(VLOOKUP(AX151,商品マスター!$B$7:$D$53,2,FALSE),\"\")","v":""},null,{"$f":"IFERROR(VLOOKUP(AX151,商品マスター!$B$7:$D$53,3,FALSE),\"\")","v":""},0,null,{"$f":"IFERROR(VLOOKUP(BC151,商品マスター!$B$7:$D$53,2,FALSE),\"\")","v":""},null,{"$f":"IFERROR(VLOOKUP(BC151,商品マスター!$B$7:$D$53,3,FALSE),\"\")","v":""},0,null,{"$f":"IFERROR(VLOOKUP(BH151,商品マスター!$B$7:$D$53,2,FALSE),\"\")","v":""},null,{"$f":"IFERROR(VLOOKUP(BH151,商品マスター!$B$7:$D$53,3,FALSE),\"\")","v":""},0,0,0.1,0,null,0]
["",null,null,null,null,null,null,null,{"$f":"IFERROR(VLOOKUP(H152,得意先マスター!$B$7:$H$103,2,FALSE),\"\")","v":""},{"$f":"IFERROR(VLOOKUP(H152,得意先マスター!$B$7:$H$103,3,FALSE),\"\")","v":""},{"$f":"IFERROR(VLOOKUP(H152,得意先マスター!$B$7:$H$103,4,FALSE),\"\")","v":""},{"$f":"IFERROR(VLOOKUP(H152,得意先マスター!$B$7:$H$103,5,FALSE),\"\")","v":""},{"$f":"IFERROR(VLOOKUP(H152,得意先マスター!$B$7:$H$103,6,FALSE),\"\")","v":""},null,null,{"$f":"IFERROR(VLOOKUP(O152,商品マスター!$B$7:$D$53,2,FALSE),\"\")","v":""},null,{"$f":"IFERROR(VLOOKUP(O152,商品マスター!$B$7:$D$53,3,FALSE),\"\")","v":""},0,null,{"$f":"IFERROR(VLOOKUP(T152,商品マスター!$B$7:$D$53,2,FALSE),\"\")","v":""},null,{"$f":"IFERROR(VLOOKUP(T152,商品マスター!$B$7:$D$53,3,FALSE),\"\")","v":""},0,null,{"$f":"IFERROR(VLOOKUP(Y152,商品マスター!$B$7:$D$53,2,FALSE),\"\")","v":""},null,{"$f":"IFERROR(VLOOKUP(Y152,商品マスター!$B$7:$D$53,3,FALSE),\"\")","v":""},0,null,{"$f":"IFERROR(VLOOKUP(AD152,商品マスター!$B$7:$D$53,2,FALSE),\"\")","v":""},null,{"$f":"IFERROR(VLOOKUP(AD152,商品マスター!$B$7:$D$53,3,FALSE),\"\")","v":""},0,null,{"$f":"IFERROR(VLOOKUP(AI152,商品マスター!$B$7:$D$53,2,FALSE),\"\")","v":""},null,{"$f":"IFERROR(VLOOKUP(AI152,商品マスター!$B$7:$D$53,3,FALSE),\"\")","v":""},0,null,{"$f":"IFERROR(VLOOKUP(AN152,商品マスター!$B$7:$D$53,2,FALSE),\"\")","v":""},null,{"$f":"IFERROR(VLOOKUP(AN152,商品マスター!$B$7:$D$53,3,FALSE),\"\")","v":""},0,null,{"$f":"IFERROR(VLOOKUP(AS152,商品マスター!$B$7:$D$53,2,FALSE),\"\")","v":""},null,{"$f":"IFERROR(VLOOKUP(AS152,商品マスター!$B$7:$D$53,3,FALSE),\"\")","v":""},0,null,{"$f":"IFERROR(VLOOKUP(AX152,商品マスター!$B$7:$D$53,2,FALSE),\"\")","v":""},null,{"$f":"IFERROR(VLOOKUP(AX152,商品マスター!$B$7:$D$53,3,FALSE),\"\")","v":""},0,null,{"$f":"IFERROR(VLOOKUP(BC152,商品マスター!$B$7:$D$53,2,FALSE),\"\")","v":""},null,{"$f":"IFERROR(VLOOKUP(BC152,商品マスター!$B$7:$D$53,3,FALSE),\"\")","v":""},0,null,{"$f":"IFERROR(VLOOKUP(BH152,商品マスター!$B$7:$D$53,2,FALSE),\"\")","v":""},null,{"$f":"IFERROR(VLOOKUP(BH152,商品マスター!$B$7:$D$53,3,FALSE),\"\")","v":""},0,0,0.1,0,null,0]
["",null,null,null,null,null,null,null,{"$f":"IFERROR(VLOOKUP(H153,得意先マスター!$B$7:$H$103,2,FALSE),\"\")","v":""},{"$f":"IFERROR(VLOOKUP(H153,得意先マスター!$B$7:$H$103,3,FALSE),\"\")","v":""},{"$f":"IFERROR(VLOOKUP(H153,得意先マスター!$B$7:$H$103,4,FALSE),\"\")","v":""},{"$f":"IFERROR(VLOOKUP(H153,得意先マスター!$B$7:$H$103,5,FALSE),\"\")","v":""},{"$f":"IFERROR(VLOOKUP(H153,得意先マスター!$B$7:$H$103,6,FALSE),\"\")","v":""},null,null,{"$f":"IFERROR(VLOOKUP(O153,商品マスター!$B$7:$D$53,2,FALSE),\"\")","v":""},null,{"$f":"IFERROR(VLOOKUP(O153,商品マスター!$B$7:$D$53,3,FALSE),\"\")","v":""},0,null,{"$f":"IFERROR(VLOOKUP(T153,商品マスター!$B$7:$D$53,2,FALSE),\"\")","v":""},null,{"$f":"IFERROR(VLOOKUP(T153,商品マスター!$B$7:$D$53,3,FALSE),\"\")","v":""},0,null,{"$f":"IFERROR(VLOOKUP(Y153,商品マスター!$B$7:$D$53,2,FALSE),\"\")","v":""},null,{"$f":"IFERROR(VLOOKUP(Y153,商品マスター!$B$7:$D$53,3,FALSE),\"\")","v":""},0,null,{"$f":"IFERROR(VLOOKUP(AD153,商品マスター!$B$7:$D$53,2,FALSE),\"\")","v":""},null,{"$f":"IFERROR(VLOOKUP(AD153,商品マスター!$B$7:$D$53,3,FALSE),\"\")","v":""},0,null,{"$f":"IFERROR(VLOOKUP(AI153,商品マスター!$B$7:$D$53,2,FALSE),\"\")","v":""},null,{"$f":"IFERROR(VLOOKUP(AI153,商品マスター!$B$7:$D$53,3,FALSE),\"\")","v":""},0,null,{"$f":"IFERROR(VLOOKUP(AN153,商品マスター!$B$7:$D$53,2,FALSE),\"\")","v":""},null,{"$f":"IFERROR(VLOOKUP(AN153,商品マスター!$B$7:$D$53,3,FALSE),\"\")","v":""},0,null,{"$f":"IFERROR(VLOOKUP(AS153,商品マスター!$B$7:$D$53,2,FALSE),\"\")","v":""},null,{"$f":"IFERROR(VLOOKUP(AS153,商品マスター!$B$7:$D$53,3,FALSE),\"\")","v":""},0,null,{"$f":"IFERROR(VLOOKUP(AX153,商品マスター!$B$7:$D$53,2,FALSE),\"\")","v":""},null,{"$f":"IFERROR(VLOOKUP(AX153,商品マスター!$B$7:$D$53,3,FALSE),\"\")","v":""},0,null,{"$f":"IFERROR(VLOOKUP(BC153,商品マスター!$B$7:$D$53,2,FALSE),\"\")","v":""},null,{"$f":"IFERROR(VLOOKUP(BC153,商品マスター!$B$7:$D$53,3,FALSE),\"\")","v":""},0,null,{"$f":"IFERROR(VLOOKUP(BH153,商品マスター!$B$7:$D$53,2,FALSE),\"\")","v":""},null,{"$f":"IFERROR(VLOOKUP(BH153,商品マスター!$B$7:$D$53,3,FALSE),\"\")","v":""},0,0,0.1,0,null,0]
["",null,null,null,null,null,null,null,{"$f":"IFERROR(VLOOKUP(H154,得意先マスター!$B$7:$H$103,2,FALSE),\"\")","v":""},{"$f":"IFERROR(VLOOKUP(H154,得意先マスター!$B$7:$H$103,3,FALSE),\"\")","v":""},{"$f":"IFERROR(VLOOKUP(H154,得意先マスター!$B$7:$H$103,4,FALSE),\"\")","v":""},{"$f":"IFERROR(VLOOKUP(H154,得意先マスター!$B$7:$H$103,5,FALSE),\"\")","v":""},{"$f":"IFERROR(VLOOKUP(H154,得意先マスター!$B$7:$H$103,6,FALSE),\"\")","v":""},null,null,{"$f":"IFERROR(VLOOKUP(O154,商品マスター!$B$7:$D$53,2,FALSE),\"\")","v":""},null,{"$f":"IFERROR(VLOOKUP(O154,商品マスター!$B$7:$D$53,3,FALSE),\"\")","v":""},0,null,{"$f":"IFERROR(VLOOKUP(T154,商品マスター!$B$7:$D$53,2,FALSE),\"\")","v":""},null,{"$f":"IFERROR(VLOOKUP(T154,商品マスター!$B$7:$D$53,3,FALSE),\"\")","v":""},0,null,{"$f":"IFERROR(VLOOKUP(Y154,商品マスター!$B$7:$D$53,2,FALSE),\"\")","v":""},null,{"$f":"IFERROR(VLOOKUP(Y154,商品マスター!$B$7:$D$53,3,FALSE),\"\")","v":""},0,null,{"$f":"IFERROR(VLOOKUP(AD154,商品マスター!$B$7:$D$53,2,FALSE),\"\")","v":""},null,{"$f":"IFERROR(VLOOKUP(AD154,商品マスター!$B$7:$D$53,3,FALSE),\"\")","v":""},0,null,{"$f":"IFERROR(VLOOKUP(AI154,商品マスター!$B$7:$D$53,2,FALSE),\"\")","v":""},null,{"$f":"IFERROR(VLOOKUP(AI154,商品マスター!$B$7:$D$53,3,FALSE),\"\")","v":""},0,null,{"$f":"IFERROR(VLOOKUP(AN154,商品マスター!$B$7:$D$53,2,FALSE),\"\")","v":""},null,{"$f":"IFERROR(VLOOKUP(AN154,商品マスター!$B$7:$D$53,3,FALSE),\"\")","v":""},0,null,{"$f":"IFERROR(VLOOKUP(AS154,商品マスター!$B$7:$D$53,2,FALSE),\"\")","v":""},null,{"$f":"IFERROR(VLOOKUP(AS154,商品マスター!$B$7:$D$53,3,FALSE),\"\")","v":""},0,null,{"$f":"IFERROR(VLOOKUP(AX154,商品マスター!$B$7:$D$53,2,FALSE),\"\")","v":""},null,{"$f":"IFERROR(VLOOKUP(AX154,商品マスター!$B$7:$D$53,3,FALSE),\"\")","v":""},0,null,{"$f":"IFERROR(VLOOKUP(BC154,商品マスター!$B$7:$D$53,2,FALSE),\"\")","v":""},null,{"$f":"IFERROR(VLOOKUP(BC154,商品マスター!$B$7:$D$53,3,FALSE),\"\")","v":""},0,null,{"$f":"IFERROR(VLOOKUP(BH154,商品マスター!$B$7:$D$53,2,FALSE),\"\")","v":""},null,{"$f":"IFERROR(VLOOKUP(BH154,商品マスター!$B$7:$D$53,3,FALSE),\"\")","v":""},0,0,0.1,0,null,0]
["",null,null,null,null,null,null,null,{"$f":"IFERROR(VLOOKUP(H155,得意先マスター!$B$7:$H$103,2,FALSE),\"\")","v":""},{"$f":"IFERROR(VLOOKUP(H155,得意先マスター!$B$7:$H$103,3,FALSE),\"\")","v":""},{"$f":"IFERROR(VLOOKUP(H155,得意先マスター!$B$7:$H$103,4,FALSE),\"\")","v":""},{"$f":"IFERROR(VLOOKUP(H155,得意先マスター!$B$7:$H$103,5,FALSE),\"\")","v":""},{"$f":"IFERROR(VLOOKUP(H155,得意先マスター!$B$7:$H$103,6,FALSE),\"\")","v":""},null,null,{"$f":"IFERROR(VLOOKUP(O155,商品マスター!$B$7:$D$53,2,FALSE),\"\")","v":""},null,{"$f":"IFERROR(VLOOKUP(O155,商品マスター!$B$7:$D$53,3,FALSE),\"\")","v":""},0,null,{"$f":"IFERROR(VLOOKUP(T155,商品マスター!$B$7:$D$53,2,FALSE),\"\")","v":""},null,{"$f":"IFERROR(VLOOKUP(T155,商品マスター!$B$7:$D$53,3,FALSE),\"\")","v":""},0,null,{"$f":"IFERROR(VLOOKUP(Y155,商品マスター!$B$7:$D$53,2,FALSE),\"\")","v":""},null,{"$f":"IFERROR(VLOOKUP(Y155,商品マスター!$B$7:$D$53,3,FALSE),\"\")","v":""},0,null,{"$f":"IFERROR(VLOOKUP(AD155,商品マスター!$B$7:$D$53,2,FALSE),\"\")","v":""},null,{"$f":"IFERROR(VLOOKUP(AD155,商品マスター!$B$7:$D$53,3,FALSE),\"\")","v":""},0,null,{"$f":"IFERROR(VLOOKUP(AI155,商品マスター!$B$7:$D$53,2,FALSE),\"\")","v":""},null,{"$f":"IFERROR(VLOOKUP(AI155,商品マスター!$B$7:$D$53,3,FALSE),\"\")","v":""},0,null,{"$f":"IFERROR(VLOOKUP(AN155,商品マスター!$B$7:$D$53,2,FALSE),\"\")","v":""},null,{"$f":"IFERROR(VLOOKUP(AN155,商品マスター!$B$7:$D$53,3,FALSE),\"\")","v":""},0,null,{"$f":"IFERROR(VLOOKUP(AS155,商品マスター!$B$7:$D$53,2,FALSE),\"\")","v":""},null,{"$f":"IFERROR(VLOOKUP(AS155,商品マスター!$B$7:$D$53,3,FALSE),\"\")","v":""},0,null,{"$f":"IFERROR(VLOOKUP(AX155,商品マスター!$B$7:$D$53,2,FALSE),\"\")","v":""},null,{"$f":"IFERROR(VLOOKUP(AX155,商品マスター!$B$7:$D$53,3,FALSE),\"\")","v":""},0,null,{"$f":"IFERROR(VLOOKUP(BC155,商品マスター!$B$7:$D$53,2,FALSE),\"\")","v":""},null,{"$f":"IFERROR(VLOOKUP(BC155,商品マスター!$B$7:$D$53,3,FALSE),\"\")","v":""},0,null,{"$f":"IFERROR(VLOOKUP(BH155,商品マスター!$B$7:$D$53,2,FALSE),\"\")","v":""},null,{"$f":"IFERROR(VLOOKUP(BH155,商品マスター!$B$7:$D$53,3,FALSE),\"\")","v":""},0,0,0.1,0,null,0]
["",null,null,null,null,null,null,null,{"$f":"IFERROR(VLOOKUP(H156,得意先マスター!$B$7:$H$103,2,FALSE),\"\")","v":""},{"$f":"IFERROR(VLOOKUP(H156,得意先マスター!$B$7:$H$103,3,FALSE),\"\")","v":""},{"$f":"IFERROR(VLOOKUP(H156,得意先マスター!$B$7:$H$103,4,FALSE),\"\")","v":""},{"$f":"IFERROR(VLOOKUP(H156,得意先マスター!$B$7:$H$103,5,FALSE),\"\")","v":""},{"$f":"IFERROR(VLOOKUP(H156,得意先マスター!$B$7:$H$103,6,FALSE),\"\")","v":""},null,null,{"$f":"IFERROR(VLOOKUP(O156,商品マスター!$B$7:$D$53,2,FALSE),\"\")","v":""},null,{"$f":"IFERROR(VLOOKUP(O156,商品マスター!$B$7:$D$53,3,FALSE),\"\")","v":""},0,null,{"$f":"IFERROR(VLOOKUP(T156,商品マスター!$B$7:$D$53,2,FALSE),\"\")","v":""},null,{"$f":"IFERROR(VLOOKUP(T156,商品マスター!$B$7:$D$53,3,FALSE),\"\")","v":""},0,null,{"$f":"IFERROR(VLOOKUP(Y156,商品マスター!$B$7:$D$53,2,FALSE),\"\")","v":""},null,{"$f":"IFERROR(VLOOKUP(Y156,商品マスター!$B$7:$D$53,3,FALSE),\"\")","v":""},0,null,{"$f":"IFERROR(VLOOKUP(AD156,商品マスター!$B$7:$D$53,2,FALSE),\"\")","v":""},null,{"$f":"IFERROR(VLOOKUP(AD156,商品マスター!$B$7:$D$53,3,FALSE),\"\")","v":""},0,null,{"$f":"IFERROR(VLOOKUP(AI156,商品マスター!$B$7:$D$53,2,FALSE),\"\")","v":""},null,{"$f":"IFERROR(VLOOKUP(AI156,商品マスター!$B$7:$D$53,3,FALSE),\"\")","v":""},0,null,{"$f":"IFERROR(VLOOKUP(AN156,商品マスター!$B$7:$D$53,2,FALSE),\"\")","v":""},null,{"$f":"IFERROR(VLOOKUP(AN156,商品マスター!$B$7:$D$53,3,FALSE),\"\")","v":""},0,null,{"$f":"IFERROR(VLOOKUP(AS156,商品マスター!$B$7:$D$53,2,FALSE),\"\")","v":""},null,{"$f":"IFERROR(VLOOKUP(AS156,商品マスター!$B$7:$D$53,3,FALSE),\"\")","v":""},0,null,{"$f":"IFERROR(VLOOKUP(AX156,商品マスター!$B$7:$D$53,2,FALSE),\"\")","v":""},null,{"$f":"IFERROR(VLOOKUP(AX156,商品マスター!$B$7:$D$53,3,FALSE),\"\")","v":""},0,null,{"$f":"IFERROR(VLOOKUP(BC156,商品マスター!$B$7:$D$53,2,FALSE),\"\")","v":""},null,{"$f":"IFERROR(VLOOKUP(BC156,商品マスター!$B$7:$D$53,3,FALSE),\"\")","v":""},0,null,{"$f":"IFERROR(VLOOKUP(BH156,商品マスター!$B$7:$D$53,2,FALSE),\"\")","v":""},null,{"$f":"IFERROR(VLOOKUP(BH156,商品マスター!$B$7:$D$53,3,FALSE),\"\")","v":""},0,0,0.1,0,null,0]
["",null,null,null,null,null,null,null,{"$f":"IFERROR(VLOOKUP(H157,得意先マスター!$B$7:$H$103,2,FALSE),\"\")","v":""},{"$f":"IFERROR(VLOOKUP(H157,得意先マスター!$B$7:$H$103,3,FALSE),\"\")","v":""},{"$f":"IFERROR(VLOOKUP(H157,得意先マスター!$B$7:$H$103,4,FALSE),\"\")","v":""},{"$f":"IFERROR(VLOOKUP(H157,得意先マスター!$B$7:$H$103,5,FALSE),\"\")","v":""},{"$f":"IFERROR(VLOOKUP(H157,得意先マスター!$B$7:$H$103,6,FALSE),\"\")","v":""},null,null,{"$f":"IFERROR(VLOOKUP(O157,商品マスター!$B$7:$D$53,2,FALSE),\"\")","v":""},null,{"$f":"IFERROR(VLOOKUP(O157,商品マスター!$B$7:$D$53,3,FALSE),\"\")","v":""},0,null,{"$f":"IFERROR(VLOOKUP(T157,商品マスター!$B$7:$D$53,2,FALSE),\"\")","v":""},null,{"$f":"IFERROR(VLOOKUP(T157,商品マスター!$B$7:$D$53,3,FALSE),\"\")","v":""},0,null,{"$f":"IFERROR(VLOOKUP(Y157,商品マスター!$B$7:$D$53,2,FALSE),\"\")","v":""},null,{"$f":"IFERROR(VLOOKUP(Y157,商品マスター!$B$7:$D$53,3,FALSE),\"\")","v":""},0,null,{"$f":"IFERROR(VLOOKUP(AD157,商品マスター!$B$7:$D$53,2,FALSE),\"\")","v":""},null,{"$f":"IFERROR(VLOOKUP(AD157,商品マスター!$B$7:$D$53,3,FALSE),\"\")","v":""},0,null,{"$f":"IFERROR(VLOOKUP(AI157,商品マスター!$B$7:$D$53,2,FALSE),\"\")","v":""},null,{"$f":"IFERROR(VLOOKUP(AI157,商品マスター!$B$7:$D$53,3,FALSE),\"\")","v":""},0,null,{"$f":"IFERROR(VLOOKUP(AN157,商品マスター!$B$7:$D$53,2,FALSE),\"\")","v":""},null,{"$f":"IFERROR(VLOOKUP(AN157,商品マスター!$B$7:$D$53,3,FALSE),\"\")","v":""},0,null,{"$f":"IFERROR(VLOOKUP(AS157,商品マスター!$B$7:$D$53,2,FALSE),\"\")","v":""},null,{"$f":"IFERROR(VLOOKUP(AS157,商品マスター!$B$7:$D$53,3,FALSE),\"\")","v":""},0,null,{"$f":"IFERROR(VLOOKUP(AX157,商品マスター!$B$7:$D$53,2,FALSE),\"\")","v":""},null,{"$f":"IFERROR(VLOOKUP(AX157,商品マスター!$B$7:$D$53,3,FALSE),\"\")","v":""},0,null,{"$f":"IFERROR(VLOOKUP(BC157,商品マスター!$B$7:$D$53,2,FALSE),\"\")","v":""},null,{"$f":"IFERROR(VLOOKUP(BC157,商品マスター!$B$7:$D$53,3,FALSE),\"\")","v":""},0,null,{"$f":"IFERROR(VLOOKUP(BH157,商品マスター!$B$7:$D$53,2,FALSE),\"\")","v":""},null,{"$f":"IFERROR(VLOOKUP(BH157,商品マスター!$B$7:$D$53,3,FALSE),\"\")","v":""},0,0,0.1,0,null,0]
["",null,null,null,null,null,null,null,{"$f":"IFERROR(VLOOKUP(H158,得意先マスター!$B$7:$H$103,2,FALSE),\"\")","v":""},{"$f":"IFERROR(VLOOKUP(H158,得意先マスター!$B$7:$H$103,3,FALSE),\"\")","v":""},{"$f":"IFERROR(VLOOKUP(H158,得意先マスター!$B$7:$H$103,4,FALSE),\"\")","v":""},{"$f":"IFERROR(VLOOKUP(H158,得意先マスター!$B$7:$H$103,5,FALSE),\"\")","v":""},{"$f":"IFERROR(VLOOKUP(H158,得意先マスター!$B$7:$H$103,6,FALSE),\"\")","v":""},null,null,{"$f":"IFERROR(VLOOKUP(O158,商品マスター!$B$7:$D$53,2,FALSE),\"\")","v":""},null,{"$f":"IFERROR(VLOOKUP(O158,商品マスター!$B$7:$D$53,3,FALSE),\"\")","v":""},0,null,{"$f":"IFERROR(VLOOKUP(T158,商品マスター!$B$7:$D$53,2,FALSE),\"\")","v":""},null,{"$f":"IFERROR(VLOOKUP(T158,商品マスター!$B$7:$D$53,3,FALSE),\"\")","v":""},0,null,{"$f":"IFERROR(VLOOKUP(Y158,商品マスター!$B$7:$D$53,2,FALSE),\"\")","v":""},null,{"$f":"IFERROR(VLOOKUP(Y158,商品マスター!$B$7:$D$53,3,FALSE),\"\")","v":""},0,null,{"$f":"IFERROR(VLOOKUP(AD158,商品マスター!$B$7:$D$53,2,FALSE),\"\")","v":""},null,{"$f":"IFERROR(VLOOKUP(AD158,商品マスター!$B$7:$D$53,3,FALSE),\"\")","v":""},0,null,{"$f":"IFERROR(VLOOKUP(AI158,商品マスター!$B$7:$D$53,2,FALSE),\"\")","v":""},null,{"$f":"IFERROR(VLOOKUP(AI158,商品マスター!$B$7:$D$53,3,FALSE),\"\")","v":""},0,null,{"$f":"IFERROR(VLOOKUP(AN158,商品マスター!$B$7:$D$53,2,FALSE),\"\")","v":""},null,{"$f":"IFERROR(VLOOKUP(AN158,商品マスター!$B$7:$D$53,3,FALSE),\"\")","v":""},0,null,{"$f":"IFERROR(VLOOKUP(AS158,商品マスター!$B$7:$D$53,2,FALSE),\"\")","v":""},null,{"$f":"IFERROR(VLOOKUP(AS158,商品マスター!$B$7:$D$53,3,FALSE),\"\")","v":""},0,null,{"$f":"IFERROR(VLOOKUP(AX158,商品マスター!$B$7:$D$53,2,FALSE),\"\")","v":""},null,{"$f":"IFERROR(VLOOKUP(AX158,商品マスター!$B$7:$D$53,3,FALSE),\"\")","v":""},0,null,{"$f":"IFERROR(VLOOKUP(BC158,商品マスター!$B$7:$D$53,2,FALSE),\"\")","v":""},null,{"$f":"IFERROR(VLOOKUP(BC158,商品マスター!$B$7:$D$53,3,FALSE),\"\")","v":""},0,null,{"$f":"IFERROR(VLOOKUP(BH158,商品マスター!$B$7:$D$53,2,FALSE),\"\")","v":""},null,{"$f":"IFERROR(VLOOKUP(BH158,商品マスター!$B$7:$D$53,3,FALSE),\"\")","v":""},0,0,0.1,0,null,0]
["",null,null,null,null,null,null,null,{"$f":"IFERROR(VLOOKUP(H159,得意先マスター!$B$7:$H$103,2,FALSE),\"\")","v":""},{"$f":"IFERROR(VLOOKUP(H159,得意先マスター!$B$7:$H$103,3,FALSE),\"\")","v":""},{"$f":"IFERROR(VLOOKUP(H159,得意先マスター!$B$7:$H$103,4,FALSE),\"\")","v":""},{"$f":"IFERROR(VLOOKUP(H159,得意先マスター!$B$7:$H$103,5,FALSE),\"\")","v":""},{"$f":"IFERROR(VLOOKUP(H159,得意先マスター!$B$7:$H$103,6,FALSE),\"\")","v":""},null,null,{"$f":"IFERROR(VLOOKUP(O159,商品マスター!$B$7:$D$53,2,FALSE),\"\")","v":""},null,{"$f":"IFERROR(VLOOKUP(O159,商品マスター!$B$7:$D$53,3,FALSE),\"\")","v":""},0,null,{"$f":"IFERROR(VLOOKUP(T159,商品マスター!$B$7:$D$53,2,FALSE),\"\")","v":""},null,{"$f":"IFERROR(VLOOKUP(T159,商品マスター!$B$7:$D$53,3,FALSE),\"\")","v":""},0,null,{"$f":"IFERROR(VLOOKUP(Y159,商品マスター!$B$7:$D$53,2,FALSE),\"\")","v":""},null,{"$f":"IFERROR(VLOOKUP(Y159,商品マスター!$B$7:$D$53,3,FALSE),\"\")","v":""},0,null,{"$f":"IFERROR(VLOOKUP(AD159,商品マスター!$B$7:$D$53,2,FALSE),\"\")","v":""},null,{"$f":"IFERROR(VLOOKUP(AD159,商品マスター!$B$7:$D$53,3,FALSE),\"\")","v":""},0,null,{"$f":"IFERROR(VLOOKUP(AI159,商品マスター!$B$7:$D$53,2,FALSE),\"\")","v":""},null,{"$f":"IFERROR(VLOOKUP(AI159,商品マスター!$B$7:$D$53,3,FALSE),\"\")","v":""},0,null,{"$f":"IFERROR(VLOOKUP(AN159,商品マスター!$B$7:$D$53,2,FALSE),\"\")","v":""},null,{"$f":"IFERROR(VLOOKUP(AN159,商品マスター!$B$7:$D$53,3,FALSE),\"\")","v":""},0,null,{"$f":"IFERROR(VLOOKUP(AS159,商品マスター!$B$7:$D$53,2,FALSE),\"\")","v":""},null,{"$f":"IFERROR(VLOOKUP(AS159,商品マスター!$B$7:$D$53,3,FALSE),\"\")","v":""},0,null,{"$f":"IFERROR(VLOOKUP(AX159,商品マスター!$B$7:$D$53,2,FALSE),\"\")","v":""},null,{"$f":"IFERROR(VLOOKUP(AX159,商品マスター!$B$7:$D$53,3,FALSE),\"\")","v":""},0,null,{"$f":"IFERROR(VLOOKUP(BC159,商品マスター!$B$7:$D$53,2,FALSE),\"\")","v":""},null,{"$f":"IFERROR(VLOOKUP(BC159,商品マスター!$B$7:$D$53,3,FALSE),\"\")","v":""},0,null,{"$f":"IFERROR(VLOOKUP(BH159,商品マスター!$B$7:$D$53,2,FALSE),\"\")","v":""},null,{"$f":"IFERROR(VLOOKUP(BH159,商品マスター!$B$7:$D$53,3,FALSE),\"\")","v":""},0,0,0.1,0,null,0]
["",null,null,null,null,null,null,null,{"$f":"IFERROR(VLOOKUP(H160,得意先マスター!$B$7:$H$103,2,FALSE),\"\")","v":""},{"$f":"IFERROR(VLOOKUP(H160,得意先マスター!$B$7:$H$103,3,FALSE),\"\")","v":""},{"$f":"IFERROR(VLOOKUP(H160,得意先マスター!$B$7:$H$103,4,FALSE),\"\")","v":""},{"$f":"IFERROR(VLOOKUP(H160,得意先マスター!$B$7:$H$103,5,FALSE),\"\")","v":""},{"$f":"IFERROR(VLOOKUP(H160,得意先マスター!$B$7:$H$103,6,FALSE),\"\")","v":""},null,null,{"$f":"IFERROR(VLOOKUP(O160,商品マスター!$B$7:$D$53,2,FALSE),\"\")","v":""},null,{"$f":"IFERROR(VLOOKUP(O160,商品マスター!$B$7:$D$53,3,FALSE),\"\")","v":""},0,null,{"$f":"IFERROR(VLOOKUP(T160,商品マスター!$B$7:$D$53,2,FALSE),\"\")","v":""},null,{"$f":"IFERROR(VLOOKUP(T160,商品マスター!$B$7:$D$53,3,FALSE),\"\")","v":""},0,null,{"$f":"IFERROR(VLOOKUP(Y160,商品マスター!$B$7:$D$53,2,FALSE),\"\")","v":""},null,{"$f":"IFERROR(VLOOKUP(Y160,商品マスター!$B$7:$D$53,3,FALSE),\"\")","v":""},0,null,{"$f":"IFERROR(VLOOKUP(AD160,商品マスター!$B$7:$D$53,2,FALSE),\"\")","v":""},null,{"$f":"IFERROR(VLOOKUP(AD160,商品マスター!$B$7:$D$53,3,FALSE),\"\")","v":""},0,null,{"$f":"IFERROR(VLOOKUP(AI160,商品マスター!$B$7:$D$53,2,FALSE),\"\")","v":""},null,{"$f":"IFERROR(VLOOKUP(AI160,商品マスター!$B$7:$D$53,3,FALSE),\"\")","v":""},0,null,{"$f":"IFERROR(VLOOKUP(AN160,商品マスター!$B$7:$D$53,2,FALSE),\"\")","v":""},null,{"$f":"IFERROR(VLOOKUP(AN160,商品マスター!$B$7:$D$53,3,FALSE),\"\")","v":""},0,null,{"$f":"IFERROR(VLOOKUP(AS160,商品マスター!$B$7:$D$53,2,FALSE),\"\")","v":""},null,{"$f":"IFERROR(VLOOKUP(AS160,商品マスター!$B$7:$D$53,3,FALSE),\"\")","v":""},0,null,{"$f":"IFERROR(VLOOKUP(AX160,商品マスター!$B$7:$D$53,2,FALSE),\"\")","v":""},null,{"$f":"IFERROR(VLOOKUP(AX160,商品マスター!$B$7:$D$53,3,FALSE),\"\")","v":""},0,null,{"$f":"IFERROR(VLOOKUP(BC160,商品マスター!$B$7:$D$53,2,FALSE),\"\")","v":""},null,{"$f":"IFERROR(VLOOKUP(BC160,商品マスター!$B$7:$D$53,3,FALSE),\"\")","v":""},0,null,{"$f":"IFERROR(VLOOKUP(BH160,商品マスター!$B$7:$D$53,2,FALSE),\"\")","v":""},null,{"$f":"IFERROR(VLOOKUP(BH160,商品マスター!$B$7:$D$53,3,FALSE),\"\")","v":""},0,0,0.1,0,null,0]
["",null,null,null,null,null,null,null,{"$f":"IFERROR(VLOOKUP(H161,得意先マスター!$B$7:$H$103,2,FALSE),\"\")","v":""},{"$f":"IFERROR(VLOOKUP(H161,得意先マスター!$B$7:$H$103,3,FALSE),\"\")","v":""},{"$f":"IFERROR(VLOOKUP(H161,得意先マスター!$B$7:$H$103,4,FALSE),\"\")","v":""},{"$f":"IFERROR(VLOOKUP(H161,得意先マスター!$B$7:$H$103,5,FALSE),\"\")","v":""},{"$f":"IFERROR(VLOOKUP(H161,得意先マスター!$B$7:$H$103,6,FALSE),\"\")","v":""},null,null,{"$f":"IFERROR(VLOOKUP(O161,商品マスター!$B$7:$D$53,2,FALSE),\"\")","v":""},null,{"$f":"IFERROR(VLOOKUP(O161,商品マスター!$B$7:$D$53,3,FALSE),\"\")","v":""},0,null,{"$f":"IFERROR(VLOOKUP(T161,商品マスター!$B$7:$D$53,2,FALSE),\"\")","v":""},null,{"$f":"IFERROR(VLOOKUP(T161,商品マスター!$B$7:$D$53,3,FALSE),\"\")","v":""},0,null,{"$f":"IFERROR(VLOOKUP(Y161,商品マスター!$B$7:$D$53,2,FALSE),\"\")","v":""},null,{"$f":"IFERROR(VLOOKUP(Y161,商品マスター!$B$7:$D$53,3,FALSE),\"\")","v":""},0,null,{"$f":"IFERROR(VLOOKUP(AD161,商品マスター!$B$7:$D$53,2,FALSE),\"\")","v":""},null,{"$f":"IFERROR(VLOOKUP(AD161,商品マスター!$B$7:$D$53,3,FALSE),\"\")","v":""},0,null,{"$f":"IFERROR(VLOOKUP(AI161,商品マスター!$B$7:$D$53,2,FALSE),\"\")","v":""},null,{"$f":"IFERROR(VLOOKUP(AI161,商品マスター!$B$7:$D$53,3,FALSE),\"\")","v":""},0,null,{"$f":"IFERROR(VLOOKUP(AN161,商品マスター!$B$7:$D$53,2,FALSE),\"\")","v":""},null,{"$f":"IFERROR(VLOOKUP(AN161,商品マスター!$B$7:$D$53,3,FALSE),\"\")","v":""},0,null,{"$f":"IFERROR(VLOOKUP(AS161,商品マスター!$B$7:$D$53,2,FALSE),\"\")","v":""},null,{"$f":"IFERROR(VLOOKUP(AS161,商品マスター!$B$7:$D$53,3,FALSE),\"\")","v":""},0,null,{"$f":"IFERROR(VLOOKUP(AX161,商品マスター!$B$7:$D$53,2,FALSE),\"\")","v":""},null,{"$f":"IFERROR(VLOOKUP(AX161,商品マスター!$B$7:$D$53,3,FALSE),\"\")","v":""},0,null,{"$f":"IFERROR(VLOOKUP(BC161,商品マスター!$B$7:$D$53,2,FALSE),\"\")","v":""},null,{"$f":"IFERROR(VLOOKUP(BC161,商品マスター!$B$7:$D$53,3,FALSE),\"\")","v":""},0,null,{"$f":"IFERROR(VLOOKUP(BH161,商品マスター!$B$7:$D$53,2,FALSE),\"\")","v":""},null,{"$f":"IFERROR(VLOOKUP(BH161,商品マスター!$B$7:$D$53,3,FALSE),\"\")","v":""},0,0,0.1,0,null,0]
["",null,null,null,null,null,null,null,{"$f":"IFERROR(VLOOKUP(H162,得意先マスター!$B$7:$H$103,2,FALSE),\"\")","v":""},{"$f":"IFERROR(VLOOKUP(H162,得意先マスター!$B$7:$H$103,3,FALSE),\"\")","v":""},{"$f":"IFERROR(VLOOKUP(H162,得意先マスター!$B$7:$H$103,4,FALSE),\"\")","v":""},{"$f":"IFERROR(VLOOKUP(H162,得意先マスター!$B$7:$H$103,5,FALSE),\"\")","v":""},{"$f":"IFERROR(VLOOKUP(H162,得意先マスター!$B$7:$H$103,6,FALSE),\"\")","v":""},null,null,{"$f":"IFERROR(VLOOKUP(O162,商品マスター!$B$7:$D$53,2,FALSE),\"\")","v":""},null,{"$f":"IFERROR(VLOOKUP(O162,商品マスター!$B$7:$D$53,3,FALSE),\"\")","v":""},0,null,{"$f":"IFERROR(VLOOKUP(T162,商品マスター!$B$7:$D$53,2,FALSE),\"\")","v":""},null,{"$f":"IFERROR(VLOOKUP(T162,商品マスター!$B$7:$D$53,3,FALSE),\"\")","v":""},0,null,{"$f":"IFERROR(VLOOKUP(Y162,商品マスター!$B$7:$D$53,2,FALSE),\"\")","v":""},null,{"$f":"IFERROR(VLOOKUP(Y162,商品マスター!$B$7:$D$53,3,FALSE),\"\")","v":""},0,null,{"$f":"IFERROR(VLOOKUP(AD162,商品マスター!$B$7:$D$53,2,FALSE),\"\")","v":""},null,{"$f":"IFERROR(VLOOKUP(AD162,商品マスター!$B$7:$D$53,3,FALSE),\"\")","v":""},0,null,{"$f":"IFERROR(VLOOKUP(AI162,商品マスター!$B$7:$D$53,2,FALSE),\"\")","v":""},null,{"$f":"IFERROR(VLOOKUP(AI162,商品マスター!$B$7:$D$53,3,FALSE),\"\")","v":""},0,null,{"$f":"IFERROR(VLOOKUP(AN162,商品マスター!$B$7:$D$53,2,FALSE),\"\")","v":""},null,{"$f":"IFERROR(VLOOKUP(AN162,商品マスター!$B$7:$D$53,3,FALSE),\"\")","v":""},0,null,{"$f":"IFERROR(VLOOKUP(AS162,商品マスター!$B$7:$D$53,2,FALSE),\"\")","v":""},null,{"$f":"IFERROR(VLOOKUP(AS162,商品マスター!$B$7:$D$53,3,FALSE),\"\")","v":""},0,null,{"$f":"IFERROR(VLOOKUP(AX162,商品マスター!$B$7:$D$53,2,FALSE),\"\")","v":""},null,{"$f":"IFERROR(VLOOKUP(AX162,商品マスター!$B$7:$D$53,3,FALSE),\"\")","v":""},0,null,{"$f":"IFERROR(VLOOKUP(BC162,商品マスター!$B$7:$D$53,2,FALSE),\"\")","v":""},null,{"$f":"IFERROR(VLOOKUP(BC162,商品マスター!$B$7:$D$53,3,FALSE),\"\")","v":""},0,null,{"$f":"IFERROR(VLOOKUP(BH162,商品マスター!$B$7:$D$53,2,FALSE),\"\")","v":""},null,{"$f":"IFERROR(VLOOKUP(BH162,商品マスター!$B$7:$D$53,3,FALSE),\"\")","v":""},0,0,0.1,0,null,0]
["",null,null,null,null,null,null,null,{"$f":"IFERROR(VLOOKUP(H163,得意先マスター!$B$7:$H$103,2,FALSE),\"\")","v":""},{"$f":"IFERROR(VLOOKUP(H163,得意先マスター!$B$7:$H$103,3,FALSE),\"\")","v":""},{"$f":"IFERROR(VLOOKUP(H163,得意先マスター!$B$7:$H$103,4,FALSE),\"\")","v":""},{"$f":"IFERROR(VLOOKUP(H163,得意先マスター!$B$7:$H$103,5,FALSE),\"\")","v":""},{"$f":"IFERROR(VLOOKUP(H163,得意先マスター!$B$7:$H$103,6,FALSE),\"\")","v":""},null,null,{"$f":"IFERROR(VLOOKUP(O163,商品マスター!$B$7:$D$53,2,FALSE),\"\")","v":""},null,{"$f":"IFERROR(VLOOKUP(O163,商品マスター!$B$7:$D$53,3,FALSE),\"\")","v":""},0,null,{"$f":"IFERROR(VLOOKUP(T163,商品マスター!$B$7:$D$53,2,FALSE),\"\")","v":""},null,{"$f":"IFERROR(VLOOKUP(T163,商品マスター!$B$7:$D$53,3,FALSE),\"\")","v":""},0,null,{"$f":"IFERROR(VLOOKUP(Y163,商品マスター!$B$7:$D$53,2,FALSE),\"\")","v":""},null,{"$f":"IFERROR(VLOOKUP(Y163,商品マスター!$B$7:$D$53,3,FALSE),\"\")","v":""},0,null,{"$f":"IFERROR(VLOOKUP(AD163,商品マスター!$B$7:$D$53,2,FALSE),\"\")","v":""},null,{"$f":"IFERROR(VLOOKUP(AD163,商品マスター!$B$7:$D$53,3,FALSE),\"\")","v":""},0,null,{"$f":"IFERROR(VLOOKUP(AI163,商品マスター!$B$7:$D$53,2,FALSE),\"\")","v":""},null,{"$f":"IFERROR(VLOOKUP(AI163,商品マスター!$B$7:$D$53,3,FALSE),\"\")","v":""},0,null,{"$f":"IFERROR(VLOOKUP(AN163,商品マスター!$B$7:$D$53,2,FALSE),\"\")","v":""},null,{"$f":"IFERROR(VLOOKUP(AN163,商品マスター!$B$7:$D$53,3,FALSE),\"\")","v":""},0,null,{"$f":"IFERROR(VLOOKUP(AS163,商品マスター!$B$7:$D$53,2,FALSE),\"\")","v":""},null,{"$f":"IFERROR(VLOOKUP(AS163,商品マスター!$B$7:$D$53,3,FALSE),\"\")","v":""},0,null,{"$f":"IFERROR(VLOOKUP(AX163,商品マスター!$B$7:$D$53,2,FALSE),\"\")","v":""},null,{"$f":"IFERROR(VLOOKUP(AX163,商品マスター!$B$7:$D$53,3,FALSE),\"\")","v":""},0,null,{"$f":"IFERROR(VLOOKUP(BC163,商品マスター!$B$7:$D$53,2,FALSE),\"\")","v":""},null,{"$f":"IFERROR(VLOOKUP(BC163,商品マスター!$B$7:$D$53,3,FALSE),\"\")","v":""},0,null,{"$f":"IFERROR(VLOOKUP(BH163,商品マスター!$B$7:$D$53,2,FALSE),\"\")","v":""},null,{"$f":"IFERROR(VLOOKUP(BH163,商品マスター!$B$7:$D$53,3,FALSE),\"\")","v":""},0,0,0.1,0,null,0]
["",null,null,null,null,null,null,null,{"$f":"IFERROR(VLOOKUP(H164,得意先マスター!$B$7:$H$103,2,FALSE),\"\")","v":""},{"$f":"IFERROR(VLOOKUP(H164,得意先マスター!$B$7:$H$103,3,FALSE),\"\")","v":""},{"$f":"IFERROR(VLOOKUP(H164,得意先マスター!$B$7:$H$103,4,FALSE),\"\")","v":""},{"$f":"IFERROR(VLOOKUP(H164,得意先マスター!$B$7:$H$103,5,FALSE),\"\")","v":""},{"$f":"IFERROR(VLOOKUP(H164,得意先マスター!$B$7:$H$103,6,FALSE),\"\")","v":""},null,null,{"$f":"IFERROR(VLOOKUP(O164,商品マスター!$B$7:$D$53,2,FALSE),\"\")","v":""},null,{"$f":"IFERROR(VLOOKUP(O164,商品マスター!$B$7:$D$53,3,FALSE),\"\")","v":""},0,null,{"$f":"IFERROR(VLOOKUP(T164,商品マスター!$B$7:$D$53,2,FALSE),\"\")","v":""},null,{"$f":"IFERROR(VLOOKUP(T164,商品マスター!$B$7:$D$53,3,FALSE),\"\")","v":""},0,null,{"$f":"IFERROR(VLOOKUP(Y164,商品マスター!$B$7:$D$53,2,FALSE),\"\")","v":""},null,{"$f":"IFERROR(VLOOKUP(Y164,商品マスター!$B$7:$D$53,3,FALSE),\"\")","v":""},0,null,{"$f":"IFERROR(VLOOKUP(AD164,商品マスター!$B$7:$D$53,2,FALSE),\"\")","v":""},null,{"$f":"IFERROR(VLOOKUP(AD164,商品マスター!$B$7:$D$53,3,FALSE),\"\")","v":""},0,null,{"$f":"IFERROR(VLOOKUP(AI164,商品マスター!$B$7:$D$53,2,FALSE),\"\")","v":""},null,{"$f":"IFERROR(VLOOKUP(AI164,商品マスター!$B$7:$D$53,3,FALSE),\"\")","v":""},0,null,{"$f":"IFERROR(VLOOKUP(AN164,商品マスター!$B$7:$D$53,2,FALSE),\"\")","v":""},null,{"$f":"IFERROR(VLOOKUP(AN164,商品マスター!$B$7:$D$53,3,FALSE),\"\")","v":""},0,null,{"$f":"IFERROR(VLOOKUP(AS164,商品マスター!$B$7:$D$53,2,FALSE),\"\")","v":""},null,{"$f":"IFERROR(VLOOKUP(AS164,商品マスター!$B$7:$D$53,3,FALSE),\"\")","v":""},0,null,{"$f":"IFERROR(VLOOKUP(AX164,商品マスター!$B$7:$D$53,2,FALSE),\"\")","v":""},null,{"$f":"IFERROR(VLOOKUP(AX164,商品マスター!$B$7:$D$53,3,FALSE),\"\")","v":""},0,null,{"$f":"IFERROR(VLOOKUP(BC164,商品マスター!$B$7:$D$53,2,FALSE),\"\")","v":""},null,{"$f":"IFERROR(VLOOKUP(BC164,商品マスター!$B$7:$D$53,3,FALSE),\"\")","v":""},0,null,{"$f":"IFERROR(VLOOKUP(BH164,商品マスター!$B$7:$D$53,2,FALSE),\"\")","v":""},null,{"$f":"IFERROR(VLOOKUP(BH164,商品マスター!$B$7:$D$53,3,FALSE),\"\")","v":""},0,0,0.1,0,null,0]
["",null,null,null,null,null,null,null,{"$f":"IFERROR(VLOOKUP(H165,得意先マスター!$B$7:$H$103,2,FALSE),\"\")","v":""},{"$f":"IFERROR(VLOOKUP(H165,得意先マスター!$B$7:$H$103,3,FALSE),\"\")","v":""},{"$f":"IFERROR(VLOOKUP(H165,得意先マスター!$B$7:$H$103,4,FALSE),\"\")","v":""},{"$f":"IFERROR(VLOOKUP(H165,得意先マスター!$B$7:$H$103,5,FALSE),\"\")","v":""},{"$f":"IFERROR(VLOOKUP(H165,得意先マスター!$B$7:$H$103,6,FALSE),\"\")","v":""},null,null,{"$f":"IFERROR(VLOOKUP(O165,商品マスター!$B$7:$D$53,2,FALSE),\"\")","v":""},null,{"$f":"IFERROR(VLOOKUP(O165,商品マスター!$B$7:$D$53,3,FALSE),\"\")","v":""},0,null,{"$f":"IFERROR(VLOOKUP(T165,商品マスター!$B$7:$D$53,2,FALSE),\"\")","v":""},null,{"$f":"IFERROR(VLOOKUP(T165,商品マスター!$B$7:$D$53,3,FALSE),\"\")","v":""},0,null,{"$f":"IFERROR(VLOOKUP(Y165,商品マスター!$B$7:$D$53,2,FALSE),\"\")","v":""},null,{"$f":"IFERROR(VLOOKUP(Y165,商品マスター!$B$7:$D$53,3,FALSE),\"\")","v":""},0,null,{"$f":"IFERROR(VLOOKUP(AD165,商品マスター!$B$7:$D$53,2,FALSE),\"\")","v":""},null,{"$f":"IFERROR(VLOOKUP(AD165,商品マスター!$B$7:$D$53,3,FALSE),\"\")","v":""},0,null,{"$f":"IFERROR(VLOOKUP(AI165,商品マスター!$B$7:$D$53,2,FALSE),\"\")","v":""},null,{"$f":"IFERROR(VLOOKUP(AI165,商品マスター!$B$7:$D$53,3,FALSE),\"\")","v":""},0,null,{"$f":"IFERROR(VLOOKUP(AN165,商品マスター!$B$7:$D$53,2,FALSE),\"\")","v":""},null,{"$f":"IFERROR(VLOOKUP(AN165,商品マスター!$B$7:$D$53,3,FALSE),\"\")","v":""},0,null,{"$f":"IFERROR(VLOOKUP(AS165,商品マスター!$B$7:$D$53,2,FALSE),\"\")","v":""},null,{"$f":"IFERROR(VLOOKUP(AS165,商品マスター!$B$7:$D$53,3,FALSE),\"\")","v":""},0,null,{"$f":"IFERROR(VLOOKUP(AX165,商品マスター!$B$7:$D$53,2,FALSE),\"\")","v":""},null,{"$f":"IFERROR(VLOOKUP(AX165,商品マスター!$B$7:$D$53,3,FALSE),\"\")","v":""},0,null,{"$f":"IFERROR(VLOOKUP(BC165,商品マスター!$B$7:$D$53,2,FALSE),\"\")","v":""},null,{"$f":"IFERROR(VLOOKUP(BC165,商品マスター!$B$7:$D$53,3,FALSE),\"\")","v":""},0,null,{"$f":"IFERROR(VLOOKUP(BH165,商品マスター!$B$7:$D$53,2,FALSE),\"\")","v":""},null,{"$f":"IFERROR(VLOOKUP(BH165,商品マスター!$B$7:$D$53,3,FALSE),\"\")","v":""},0,0,0.1,0,null,0]
["",null,null,null,null,null,null,null,{"$f":"IFERROR(VLOOKUP(H166,得意先マスター!$B$7:$H$103,2,FALSE),\"\")","v":""},{"$f":"IFERROR(VLOOKUP(H166,得意先マスター!$B$7:$H$103,3,FALSE),\"\")","v":""},{"$f":"IFERROR(VLOOKUP(H166,得意先マスター!$B$7:$H$103,4,FALSE),\"\")","v":""},{"$f":"IFERROR(VLOOKUP(H166,得意先マスター!$B$7:$H$103,5,FALSE),\"\")","v":""},{"$f":"IFERROR(VLOOKUP(H166,得意先マスター!$B$7:$H$103,6,FALSE),\"\")","v":""},null,null,{"$f":"IFERROR(VLOOKUP(O166,商品マスター!$B$7:$D$53,2,FALSE),\"\")","v":""},null,{"$f":"IFERROR(VLOOKUP(O166,商品マスター!$B$7:$D$53,3,FALSE),\"\")","v":""},0,null,{"$f":"IFERROR(VLOOKUP(T166,商品マスター!$B$7:$D$53,2,FALSE),\"\")","v":""},null,{"$f":"IFERROR(VLOOKUP(T166,商品マスター!$B$7:$D$53,3,FALSE),\"\")","v":""},0,null,{"$f":"IFERROR(VLOOKUP(Y166,商品マスター!$B$7:$D$53,2,FALSE),\"\")","v":""},null,{"$f":"IFERROR(VLOOKUP(Y166,商品マスター!$B$7:$D$53,3,FALSE),\"\")","v":""},0,null,{"$f":"IFERROR(VLOOKUP(AD166,商品マスター!$B$7:$D$53,2,FALSE),\"\")","v":""},null,{"$f":"IFERROR(VLOOKUP(AD166,商品マスター!$B$7:$D$53,3,FALSE),\"\")","v":""},0,null,{"$f":"IFERROR(VLOOKUP(AI166,商品マスター!$B$7:$D$53,2,FALSE),\"\")","v":""},null,{"$f":"IFERROR(VLOOKUP(AI166,商品マスター!$B$7:$D$53,3,FALSE),\"\")","v":""},0,null,{"$f":"IFERROR(VLOOKUP(AN166,商品マスター!$B$7:$D$53,2,FALSE),\"\")","v":""},null,{"$f":"IFERROR(VLOOKUP(AN166,商品マスター!$B$7:$D$53,3,FALSE),\"\")","v":""},0,null,{"$f":"IFERROR(VLOOKUP(AS166,商品マスター!$B$7:$D$53,2,FALSE),\"\")","v":""},null,{"$f":"IFERROR(VLOOKUP(AS166,商品マスター!$B$7:$D$53,3,FALSE),\"\")","v":""},0,null,{"$f":"IFERROR(VLOOKUP(AX166,商品マスター!$B$7:$D$53,2,FALSE),\"\")","v":""},null,{"$f":"IFERROR(VLOOKUP(AX166,商品マスター!$B$7:$D$53,3,FALSE),\"\")","v":""},0,null,{"$f":"IFERROR(VLOOKUP(BC166,商品マスター!$B$7:$D$53,2,FALSE),\"\")","v":""},null,{"$f":"IFERROR(VLOOKUP(BC166,商品マスター!$B$7:$D$53,3,FALSE),\"\")","v":""},0,null,{"$f":"IFERROR(VLOOKUP(BH166,商品マスター!$B$7:$D$53,2,FALSE),\"\")","v":""},null,{"$f":"IFERROR(VLOOKUP(BH166,商品マスター!$B$7:$D$53,3,FALSE),\"\")","v":""},0,0,0.1,0,null,0]
["",null,null,null,null,null,null,null,{"$f":"IFERROR(VLOOKUP(H167,得意先マスター!$B$7:$H$103,2,FALSE),\"\")","v":""},{"$f":"IFERROR(VLOOKUP(H167,得意先マスター!$B$7:$H$103,3,FALSE),\"\")","v":""},{"$f":"IFERROR(VLOOKUP(H167,得意先マスター!$B$7:$H$103,4,FALSE),\"\")","v":""},{"$f":"IFERROR(VLOOKUP(H167,得意先マスター!$B$7:$H$103,5,FALSE),\"\")","v":""},{"$f":"IFERROR(VLOOKUP(H167,得意先マスター!$B$7:$H$103,6,FALSE),\"\")","v":""},null,null,{"$f":"IFERROR(VLOOKUP(O167,商品マスター!$B$7:$D$53,2,FALSE),\"\")","v":""},null,{"$f":"IFERROR(VLOOKUP(O167,商品マスター!$B$7:$D$53,3,FALSE),\"\")","v":""},0,null,{"$f":"IFERROR(VLOOKUP(T167,商品マスター!$B$7:$D$53,2,FALSE),\"\")","v":""},null,{"$f":"IFERROR(VLOOKUP(T167,商品マスター!$B$7:$D$53,3,FALSE),\"\")","v":""},0,null,{"$f":"IFERROR(VLOOKUP(Y167,商品マスター!$B$7:$D$53,2,FALSE),\"\")","v":""},null,{"$f":"IFERROR(VLOOKUP(Y167,商品マスター!$B$7:$D$53,3,FALSE),\"\")","v":""},0,null,{"$f":"IFERROR(VLOOKUP(AD167,商品マスター!$B$7:$D$53,2,FALSE),\"\")","v":""},null,{"$f":"IFERROR(VLOOKUP(AD167,商品マスター!$B$7:$D$53,3,FALSE),\"\")","v":""},0,null,{"$f":"IFERROR(VLOOKUP(AI167,商品マスター!$B$7:$D$53,2,FALSE),\"\")","v":""},null,{"$f":"IFERROR(VLOOKUP(AI167,商品マスター!$B$7:$D$53,3,FALSE),\"\")","v":""},0,null,{"$f":"IFERROR(VLOOKUP(AN167,商品マスター!$B$7:$D$53,2,FALSE),\"\")","v":""},null,{"$f":"IFERROR(VLOOKUP(AN167,商品マスター!$B$7:$D$53,3,FALSE),\"\")","v":""},0,null,{"$f":"IFERROR(VLOOKUP(AS167,商品マスター!$B$7:$D$53,2,FALSE),\"\")","v":""},null,{"$f":"IFERROR(VLOOKUP(AS167,商品マスター!$B$7:$D$53,3,FALSE),\"\")","v":""},0,null,{"$f":"IFERROR(VLOOKUP(AX167,商品マスター!$B$7:$D$53,2,FALSE),\"\")","v":""},null,{"$f":"IFERROR(VLOOKUP(AX167,商品マスター!$B$7:$D$53,3,FALSE),\"\")","v":""},0,null,{"$f":"IFERROR(VLOOKUP(BC167,商品マスター!$B$7:$D$53,2,FALSE),\"\")","v":""},null,{"$f":"IFERROR(VLOOKUP(BC167,商品マスター!$B$7:$D$53,3,FALSE),\"\")","v":""},0,null,{"$f":"IFERROR(VLOOKUP(BH167,商品マスター!$B$7:$D$53,2,FALSE),\"\")","v":""},null,{"$f":"IFERROR(VLOOKUP(BH167,商品マスター!$B$7:$D$53,3,FALSE),\"\")","v":""},0,0,0.1,0,null,0]
["",null,null,null,null,null,null,null,{"$f":"IFERROR(VLOOKUP(H168,得意先マスター!$B$7:$H$103,2,FALSE),\"\")","v":""},{"$f":"IFERROR(VLOOKUP(H168,得意先マスター!$B$7:$H$103,3,FALSE),\"\")","v":""},{"$f":"IFERROR(VLOOKUP(H168,得意先マスター!$B$7:$H$103,4,FALSE),\"\")","v":""},{"$f":"IFERROR(VLOOKUP(H168,得意先マスター!$B$7:$H$103,5,FALSE),\"\")","v":""},{"$f":"IFERROR(VLOOKUP(H168,得意先マスター!$B$7:$H$103,6,FALSE),\"\")","v":""},null,null,{"$f":"IFERROR(VLOOKUP(O168,商品マスター!$B$7:$D$53,2,FALSE),\"\")","v":""},null,{"$f":"IFERROR(VLOOKUP(O168,商品マスター!$B$7:$D$53,3,FALSE),\"\")","v":""},0,null,{"$f":"IFERROR(VLOOKUP(T168,商品マスター!$B$7:$D$53,2,FALSE),\"\")","v":""},null,{"$f":"IFERROR(VLOOKUP(T168,商品マスター!$B$7:$D$53,3,FALSE),\"\")","v":""},0,null,{"$f":"IFERROR(VLOOKUP(Y168,商品マスター!$B$7:$D$53,2,FALSE),\"\")","v":""},null,{"$f":"IFERROR(VLOOKUP(Y168,商品マスター!$B$7:$D$53,3,FALSE),\"\")","v":""},0,null,{"$f":"IFERROR(VLOOKUP(AD168,商品マスター!$B$7:$D$53,2,FALSE),\"\")","v":""},null,{"$f":"IFERROR(VLOOKUP(AD168,商品マスター!$B$7:$D$53,3,FALSE),\"\")","v":""},0,null,{"$f":"IFERROR(VLOOKUP(AI168,商品マスター!$B$7:$D$53,2,FALSE),\"\")","v":""},null,{"$f":"IFERROR(VLOOKUP(AI168,商品マスター!$B$7:$D$53,3,FALSE),\"\")","v":""},0,null,{"$f":"IFERROR(VLOOKUP(AN168,商品マスター!$B$7:$D$53,2,FALSE),\"\")","v":""},null,{"$f":"IFERROR(VLOOKUP(AN168,商品マスター!$B$7:$D$53,3,FALSE),\"\")","v":""},0,null,{"$f":"IFERROR(VLOOKUP(AS168,商品マスター!$B$7:$D$53,2,FALSE),\"\")","v":""},null,{"$f":"IFERROR(VLOOKUP(AS168,商品マスター!$B$7:$D$53,3,FALSE),\"\")","v":""},0,null,{"$f":"IFERROR(VLOOKUP(AX168,商品マスター!$B$7:$D$53,2,FALSE),\"\")","v":""},null,{"$f":"IFERROR(VLOOKUP(AX168,商品マスター!$B$7:$D$53,3,FALSE),\"\")","v":""},0,null,{"$f":"IFERROR(VLOOKUP(BC168,商品マスター!$B$7:$D$53,2,FALSE),\"\")","v":""},null,{"$f":"IFERROR(VLOOKUP(BC168,商品マスター!$B$7:$D$53,3,FALSE),\"\")","v":""},0,null,{"$f":"IFERROR(VLOOKUP(BH168,商品マスター!$B$7:$D$53,2,FALSE),\"\")","v":""},null,{"$f":"IFERROR(VLOOKUP(BH168,商品マスター!$B$7:$D$53,3,FALSE),\"\")","v":""},0,0,0.1,0,null,0]
["",null,null,null,null,null,null,null,{"$f":"IFERROR(VLOOKUP(H169,得意先マスター!$B$7:$H$103,2,FALSE),\"\")","v":""},{"$f":"IFERROR(VLOOKUP(H169,得意先マスター!$B$7:$H$103,3,FALSE),\"\")","v":""},{"$f":"IFERROR(VLOOKUP(H169,得意先マスター!$B$7:$H$103,4,FALSE),\"\")","v":""},{"$f":"IFERROR(VLOOKUP(H169,得意先マスター!$B$7:$H$103,5,FALSE),\"\")","v":""},{"$f":"IFERROR(VLOOKUP(H169,得意先マスター!$B$7:$H$103,6,FALSE),\"\")","v":""},null,null,{"$f":"IFERROR(VLOOKUP(O169,商品マスター!$B$7:$D$53,2,FALSE),\"\")","v":""},null,{"$f":"IFERROR(VLOOKUP(O169,商品マスター!$B$7:$D$53,3,FALSE),\"\")","v":""},0,null,{"$f":"IFERROR(VLOOKUP(T169,商品マスター!$B$7:$D$53,2,FALSE),\"\")","v":""},null,{"$f":"IFERROR(VLOOKUP(T169,商品マスター!$B$7:$D$53,3,FALSE),\"\")","v":""},0,null,{"$f":"IFERROR(VLOOKUP(Y169,商品マスター!$B$7:$D$53,2,FALSE),\"\")","v":""},null,{"$f":"IFERROR(VLOOKUP(Y169,商品マスター!$B$7:$D$53,3,FALSE),\"\")","v":""},0,null,{"$f":"IFERROR(VLOOKUP(AD169,商品マスター!$B$7:$D$53,2,FALSE),\"\")","v":""},null,{"$f":"IFERROR(VLOOKUP(AD169,商品マスター!$B$7:$D$53,3,FALSE),\"\")","v":""},0,null,{"$f":"IFERROR(VLOOKUP(AI169,商品マスター!$B$7:$D$53,2,FALSE),\"\")","v":""},null,{"$f":"IFERROR(VLOOKUP(AI169,商品マスター!$B$7:$D$53,3,FALSE),\"\")","v":""},0,null,{"$f":"IFERROR(VLOOKUP(AN169,商品マスター!$B$7:$D$53,2,FALSE),\"\")","v":""},null,{"$f":"IFERROR(VLOOKUP(AN169,商品マスター!$B$7:$D$53,3,FALSE),\"\")","v":""},0,null,{"$f":"IFERROR(VLOOKUP(AS169,商品マスター!$B$7:$D$53,2,FALSE),\"\")","v":""},null,{"$f":"IFERROR(VLOOKUP(AS169,商品マスター!$B$7:$D$53,3,FALSE),\"\")","v":""},0,null,{"$f":"IFERROR(VLOOKUP(AX169,商品マスター!$B$7:$D$53,2,FALSE),\"\")","v":""},null,{"$f":"IFERROR(VLOOKUP(AX169,商品マスター!$B$7:$D$53,3,FALSE),\"\")","v":""},0,null,{"$f":"IFERROR(VLOOKUP(BC169,商品マスター!$B$7:$D$53,2,FALSE),\"\")","v":""},null,{"$f":"IFERROR(VLOOKUP(BC169,商品マスター!$B$7:$D$53,3,FALSE),\"\")","v":""},0,null,{"$f":"IFERROR(VLOOKUP(BH169,商品マスター!$B$7:$D$53,2,FALSE),\"\")","v":""},null,{"$f":"IFERROR(VLOOKUP(BH169,商品マスター!$B$7:$D$53,3,FALSE),\"\")","v":""},0,0,0.1,0,null,0]
["",null,null,null,null,null,null,null,{"$f":"IFERROR(VLOOKUP(H170,得意先マスター!$B$7:$H$103,2,FALSE),\"\")","v":""},{"$f":"IFERROR(VLOOKUP(H170,得意先マスター!$B$7:$H$103,3,FALSE),\"\")","v":""},{"$f":"IFERROR(VLOOKUP(H170,得意先マスター!$B$7:$H$103,4,FALSE),\"\")","v":""},{"$f":"IFERROR(VLOOKUP(H170,得意先マスター!$B$7:$H$103,5,FALSE),\"\")","v":""},{"$f":"IFERROR(VLOOKUP(H170,得意先マスター!$B$7:$H$103,6,FALSE),\"\")","v":""},null,null,{"$f":"IFERROR(VLOOKUP(O170,商品マスター!$B$7:$D$53,2,FALSE),\"\")","v":""},null,{"$f":"IFERROR(VLOOKUP(O170,商品マスター!$B$7:$D$53,3,FALSE),\"\")","v":""},0,null,{"$f":"IFERROR(VLOOKUP(T170,商品マスター!$B$7:$D$53,2,FALSE),\"\")","v":""},null,{"$f":"IFERROR(VLOOKUP(T170,商品マスター!$B$7:$D$53,3,FALSE),\"\")","v":""},0,null,{"$f":"IFERROR(VLOOKUP(Y170,商品マスター!$B$7:$D$53,2,FALSE),\"\")","v":""},null,{"$f":"IFERROR(VLOOKUP(Y170,商品マスター!$B$7:$D$53,3,FALSE),\"\")","v":""},0,null,{"$f":"IFERROR(VLOOKUP(AD170,商品マスター!$B$7:$D$53,2,FALSE),\"\")","v":""},null,{"$f":"IFERROR(VLOOKUP(AD170,商品マスター!$B$7:$D$53,3,FALSE),\"\")","v":""},0,null,{"$f":"IFERROR(VLOOKUP(AI170,商品マスター!$B$7:$D$53,2,FALSE),\"\")","v":""},null,{"$f":"IFERROR(VLOOKUP(AI170,商品マスター!$B$7:$D$53,3,FALSE),\"\")","v":""},0,null,{"$f":"IFERROR(VLOOKUP(AN170,商品マスター!$B$7:$D$53,2,FALSE),\"\")","v":""},null,{"$f":"IFERROR(VLOOKUP(AN170,商品マスター!$B$7:$D$53,3,FALSE),\"\")","v":""},0,null,{"$f":"IFERROR(VLOOKUP(AS170,商品マスター!$B$7:$D$53,2,FALSE),\"\")","v":""},null,{"$f":"IFERROR(VLOOKUP(AS170,商品マスター!$B$7:$D$53,3,FALSE),\"\")","v":""},0,null,{"$f":"IFERROR(VLOOKUP(AX170,商品マスター!$B$7:$D$53,2,FALSE),\"\")","v":""},null,{"$f":"IFERROR(VLOOKUP(AX170,商品マスター!$B$7:$D$53,3,FALSE),\"\")","v":""},0,null,{"$f":"IFERROR(VLOOKUP(BC170,商品マスター!$B$7:$D$53,2,FALSE),\"\")","v":""},null,{"$f":"IFERROR(VLOOKUP(BC170,商品マスター!$B$7:$D$53,3,FALSE),\"\")","v":""},0,null,{"$f":"IFERROR(VLOOKUP(BH170,商品マスター!$B$7:$D$53,2,FALSE),\"\")","v":""},null,{"$f":"IFERROR(VLOOKUP(BH170,商品マスター!$B$7:$D$53,3,FALSE),\"\")","v":""},0,0,0.1,0,null,0]
["",null,null,null,null,null,null,null,{"$f":"IFERROR(VLOOKUP(H171,得意先マスター!$B$7:$H$103,2,FALSE),\"\")","v":""},{"$f":"IFERROR(VLOOKUP(H171,得意先マスター!$B$7:$H$103,3,FALSE),\"\")","v":""},{"$f":"IFERROR(VLOOKUP(H171,得意先マスター!$B$7:$H$103,4,FALSE),\"\")","v":""},{"$f":"IFERROR(VLOOKUP(H171,得意先マスター!$B$7:$H$103,5,FALSE),\"\")","v":""},{"$f":"IFERROR(VLOOKUP(H171,得意先マスター!$B$7:$H$103,6,FALSE),\"\")","v":""},null,null,{"$f":"IFERROR(VLOOKUP(O171,商品マスター!$B$7:$D$53,2,FALSE),\"\")","v":""},null,{"$f":"IFERROR(VLOOKUP(O171,商品マスター!$B$7:$D$53,3,FALSE),\"\")","v":""},0,null,{"$f":"IFERROR(VLOOKUP(T171,商品マスター!$B$7:$D$53,2,FALSE),\"\")","v":""},null,{"$f":"IFERROR(VLOOKUP(T171,商品マスター!$B$7:$D$53,3,FALSE),\"\")","v":""},0,null,{"$f":"IFERROR(VLOOKUP(Y171,商品マスター!$B$7:$D$53,2,FALSE),\"\")","v":""},null,{"$f":"IFERROR(VLOOKUP(Y171,商品マスター!$B$7:$D$53,3,FALSE),\"\")","v":""},0,null,{"$f":"IFERROR(VLOOKUP(AD171,商品マスター!$B$7:$D$53,2,FALSE),\"\")","v":""},null,{"$f":"IFERROR(VLOOKUP(AD171,商品マスター!$B$7:$D$53,3,FALSE),\"\")","v":""},0,null,{"$f":"IFERROR(VLOOKUP(AI171,商品マスター!$B$7:$D$53,2,FALSE),\"\")","v":""},null,{"$f":"IFERROR(VLOOKUP(AI171,商品マスター!$B$7:$D$53,3,FALSE),\"\")","v":""},0,null,{"$f":"IFERROR(VLOOKUP(AN171,商品マスター!$B$7:$D$53,2,FALSE),\"\")","v":""},null,{"$f":"IFERROR(VLOOKUP(AN171,商品マスター!$B$7:$D$53,3,FALSE),\"\")","v":""},0,null,{"$f":"IFERROR(VLOOKUP(AS171,商品マスター!$B$7:$D$53,2,FALSE),\"\")","v":""},null,{"$f":"IFERROR(VLOOKUP(AS171,商品マスター!$B$7:$D$53,3,FALSE),\"\")","v":""},0,null,{"$f":"IFERROR(VLOOKUP(AX171,商品マスター!$B$7:$D$53,2,FALSE),\"\")","v":""},null,{"$f":"IFERROR(VLOOKUP(AX171,商品マスター!$B$7:$D$53,3,FALSE),\"\")","v":""},0,null,{"$f":"IFERROR(VLOOKUP(BC171,商品マスター!$B$7:$D$53,2,FALSE),\"\")","v":""},null,{"$f":"IFERROR(VLOOKUP(BC171,商品マスター!$B$7:$D$53,3,FALSE),\"\")","v":""},0,null,{"$f":"IFERROR(VLOOKUP(BH171,商品マスター!$B$7:$D$53,2,FALSE),\"\")","v":""},null,{"$f":"IFERROR(VLOOKUP(BH171,商品マスター!$B$7:$D$53,3,FALSE),\"\")","v":""},0,0,0.1,0,null,0]
["",null,null,null,null,null,null,null,{"$f":"IFERROR(VLOOKUP(H172,得意先マスター!$B$7:$H$103,2,FALSE),\"\")","v":""},{"$f":"IFERROR(VLOOKUP(H172,得意先マスター!$B$7:$H$103,3,FALSE),\"\")","v":""},{"$f":"IFERROR(VLOOKUP(H172,得意先マスター!$B$7:$H$103,4,FALSE),\"\")","v":""},{"$f":"IFERROR(VLOOKUP(H172,得意先マスター!$B$7:$H$103,5,FALSE),\"\")","v":""},{"$f":"IFERROR(VLOOKUP(H172,得意先マスター!$B$7:$H$103,6,FALSE),\"\")","v":""},null,null,{"$f":"IFERROR(VLOOKUP(O172,商品マスター!$B$7:$D$53,2,FALSE),\"\")","v":""},null,{"$f":"IFERROR(VLOOKUP(O172,商品マスター!$B$7:$D$53,3,FALSE),\"\")","v":""},0,null,{"$f":"IFERROR(VLOOKUP(T172,商品マスター!$B$7:$D$53,2,FALSE),\"\")","v":""},null,{"$f":"IFERROR(VLOOKUP(T172,商品マスター!$B$7:$D$53,3,FALSE),\"\")","v":""},0,null,{"$f":"IFERROR(VLOOKUP(Y172,商品マスター!$B$7:$D$53,2,FALSE),\"\")","v":""},null,{"$f":"IFERROR(VLOOKUP(Y172,商品マスター!$B$7:$D$53,3,FALSE),\"\")","v":""},0,null,{"$f":"IFERROR(VLOOKUP(AD172,商品マスター!$B$7:$D$53,2,FALSE),\"\")","v":""},null,{"$f":"IFERROR(VLOOKUP(AD172,商品マスター!$B$7:$D$53,3,FALSE),\"\")","v":""},0,null,{"$f":"IFERROR(VLOOKUP(AI172,商品マスター!$B$7:$D$53,2,FALSE),\"\")","v":""},null,{"$f":"IFERROR(VLOOKUP(AI172,商品マスター!$B$7:$D$53,3,FALSE),\"\")","v":""},0,null,{"$f":"IFERROR(VLOOKUP(AN172,商品マスター!$B$7:$D$53,2,FALSE),\"\")","v":""},null,{"$f":"IFERROR(VLOOKUP(AN172,商品マスター!$B$7:$D$53,3,FALSE),\"\")","v":""},0,null,{"$f":"IFERROR(VLOOKUP(AS172,商品マスター!$B$7:$D$53,2,FALSE),\"\")","v":""},null,{"$f":"IFERROR(VLOOKUP(AS172,商品マスター!$B$7:$D$53,3,FALSE),\"\")","v":""},0,null,{"$f":"IFERROR(VLOOKUP(AX172,商品マスター!$B$7:$D$53,2,FALSE),\"\")","v":""},null,{"$f":"IFERROR(VLOOKUP(AX172,商品マスター!$B$7:$D$53,3,FALSE),\"\")","v":""},0,null,{"$f":"IFERROR(VLOOKUP(BC172,商品マスター!$B$7:$D$53,2,FALSE),\"\")","v":""},null,{"$f":"IFERROR(VLOOKUP(BC172,商品マスター!$B$7:$D$53,3,FALSE),\"\")","v":""},0,null,{"$f":"IFERROR(VLOOKUP(BH172,商品マスター!$B$7:$D$53,2,FALSE),\"\")","v":""},null,{"$f":"IFERROR(VLOOKUP(BH172,商品マスター!$B$7:$D$53,3,FALSE),\"\")","v":""},0,0,0.1,0,null,0]
["",null,null,null,null,null,null,null,{"$f":"IFERROR(VLOOKUP(H173,得意先マスター!$B$7:$H$103,2,FALSE),\"\")","v":""},{"$f":"IFERROR(VLOOKUP(H173,得意先マスター!$B$7:$H$103,3,FALSE),\"\")","v":""},{"$f":"IFERROR(VLOOKUP(H173,得意先マスター!$B$7:$H$103,4,FALSE),\"\")","v":""},{"$f":"IFERROR(VLOOKUP(H173,得意先マスター!$B$7:$H$103,5,FALSE),\"\")","v":""},{"$f":"IFERROR(VLOOKUP(H173,得意先マスター!$B$7:$H$103,6,FALSE),\"\")","v":""},null,null,{"$f":"IFERROR(VLOOKUP(O173,商品マスター!$B$7:$D$53,2,FALSE),\"\")","v":""},null,{"$f":"IFERROR(VLOOKUP(O173,商品マスター!$B$7:$D$53,3,FALSE),\"\")","v":""},0,null,{"$f":"IFERROR(VLOOKUP(T173,商品マスター!$B$7:$D$53,2,FALSE),\"\")","v":""},null,{"$f":"IFERROR(VLOOKUP(T173,商品マスター!$B$7:$D$53,3,FALSE),\"\")","v":""},0,null,{"$f":"IFERROR(VLOOKUP(Y173,商品マスター!$B$7:$D$53,2,FALSE),\"\")","v":""},null,{"$f":"IFERROR(VLOOKUP(Y173,商品マスター!$B$7:$D$53,3,FALSE),\"\")","v":""},0,null,{"$f":"IFERROR(VLOOKUP(AD173,商品マスター!$B$7:$D$53,2,FALSE),\"\")","v":""},null,{"$f":"IFERROR(VLOOKUP(AD173,商品マスター!$B$7:$D$53,3,FALSE),\"\")","v":""},0,null,{"$f":"IFERROR(VLOOKUP(AI173,商品マスター!$B$7:$D$53,2,FALSE),\"\")","v":""},null,{"$f":"IFERROR(VLOOKUP(AI173,商品マスター!$B$7:$D$53,3,FALSE),\"\")","v":""},0,null,{"$f":"IFERROR(VLOOKUP(AN173,商品マスター!$B$7:$D$53,2,FALSE),\"\")","v":""},null,{"$f":"IFERROR(VLOOKUP(AN173,商品マスター!$B$7:$D$53,3,FALSE),\"\")","v":""},0,null,{"$f":"IFERROR(VLOOKUP(AS173,商品マスター!$B$7:$D$53,2,FALSE),\"\")","v":""},null,{"$f":"IFERROR(VLOOKUP(AS173,商品マスター!$B$7:$D$53,3,FALSE),\"\")","v":""},0,null,{"$f":"IFERROR(VLOOKUP(AX173,商品マスター!$B$7:$D$53,2,FALSE),\"\")","v":""},null,{"$f":"IFERROR(VLOOKUP(AX173,商品マスター!$B$7:$D$53,3,FALSE),\"\")","v":""},0,null,{"$f":"IFERROR(VLOOKUP(BC173,商品マスター!$B$7:$D$53,2,FALSE),\"\")","v":""},null,{"$f":"IFERROR(VLOOKUP(BC173,商品マスター!$B$7:$D$53,3,FALSE),\"\")","v":""},0,null,{"$f":"IFERROR(VLOOKUP(BH173,商品マスター!$B$7:$D$53,2,FALSE),\"\")","v":""},null,{"$f":"IFERROR(VLOOKUP(BH173,商品マスター!$B$7:$D$53,3,FALSE),\"\")","v":""},0,0,0.1,0,null,0]
["",null,null,null,null,null,null,null,{"$f":"IFERROR(VLOOKUP(H174,得意先マスター!$B$7:$H$103,2,FALSE),\"\")","v":""},{"$f":"IFERROR(VLOOKUP(H174,得意先マスター!$B$7:$H$103,3,FALSE),\"\")","v":""},{"$f":"IFERROR(VLOOKUP(H174,得意先マスター!$B$7:$H$103,4,FALSE),\"\")","v":""},{"$f":"IFERROR(VLOOKUP(H174,得意先マスター!$B$7:$H$103,5,FALSE),\"\")","v":""},{"$f":"IFERROR(VLOOKUP(H174,得意先マスター!$B$7:$H$103,6,FALSE),\"\")","v":""},null,null,{"$f":"IFERROR(VLOOKUP(O174,商品マスター!$B$7:$D$53,2,FALSE),\"\")","v":""},null,{"$f":"IFERROR(VLOOKUP(O174,商品マスター!$B$7:$D$53,3,FALSE),\"\")","v":""},0,null,{"$f":"IFERROR(VLOOKUP(T174,商品マスター!$B$7:$D$53,2,FALSE),\"\")","v":""},null,{"$f":"IFERROR(VLOOKUP(T174,商品マスター!$B$7:$D$53,3,FALSE),\"\")","v":""},0,null,{"$f":"IFERROR(VLOOKUP(Y174,商品マスター!$B$7:$D$53,2,FALSE),\"\")","v":""},null,{"$f":"IFERROR(VLOOKUP(Y174,商品マスター!$B$7:$D$53,3,FALSE),\"\")","v":""},0,null,{"$f":"IFERROR(VLOOKUP(AD174,商品マスター!$B$7:$D$53,2,FALSE),\"\")","v":""},null,{"$f":"IFERROR(VLOOKUP(AD174,商品マスター!$B$7:$D$53,3,FALSE),\"\")","v":""},0,null,{"$f":"IFERROR(VLOOKUP(AI174,商品マスター!$B$7:$D$53,2,FALSE),\"\")","v":""},null,{"$f":"IFERROR(VLOOKUP(AI174,商品マスター!$B$7:$D$53,3,FALSE),\"\")","v":""},0,null,{"$f":"IFERROR(VLOOKUP(AN174,商品マスター!$B$7:$D$53,2,FALSE),\"\")","v":""},null,{"$f":"IFERROR(VLOOKUP(AN174,商品マスター!$B$7:$D$53,3,FALSE),\"\")","v":""},0,null,{"$f":"IFERROR(VLOOKUP(AS174,商品マスター!$B$7:$D$53,2,FALSE),\"\")","v":""},null,{"$f":"IFERROR(VLOOKUP(AS174,商品マスター!$B$7:$D$53,3,FALSE),\"\")","v":""},0,null,{"$f":"IFERROR(VLOOKUP(AX174,商品マスター!$B$7:$D$53,2,FALSE),\"\")","v":""},null,{"$f":"IFERROR(VLOOKUP(AX174,商品マスター!$B$7:$D$53,3,FALSE),\"\")","v":""},0,null,{"$f":"IFERROR(VLOOKUP(BC174,商品マスター!$B$7:$D$53,2,FALSE),\"\")","v":""},null,{"$f":"IFERROR(VLOOKUP(BC174,商品マスター!$B$7:$D$53,3,FALSE),\"\")","v":""},0,null,{"$f":"IFERROR(VLOOKUP(BH174,商品マスター!$B$7:$D$53,2,FALSE),\"\")","v":""},null,{"$f":"IFERROR(VLOOKUP(BH174,商品マスター!$B$7:$D$53,3,FALSE),\"\")","v":""},0,0,0.1,0,null,0]
["",null,null,null,null,null,null,null,{"$f":"IFERROR(VLOOKUP(H175,得意先マスター!$B$7:$H$103,2,FALSE),\"\")","v":""},{"$f":"IFERROR(VLOOKUP(H175,得意先マスター!$B$7:$H$103,3,FALSE),\"\")","v":""},{"$f":"IFERROR(VLOOKUP(H175,得意先マスター!$B$7:$H$103,4,FALSE),\"\")","v":""},{"$f":"IFERROR(VLOOKUP(H175,得意先マスター!$B$7:$H$103,5,FALSE),\"\")","v":""},{"$f":"IFERROR(VLOOKUP(H175,得意先マスター!$B$7:$H$103,6,FALSE),\"\")","v":""},null,null,{"$f":"IFERROR(VLOOKUP(O175,商品マスター!$B$7:$D$53,2,FALSE),\"\")","v":""},null,{"$f":"IFERROR(VLOOKUP(O175,商品マスター!$B$7:$D$53,3,FALSE),\"\")","v":""},0,null,{"$f":"IFERROR(VLOOKUP(T175,商品マスター!$B$7:$D$53,2,FALSE),\"\")","v":""},null,{"$f":"IFERROR(VLOOKUP(T175,商品マスター!$B$7:$D$53,3,FALSE),\"\")","v":""},0,null,{"$f":"IFERROR(VLOOKUP(Y175,商品マスター!$B$7:$D$53,2,FALSE),\"\")","v":""},null,{"$f":"IFERROR(VLOOKUP(Y175,商品マスター!$B$7:$D$53,3,FALSE),\"\")","v":""},0,null,{"$f":"IFERROR(VLOOKUP(AD175,商品マスター!$B$7:$D$53,2,FALSE),\"\")","v":""},null,{"$f":"IFERROR(VLOOKUP(AD175,商品マスター!$B$7:$D$53,3,FALSE),\"\")","v":""},0,null,{"$f":"IFERROR(VLOOKUP(AI175,商品マスター!$B$7:$D$53,2,FALSE),\"\")","v":""},null,{"$f":"IFERROR(VLOOKUP(AI175,商品マスター!$B$7:$D$53,3,FALSE),\"\")","v":""},0,null,{"$f":"IFERROR(VLOOKUP(AN175,商品マスター!$B$7:$D$53,2,FALSE),\"\")","v":""},null,{"$f":"IFERROR(VLOOKUP(AN175,商品マスター!$B$7:$D$53,3,FALSE),\"\")","v":""},0,null,{"$f":"IFERROR(VLOOKUP(AS175,商品マスター!$B$7:$D$53,2,FALSE),\"\")","v":""},null,{"$f":"IFERROR(VLOOKUP(AS175,商品マスター!$B$7:$D$53,3,FALSE),\"\")","v":""},0,null,{"$f":"IFERROR(VLOOKUP(AX175,商品マスター!$B$7:$D$53,2,FALSE),\"\")","v":""},null,{"$f":"IFERROR(VLOOKUP(AX175,商品マスター!$B$7:$D$53,3,FALSE),\"\")","v":""},0,null,{"$f":"IFERROR(VLOOKUP(BC175,商品マスター!$B$7:$D$53,2,FALSE),\"\")","v":""},null,{"$f":"IFERROR(VLOOKUP(BC175,商品マスター!$B$7:$D$53,3,FALSE),\"\")","v":""},0,null,{"$f":"IFERROR(VLOOKUP(BH175,商品マスター!$B$7:$D$53,2,FALSE),\"\")","v":""},null,{"$f":"IFERROR(VLOOKUP(BH175,商品マスター!$B$7:$D$53,3,FALSE),\"\")","v":""},0,0,0.1,0,null,0]
["",null,null,null,null,null,null,null,{"$f":"IFERROR(VLOOKUP(H176,得意先マスター!$B$7:$H$103,2,FALSE),\"\")","v":""},{"$f":"IFERROR(VLOOKUP(H176,得意先マスター!$B$7:$H$103,3,FALSE),\"\")","v":""},{"$f":"IFERROR(VLOOKUP(H176,得意先マスター!$B$7:$H$103,4,FALSE),\"\")","v":""},{"$f":"IFERROR(VLOOKUP(H176,得意先マスター!$B$7:$H$103,5,FALSE),\"\")","v":""},{"$f":"IFERROR(VLOOKUP(H176,得意先マスター!$B$7:$H$103,6,FALSE),\"\")","v":""},null,null,{"$f":"IFERROR(VLOOKUP(O176,商品マスター!$B$7:$D$53,2,FALSE),\"\")","v":""},null,{"$f":"IFERROR(VLOOKUP(O176,商品マスター!$B$7:$D$53,3,FALSE),\"\")","v":""},0,null,{"$f":"IFERROR(VLOOKUP(T176,商品マスター!$B$7:$D$53,2,FALSE),\"\")","v":""},null,{"$f":"IFERROR(VLOOKUP(T176,商品マスター!$B$7:$D$53,3,FALSE),\"\")","v":""},0,null,{"$f":"IFERROR(VLOOKUP(Y176,商品マスター!$B$7:$D$53,2,FALSE),\"\")","v":""},null,{"$f":"IFERROR(VLOOKUP(Y176,商品マスター!$B$7:$D$53,3,FALSE),\"\")","v":""},0,null,{"$f":"IFERROR(VLOOKUP(AD176,商品マスター!$B$7:$D$53,2,FALSE),\"\")","v":""},null,{"$f":"IFERROR(VLOOKUP(AD176,商品マスター!$B$7:$D$53,3,FALSE),\"\")","v":""},0,null,{"$f":"IFERROR(VLOOKUP(AI176,商品マスター!$B$7:$D$53,2,FALSE),\"\")","v":""},null,{"$f":"IFERROR(VLOOKUP(AI176,商品マスター!$B$7:$D$53,3,FALSE),\"\")","v":""},0,null,{"$f":"IFERROR(VLOOKUP(AN176,商品マスター!$B$7:$D$53,2,FALSE),\"\")","v":""},null,{"$f":"IFERROR(VLOOKUP(AN176,商品マスター!$B$7:$D$53,3,FALSE),\"\")","v":""},0,null,{"$f":"IFERROR(VLOOKUP(AS176,商品マスター!$B$7:$D$53,2,FALSE),\"\")","v":""},null,{"$f":"IFERROR(VLOOKUP(AS176,商品マスター!$B$7:$D$53,3,FALSE),\"\")","v":""},0,null,{"$f":"IFERROR(VLOOKUP(AX176,商品マスター!$B$7:$D$53,2,FALSE),\"\")","v":""},null,{"$f":"IFERROR(VLOOKUP(AX176,商品マスター!$B$7:$D$53,3,FALSE),\"\")","v":""},0,null,{"$f":"IFERROR(VLOOKUP(BC176,商品マスター!$B$7:$D$53,2,FALSE),\"\")","v":""},null,{"$f":"IFERROR(VLOOKUP(BC176,商品マスター!$B$7:$D$53,3,FALSE),\"\")","v":""},0,null,{"$f":"IFERROR(VLOOKUP(BH176,商品マスター!$B$7:$D$53,2,FALSE),\"\")","v":""},null,{"$f":"IFERROR(VLOOKUP(BH176,商品マスター!$B$7:$D$53,3,FALSE),\"\")","v":""},0,0,0.1,0,null,0]
["",null,null,null,null,null,null,null,{"$f":"IFERROR(VLOOKUP(H177,得意先マスター!$B$7:$H$103,2,FALSE),\"\")","v":""},{"$f":"IFERROR(VLOOKUP(H177,得意先マスター!$B$7:$H$103,3,FALSE),\"\")","v":""},{"$f":"IFERROR(VLOOKUP(H177,得意先マスター!$B$7:$H$103,4,FALSE),\"\")","v":""},{"$f":"IFERROR(VLOOKUP(H177,得意先マスター!$B$7:$H$103,5,FALSE),\"\")","v":""},{"$f":"IFERROR(VLOOKUP(H177,得意先マスター!$B$7:$H$103,6,FALSE),\"\")","v":""},null,null,{"$f":"IFERROR(VLOOKUP(O177,商品マスター!$B$7:$D$53,2,FALSE),\"\")","v":""},null,{"$f":"IFERROR(VLOOKUP(O177,商品マスター!$B$7:$D$53,3,FALSE),\"\")","v":""},0,null,{"$f":"IFERROR(VLOOKUP(T177,商品マスター!$B$7:$D$53,2,FALSE),\"\")","v":""},null,{"$f":"IFERROR(VLOOKUP(T177,商品マスター!$B$7:$D$53,3,FALSE),\"\")","v":""},0,null,{"$f":"IFERROR(VLOOKUP(Y177,商品マスター!$B$7:$D$53,2,FALSE),\"\")","v":""},null,{"$f":"IFERROR(VLOOKUP(Y177,商品マスター!$B$7:$D$53,3,FALSE),\"\")","v":""},0,null,{"$f":"IFERROR(VLOOKUP(AD177,商品マスター!$B$7:$D$53,2,FALSE),\"\")","v":""},null,{"$f":"IFERROR(VLOOKUP(AD177,商品マスター!$B$7:$D$53,3,FALSE),\"\")","v":""},0,null,{"$f":"IFERROR(VLOOKUP(AI177,商品マスター!$B$7:$D$53,2,FALSE),\"\")","v":""},null,{"$f":"IFERROR(VLOOKUP(AI177,商品マスター!$B$7:$D$53,3,FALSE),\"\")","v":""},0,null,{"$f":"IFERROR(VLOOKUP(AN177,商品マスター!$B$7:$D$53,2,FALSE),\"\")","v":""},null,{"$f":"IFERROR(VLOOKUP(AN177,商品マスター!$B$7:$D$53,3,FALSE),\"\")","v":""},0,null,{"$f":"IFERROR(VLOOKUP(AS177,商品マスター!$B$7:$D$53,2,FALSE),\"\")","v":""},null,{"$f":"IFERROR(VLOOKUP(AS177,商品マスター!$B$7:$D$53,3,FALSE),\"\")","v":""},0,null,{"$f":"IFERROR(VLOOKUP(AX177,商品マスター!$B$7:$D$53,2,FALSE),\"\")","v":""},null,{"$f":"IFERROR(VLOOKUP(AX177,商品マスター!$B$7:$D$53,3,FALSE),\"\")","v":""},0,null,{"$f":"IFERROR(VLOOKUP(BC177,商品マスター!$B$7:$D$53,2,FALSE),\"\")","v":""},null,{"$f":"IFERROR(VLOOKUP(BC177,商品マスター!$B$7:$D$53,3,FALSE),\"\")","v":""},0,null,{"$f":"IFERROR(VLOOKUP(BH177,商品マスター!$B$7:$D$53,2,FALSE),\"\")","v":""},null,{"$f":"IFERROR(VLOOKUP(BH177,商品マスター!$B$7:$D$53,3,FALSE),\"\")","v":""},0,0,0.1,0,null,0]
["",null,null,null,null,null,null,null,{"$f":"IFERROR(VLOOKUP(H178,得意先マスター!$B$7:$H$103,2,FALSE),\"\")","v":""},{"$f":"IFERROR(VLOOKUP(H178,得意先マスター!$B$7:$H$103,3,FALSE),\"\")","v":""},{"$f":"IFERROR(VLOOKUP(H178,得意先マスター!$B$7:$H$103,4,FALSE),\"\")","v":""},{"$f":"IFERROR(VLOOKUP(H178,得意先マスター!$B$7:$H$103,5,FALSE),\"\")","v":""},{"$f":"IFERROR(VLOOKUP(H178,得意先マスター!$B$7:$H$103,6,FALSE),\"\")","v":""},null,null,{"$f":"IFERROR(VLOOKUP(O178,商品マスター!$B$7:$D$53,2,FALSE),\"\")","v":""},null,{"$f":"IFERROR(VLOOKUP(O178,商品マスター!$B$7:$D$53,3,FALSE),\"\")","v":""},0,null,{"$f":"IFERROR(VLOOKUP(T178,商品マスター!$B$7:$D$53,2,FALSE),\"\")","v":""},null,{"$f":"IFERROR(VLOOKUP(T178,商品マスター!$B$7:$D$53,3,FALSE),\"\")","v":""},0,null,{"$f":"IFERROR(VLOOKUP(Y178,商品マスター!$B$7:$D$53,2,FALSE),\"\")","v":""},null,{"$f":"IFERROR(VLOOKUP(Y178,商品マスター!$B$7:$D$53,3,FALSE),\"\")","v":""},0,null,{"$f":"IFERROR(VLOOKUP(AD178,商品マスター!$B$7:$D$53,2,FALSE),\"\")","v":""},null,{"$f":"IFERROR(VLOOKUP(AD178,商品マスター!$B$7:$D$53,3,FALSE),\"\")","v":""},0,null,{"$f":"IFERROR(VLOOKUP(AI178,商品マスター!$B$7:$D$53,2,FALSE),\"\")","v":""},null,{"$f":"IFERROR(VLOOKUP(AI178,商品マスター!$B$7:$D$53,3,FALSE),\"\")","v":""},0,null,{"$f":"IFERROR(VLOOKUP(AN178,商品マスター!$B$7:$D$53,2,FALSE),\"\")","v":""},null,{"$f":"IFERROR(VLOOKUP(AN178,商品マスター!$B$7:$D$53,3,FALSE),\"\")","v":""},0,null,{"$f":"IFERROR(VLOOKUP(AS178,商品マスター!$B$7:$D$53,2,FALSE),\"\")","v":""},null,{"$f":"IFERROR(VLOOKUP(AS178,商品マスター!$B$7:$D$53,3,FALSE),\"\")","v":""},0,null,{"$f":"IFERROR(VLOOKUP(AX178,商品マスター!$B$7:$D$53,2,FALSE),\"\")","v":""},null,{"$f":"IFERROR(VLOOKUP(AX178,商品マスター!$B$7:$D$53,3,FALSE),\"\")","v":""},0,null,{"$f":"IFERROR(VLOOKUP(BC178,商品マスター!$B$7:$D$53,2,FALSE),\"\")","v":""},null,{"$f":"IFERROR(VLOOKUP(BC178,商品マスター!$B$7:$D$53,3,FALSE),\"\")","v":""},0,null,{"$f":"IFERROR(VLOOKUP(BH178,商品マスター!$B$7:$D$53,2,FALSE),\"\")","v":""},null,{"$f":"IFERROR(VLOOKUP(BH178,商品マスター!$B$7:$D$53,3,FALSE),\"\")","v":""},0,0,0.1,0,null,0]
["",null,null,null,null,null,null,null,{"$f":"IFERROR(VLOOKUP(H179,得意先マスター!$B$7:$H$103,2,FALSE),\"\")","v":""},{"$f":"IFERROR(VLOOKUP(H179,得意先マスター!$B$7:$H$103,3,FALSE),\"\")","v":""},{"$f":"IFERROR(VLOOKUP(H179,得意先マスター!$B$7:$H$103,4,FALSE),\"\")","v":""},{"$f":"IFERROR(VLOOKUP(H179,得意先マスター!$B$7:$H$103,5,FALSE),\"\")","v":""},{"$f":"IFERROR(VLOOKUP(H179,得意先マスター!$B$7:$H$103,6,FALSE),\"\")","v":""},null,null,{"$f":"IFERROR(VLOOKUP(O179,商品マスター!$B$7:$D$53,2,FALSE),\"\")","v":""},null,{"$f":"IFERROR(VLOOKUP(O179,商品マスター!$B$7:$D$53,3,FALSE),\"\")","v":""},0,null,{"$f":"IFERROR(VLOOKUP(T179,商品マスター!$B$7:$D$53,2,FALSE),\"\")","v":""},null,{"$f":"IFERROR(VLOOKUP(T179,商品マスター!$B$7:$D$53,3,FALSE),\"\")","v":""},0,null,{"$f":"IFERROR(VLOOKUP(Y179,商品マスター!$B$7:$D$53,2,FALSE),\"\")","v":""},null,{"$f":"IFERROR(VLOOKUP(Y179,商品マスター!$B$7:$D$53,3,FALSE),\"\")","v":""},0,null,{"$f":"IFERROR(VLOOKUP(AD179,商品マスター!$B$7:$D$53,2,FALSE),\"\")","v":""},null,{"$f":"IFERROR(VLOOKUP(AD179,商品マスター!$B$7:$D$53,3,FALSE),\"\")","v":""},0,null,{"$f":"IFERROR(VLOOKUP(AI179,商品マスター!$B$7:$D$53,2,FALSE),\"\")","v":""},null,{"$f":"IFERROR(VLOOKUP(AI179,商品マスター!$B$7:$D$53,3,FALSE),\"\")","v":""},0,null,{"$f":"IFERROR(VLOOKUP(AN179,商品マスター!$B$7:$D$53,2,FALSE),\"\")","v":""},null,{"$f":"IFERROR(VLOOKUP(AN179,商品マスター!$B$7:$D$53,3,FALSE),\"\")","v":""},0,null,{"$f":"IFERROR(VLOOKUP(AS179,商品マスター!$B$7:$D$53,2,FALSE),\"\")","v":""},null,{"$f":"IFERROR(VLOOKUP(AS179,商品マスター!$B$7:$D$53,3,FALSE),\"\")","v":""},0,null,{"$f":"IFERROR(VLOOKUP(AX179,商品マスター!$B$7:$D$53,2,FALSE),\"\")","v":""},null,{"$f":"IFERROR(VLOOKUP(AX179,商品マスター!$B$7:$D$53,3,FALSE),\"\")","v":""},0,null,{"$f":"IFERROR(VLOOKUP(BC179,商品マスター!$B$7:$D$53,2,FALSE),\"\")","v":""},null,{"$f":"IFERROR(VLOOKUP(BC179,商品マスター!$B$7:$D$53,3,FALSE),\"\")","v":""},0,null,{"$f":"IFERROR(VLOOKUP(BH179,商品マスター!$B$7:$D$53,2,FALSE),\"\")","v":""},null,{"$f":"IFERROR(VLOOKUP(BH179,商品マスター!$B$7:$D$53,3,FALSE),\"\")","v":""},0,0,0.1,0,null,0]
["",null,null,null,null,null,null,null,{"$f":"IFERROR(VLOOKUP(H180,得意先マスター!$B$7:$H$103,2,FALSE),\"\")","v":""},{"$f":"IFERROR(VLOOKUP(H180,得意先マスター!$B$7:$H$103,3,FALSE),\"\")","v":""},{"$f":"IFERROR(VLOOKUP(H180,得意先マスター!$B$7:$H$103,4,FALSE),\"\")","v":""},{"$f":"IFERROR(VLOOKUP(H180,得意先マスター!$B$7:$H$103,5,FALSE),\"\")","v":""},{"$f":"IFERROR(VLOOKUP(H180,得意先マスター!$B$7:$H$103,6,FALSE),\"\")","v":""},null,null,{"$f":"IFERROR(VLOOKUP(O180,商品マスター!$B$7:$D$53,2,FALSE),\"\")","v":""},null,{"$f":"IFERROR(VLOOKUP(O180,商品マスター!$B$7:$D$53,3,FALSE),\"\")","v":""},0,null,{"$f":"IFERROR(VLOOKUP(T180,商品マスター!$B$7:$D$53,2,FALSE),\"\")","v":""},null,{"$f":"IFERROR(VLOOKUP(T180,商品マスター!$B$7:$D$53,3,FALSE),\"\")","v":""},0,null,{"$f":"IFERROR(VLOOKUP(Y180,商品マスター!$B$7:$D$53,2,FALSE),\"\")","v":""},null,{"$f":"IFERROR(VLOOKUP(Y180,商品マスター!$B$7:$D$53,3,FALSE),\"\")","v":""},0,null,{"$f":"IFERROR(VLOOKUP(AD180,商品マスター!$B$7:$D$53,2,FALSE),\"\")","v":""},null,{"$f":"IFERROR(VLOOKUP(AD180,商品マスター!$B$7:$D$53,3,FALSE),\"\")","v":""},0,null,{"$f":"IFERROR(VLOOKUP(AI180,商品マスター!$B$7:$D$53,2,FALSE),\"\")","v":""},null,{"$f":"IFERROR(VLOOKUP(AI180,商品マスター!$B$7:$D$53,3,FALSE),\"\")","v":""},0,null,{"$f":"IFERROR(VLOOKUP(AN180,商品マスター!$B$7:$D$53,2,FALSE),\"\")","v":""},null,{"$f":"IFERROR(VLOOKUP(AN180,商品マスター!$B$7:$D$53,3,FALSE),\"\")","v":""},0,null,{"$f":"IFERROR(VLOOKUP(AS180,商品マスター!$B$7:$D$53,2,FALSE),\"\")","v":""},null,{"$f":"IFERROR(VLOOKUP(AS180,商品マスター!$B$7:$D$53,3,FALSE),\"\")","v":""},0,null,{"$f":"IFERROR(VLOOKUP(AX180,商品マスター!$B$7:$D$53,2,FALSE),\"\")","v":""},null,{"$f":"IFERROR(VLOOKUP(AX180,商品マスター!$B$7:$D$53,3,FALSE),\"\")","v":""},0,null,{"$f":"IFERROR(VLOOKUP(BC180,商品マスター!$B$7:$D$53,2,FALSE),\"\")","v":""},null,{"$f":"IFERROR(VLOOKUP(BC180,商品マスター!$B$7:$D$53,3,FALSE),\"\")","v":""},0,null,{"$f":"IFERROR(VLOOKUP(BH180,商品マスター!$B$7:$D$53,2,FALSE),\"\")","v":""},null,{"$f":"IFERROR(VLOOKUP(BH180,商品マスター!$B$7:$D$53,3,FALSE),\"\")","v":""},0,0,0.1,0,null,0]
["",null,null,null,null,null,null,null,{"$f":"IFERROR(VLOOKUP(H181,得意先マスター!$B$7:$H$103,2,FALSE),\"\")","v":""},{"$f":"IFERROR(VLOOKUP(H181,得意先マスター!$B$7:$H$103,3,FALSE),\"\")","v":""},{"$f":"IFERROR(VLOOKUP(H181,得意先マスター!$B$7:$H$103,4,FALSE),\"\")","v":""},{"$f":"IFERROR(VLOOKUP(H181,得意先マスター!$B$7:$H$103,5,FALSE),\"\")","v":""},{"$f":"IFERROR(VLOOKUP(H181,得意先マスター!$B$7:$H$103,6,FALSE),\"\")","v":""},null,null,{"$f":"IFERROR(VLOOKUP(O181,商品マスター!$B$7:$D$53,2,FALSE),\"\")","v":""},null,{"$f":"IFERROR(VLOOKUP(O181,商品マスター!$B$7:$D$53,3,FALSE),\"\")","v":""},0,null,{"$f":"IFERROR(VLOOKUP(T181,商品マスター!$B$7:$D$53,2,FALSE),\"\")","v":""},null,{"$f":"IFERROR(VLOOKUP(T181,商品マスター!$B$7:$D$53,3,FALSE),\"\")","v":""},0,null,{"$f":"IFERROR(VLOOKUP(Y181,商品マスター!$B$7:$D$53,2,FALSE),\"\")","v":""},null,{"$f":"IFERROR(VLOOKUP(Y181,商品マスター!$B$7:$D$53,3,FALSE),\"\")","v":""},0,null,{"$f":"IFERROR(VLOOKUP(AD181,商品マスター!$B$7:$D$53,2,FALSE),\"\")","v":""},null,{"$f":"IFERROR(VLOOKUP(AD181,商品マスター!$B$7:$D$53,3,FALSE),\"\")","v":""},0,null,{"$f":"IFERROR(VLOOKUP(AI181,商品マスター!$B$7:$D$53,2,FALSE),\"\")","v":""},null,{"$f":"IFERROR(VLOOKUP(AI181,商品マスター!$B$7:$D$53,3,FALSE),\"\")","v":""},0,null,{"$f":"IFERROR(VLOOKUP(AN181,商品マスター!$B$7:$D$53,2,FALSE),\"\")","v":""},null,{"$f":"IFERROR(VLOOKUP(AN181,商品マスター!$B$7:$D$53,3,FALSE),\"\")","v":""},0,null,{"$f":"IFERROR(VLOOKUP(AS181,商品マスター!$B$7:$D$53,2,FALSE),\"\")","v":""},null,{"$f":"IFERROR(VLOOKUP(AS181,商品マスター!$B$7:$D$53,3,FALSE),\"\")","v":""},0,null,{"$f":"IFERROR(VLOOKUP(AX181,商品マスター!$B$7:$D$53,2,FALSE),\"\")","v":""},null,{"$f":"IFERROR(VLOOKUP(AX181,商品マスター!$B$7:$D$53,3,FALSE),\"\")","v":""},0,null,{"$f":"IFERROR(VLOOKUP(BC181,商品マスター!$B$7:$D$53,2,FALSE),\"\")","v":""},null,{"$f":"IFERROR(VLOOKUP(BC181,商品マスター!$B$7:$D$53,3,FALSE),\"\")","v":""},0,null,{"$f":"IFERROR(VLOOKUP(BH181,商品マスター!$B$7:$D$53,2,FALSE),\"\")","v":""},null,{"$f":"IFERROR(VLOOKUP(BH181,商品マスター!$B$7:$D$53,3,FALSE),\"\")","v":""},0,0,0.1,0,null,0]
["",null,null,null,null,null,null,null,{"$f":"IFERROR(VLOOKUP(H182,得意先マスター!$B$7:$H$103,2,FALSE),\"\")","v":""},{"$f":"IFERROR(VLOOKUP(H182,得意先マスター!$B$7:$H$103,3,FALSE),\"\")","v":""},{"$f":"IFERROR(VLOOKUP(H182,得意先マスター!$B$7:$H$103,4,FALSE),\"\")","v":""},{"$f":"IFERROR(VLOOKUP(H182,得意先マスター!$B$7:$H$103,5,FALSE),\"\")","v":""},{"$f":"IFERROR(VLOOKUP(H182,得意先マスター!$B$7:$H$103,6,FALSE),\"\")","v":""},null,null,{"$f":"IFERROR(VLOOKUP(O182,商品マスター!$B$7:$D$53,2,FALSE),\"\")","v":""},null,{"$f":"IFERROR(VLOOKUP(O182,商品マスター!$B$7:$D$53,3,FALSE),\"\")","v":""},0,null,{"$f":"IFERROR(VLOOKUP(T182,商品マスター!$B$7:$D$53,2,FALSE),\"\")","v":""},null,{"$f":"IFERROR(VLOOKUP(T182,商品マスター!$B$7:$D$53,3,FALSE),\"\")","v":""},0,null,{"$f":"IFERROR(VLOOKUP(Y182,商品マスター!$B$7:$D$53,2,FALSE),\"\")","v":""},null,{"$f":"IFERROR(VLOOKUP(Y182,商品マスター!$B$7:$D$53,3,FALSE),\"\")","v":""},0,null,{"$f":"IFERROR(VLOOKUP(AD182,商品マスター!$B$7:$D$53,2,FALSE),\"\")","v":""},null,{"$f":"IFERROR(VLOOKUP(AD182,商品マスター!$B$7:$D$53,3,FALSE),\"\")","v":""},0,null,{"$f":"IFERROR(VLOOKUP(AI182,商品マスター!$B$7:$D$53,2,FALSE),\"\")","v":""},null,{"$f":"IFERROR(VLOOKUP(AI182,商品マスター!$B$7:$D$53,3,FALSE),\"\")","v":""},0,null,{"$f":"IFERROR(VLOOKUP(AN182,商品マスター!$B$7:$D$53,2,FALSE),\"\")","v":""},null,{"$f":"IFERROR(VLOOKUP(AN182,商品マスター!$B$7:$D$53,3,FALSE),\"\")","v":""},0,null,{"$f":"IFERROR(VLOOKUP(AS182,商品マスター!$B$7:$D$53,2,FALSE),\"\")","v":""},null,{"$f":"IFERROR(VLOOKUP(AS182,商品マスター!$B$7:$D$53,3,FALSE),\"\")","v":""},0,null,{"$f":"IFERROR(VLOOKUP(AX182,商品マスター!$B$7:$D$53,2,FALSE),\"\")","v":""},null,{"$f":"IFERROR(VLOOKUP(AX182,商品マスター!$B$7:$D$53,3,FALSE),\"\")","v":""},0,null,{"$f":"IFERROR(VLOOKUP(BC182,商品マスター!$B$7:$D$53,2,FALSE),\"\")","v":""},null,{"$f":"IFERROR(VLOOKUP(BC182,商品マスター!$B$7:$D$53,3,FALSE),\"\")","v":""},0,null,{"$f":"IFERROR(VLOOKUP(BH182,商品マスター!$B$7:$D$53,2,FALSE),\"\")","v":""},null,{"$f":"IFERROR(VLOOKUP(BH182,商品マスター!$B$7:$D$53,3,FALSE),\"\")","v":""},0,0,0.1,0,null,0]
["",null,null,null,null,null,null,null,{"$f":"IFERROR(VLOOKUP(H183,得意先マスター!$B$7:$H$103,2,FALSE),\"\")","v":""},{"$f":"IFERROR(VLOOKUP(H183,得意先マスター!$B$7:$H$103,3,FALSE),\"\")","v":""},{"$f":"IFERROR(VLOOKUP(H183,得意先マスター!$B$7:$H$103,4,FALSE),\"\")","v":""},{"$f":"IFERROR(VLOOKUP(H183,得意先マスター!$B$7:$H$103,5,FALSE),\"\")","v":""},{"$f":"IFERROR(VLOOKUP(H183,得意先マスター!$B$7:$H$103,6,FALSE),\"\")","v":""},null,null,{"$f":"IFERROR(VLOOKUP(O183,商品マスター!$B$7:$D$53,2,FALSE),\"\")","v":""},null,{"$f":"IFERROR(VLOOKUP(O183,商品マスター!$B$7:$D$53,3,FALSE),\"\")","v":""},0,null,{"$f":"IFERROR(VLOOKUP(T183,商品マスター!$B$7:$D$53,2,FALSE),\"\")","v":""},null,{"$f":"IFERROR(VLOOKUP(T183,商品マスター!$B$7:$D$53,3,FALSE),\"\")","v":""},0,null,{"$f":"IFERROR(VLOOKUP(Y183,商品マスター!$B$7:$D$53,2,FALSE),\"\")","v":""},null,{"$f":"IFERROR(VLOOKUP(Y183,商品マスター!$B$7:$D$53,3,FALSE),\"\")","v":""},0,null,{"$f":"IFERROR(VLOOKUP(AD183,商品マスター!$B$7:$D$53,2,FALSE),\"\")","v":""},null,{"$f":"IFERROR(VLOOKUP(AD183,商品マスター!$B$7:$D$53,3,FALSE),\"\")","v":""},0,null,{"$f":"IFERROR(VLOOKUP(AI183,商品マスター!$B$7:$D$53,2,FALSE),\"\")","v":""},null,{"$f":"IFERROR(VLOOKUP(AI183,商品マスター!$B$7:$D$53,3,FALSE),\"\")","v":""},0,null,{"$f":"IFERROR(VLOOKUP(AN183,商品マスター!$B$7:$D$53,2,FALSE),\"\")","v":""},null,{"$f":"IFERROR(VLOOKUP(AN183,商品マスター!$B$7:$D$53,3,FALSE),\"\")","v":""},0,null,{"$f":"IFERROR(VLOOKUP(AS183,商品マスター!$B$7:$D$53,2,FALSE),\"\")","v":""},null,{"$f":"IFERROR(VLOOKUP(AS183,商品マスター!$B$7:$D$53,3,FALSE),\"\")","v":""},0,null,{"$f":"IFERROR(VLOOKUP(AX183,商品マスター!$B$7:$D$53,2,FALSE),\"\")","v":""},null,{"$f":"IFERROR(VLOOKUP(AX183,商品マスター!$B$7:$D$53,3,FALSE),\"\")","v":""},0,null,{"$f":"IFERROR(VLOOKUP(BC183,商品マスター!$B$7:$D$53,2,FALSE),\"\")","v":""},null,{"$f":"IFERROR(VLOOKUP(BC183,商品マスター!$B$7:$D$53,3,FALSE),\"\")","v":""},0,null,{"$f":"IFERROR(VLOOKUP(BH183,商品マスター!$B$7:$D$53,2,FALSE),\"\")","v":""},null,{"$f":"IFERROR(VLOOKUP(BH183,商品マスター!$B$7:$D$53,3,FALSE),\"\")","v":""},0,0,0.1,0,null,0]
["",null,null,null,null,null,null,null,{"$f":"IFERROR(VLOOKUP(H184,得意先マスター!$B$7:$H$103,2,FALSE),\"\")","v":""},{"$f":"IFERROR(VLOOKUP(H184,得意先マスター!$B$7:$H$103,3,FALSE),\"\")","v":""},{"$f":"IFERROR(VLOOKUP(H184,得意先マスター!$B$7:$H$103,4,FALSE),\"\")","v":""},{"$f":"IFERROR(VLOOKUP(H184,得意先マスター!$B$7:$H$103,5,FALSE),\"\")","v":""},{"$f":"IFERROR(VLOOKUP(H184,得意先マスター!$B$7:$H$103,6,FALSE),\"\")","v":""},null,null,{"$f":"IFERROR(VLOOKUP(O184,商品マスター!$B$7:$D$53,2,FALSE),\"\")","v":""},null,{"$f":"IFERROR(VLOOKUP(O184,商品マスター!$B$7:$D$53,3,FALSE),\"\")","v":""},0,null,{"$f":"IFERROR(VLOOKUP(T184,商品マスター!$B$7:$D$53,2,FALSE),\"\")","v":""},null,{"$f":"IFERROR(VLOOKUP(T184,商品マスター!$B$7:$D$53,3,FALSE),\"\")","v":""},0,null,{"$f":"IFERROR(VLOOKUP(Y184,商品マスター!$B$7:$D$53,2,FALSE),\"\")","v":""},null,{"$f":"IFERROR(VLOOKUP(Y184,商品マスター!$B$7:$D$53,3,FALSE),\"\")","v":""},0,null,{"$f":"IFERROR(VLOOKUP(AD184,商品マスター!$B$7:$D$53,2,FALSE),\"\")","v":""},null,{"$f":"IFERROR(VLOOKUP(AD184,商品マスター!$B$7:$D$53,3,FALSE),\"\")","v":""},0,null,{"$f":"IFERROR(VLOOKUP(AI184,商品マスター!$B$7:$D$53,2,FALSE),\"\")","v":""},null,{"$f":"IFERROR(VLOOKUP(AI184,商品マスター!$B$7:$D$53,3,FALSE),\"\")","v":""},0,null,{"$f":"IFERROR(VLOOKUP(AN184,商品マスター!$B$7:$D$53,2,FALSE),\"\")","v":""},null,{"$f":"IFERROR(VLOOKUP(AN184,商品マスター!$B$7:$D$53,3,FALSE),\"\")","v":""},0,null,{"$f":"IFERROR(VLOOKUP(AS184,商品マスター!$B$7:$D$53,2,FALSE),\"\")","v":""},null,{"$f":"IFERROR(VLOOKUP(AS184,商品マスター!$B$7:$D$53,3,FALSE),\"\")","v":""},0,null,{"$f":"IFERROR(VLOOKUP(AX184,商品マスター!$B$7:$D$53,2,FALSE),\"\")","v":""},null,{"$f":"IFERROR(VLOOKUP(AX184,商品マスター!$B$7:$D$53,3,FALSE),\"\")","v":""},0,null,{"$f":"IFERROR(VLOOKUP(BC184,商品マスター!$B$7:$D$53,2,FALSE),\"\")","v":""},null,{"$f":"IFERROR(VLOOKUP(BC184,商品マスター!$B$7:$D$53,3,FALSE),\"\")","v":""},0,null,{"$f":"IFERROR(VLOOKUP(BH184,商品マスター!$B$7:$D$53,2,FALSE),\"\")","v":""},null,{"$f":"IFERROR(VLOOKUP(BH184,商品マスター!$B$7:$D$53,3,FALSE),\"\")","v":""},0,0,0.1,0,null,0]
["",null,null,null,null,null,null,null,{"$f":"IFERROR(VLOOKUP(H185,得意先マスター!$B$7:$H$103,2,FALSE),\"\")","v":""},{"$f":"IFERROR(VLOOKUP(H185,得意先マスター!$B$7:$H$103,3,FALSE),\"\")","v":""},{"$f":"IFERROR(VLOOKUP(H185,得意先マスター!$B$7:$H$103,4,FALSE),\"\")","v":""},{"$f":"IFERROR(VLOOKUP(H185,得意先マスター!$B$7:$H$103,5,FALSE),\"\")","v":""},{"$f":"IFERROR(VLOOKUP(H185,得意先マスター!$B$7:$H$103,6,FALSE),\"\")","v":""},null,null,{"$f":"IFERROR(VLOOKUP(O185,商品マスター!$B$7:$D$53,2,FALSE),\"\")","v":""},null,{"$f":"IFERROR(VLOOKUP(O185,商品マスター!$B$7:$D$53,3,FALSE),\"\")","v":""},0,null,{"$f":"IFERROR(VLOOKUP(T185,商品マスター!$B$7:$D$53,2,FALSE),\"\")","v":""},null,{"$f":"IFERROR(VLOOKUP(T185,商品マスター!$B$7:$D$53,3,FALSE),\"\")","v":""},0,null,{"$f":"IFERROR(VLOOKUP(Y185,商品マスター!$B$7:$D$53,2,FALSE),\"\")","v":""},null,{"$f":"IFERROR(VLOOKUP(Y185,商品マスター!$B$7:$D$53,3,FALSE),\"\")","v":""},0,null,{"$f":"IFERROR(VLOOKUP(AD185,商品マスター!$B$7:$D$53,2,FALSE),\"\")","v":""},null,{"$f":"IFERROR(VLOOKUP(AD185,商品マスター!$B$7:$D$53,3,FALSE),\"\")","v":""},0,null,{"$f":"IFERROR(VLOOKUP(AI185,商品マスター!$B$7:$D$53,2,FALSE),\"\")","v":""},null,{"$f":"IFERROR(VLOOKUP(AI185,商品マスター!$B$7:$D$53,3,FALSE),\"\")","v":""},0,null,{"$f":"IFERROR(VLOOKUP(AN185,商品マスター!$B$7:$D$53,2,FALSE),\"\")","v":""},null,{"$f":"IFERROR(VLOOKUP(AN185,商品マスター!$B$7:$D$53,3,FALSE),\"\")","v":""},0,null,{"$f":"IFERROR(VLOOKUP(AS185,商品マスター!$B$7:$D$53,2,FALSE),\"\")","v":""},null,{"$f":"IFERROR(VLOOKUP(AS185,商品マスター!$B$7:$D$53,3,FALSE),\"\")","v":""},0,null,{"$f":"IFERROR(VLOOKUP(AX185,商品マスター!$B$7:$D$53,2,FALSE),\"\")","v":""},null,{"$f":"IFERROR(VLOOKUP(AX185,商品マスター!$B$7:$D$53,3,FALSE),\"\")","v":""},0,null,{"$f":"IFERROR(VLOOKUP(BC185,商品マスター!$B$7:$D$53,2,FALSE),\"\")","v":""},null,{"$f":"IFERROR(VLOOKUP(BC185,商品マスター!$B$7:$D$53,3,FALSE),\"\")","v":""},0,null,{"$f":"IFERROR(VLOOKUP(BH185,商品マスター!$B$7:$D$53,2,FALSE),\"\")","v":""},null,{"$f":"IFERROR(VLOOKUP(BH185,商品マスター!$B$7:$D$53,3,FALSE),\"\")","v":""},0,0,0.1,0,null,0]
["",null,null,null,null,null,null,null,{"$f":"IFERROR(VLOOKUP(H186,得意先マスター!$B$7:$H$103,2,FALSE),\"\")","v":""},{"$f":"IFERROR(VLOOKUP(H186,得意先マスター!$B$7:$H$103,3,FALSE),\"\")","v":""},{"$f":"IFERROR(VLOOKUP(H186,得意先マスター!$B$7:$H$103,4,FALSE),\"\")","v":""},{"$f":"IFERROR(VLOOKUP(H186,得意先マスター!$B$7:$H$103,5,FALSE),\"\")","v":""},{"$f":"IFERROR(VLOOKUP(H186,得意先マスター!$B$7:$H$103,6,FALSE),\"\")","v":""},null,null,{"$f":"IFERROR(VLOOKUP(O186,商品マスター!$B$7:$D$53,2,FALSE),\"\")","v":""},null,{"$f":"IFERROR(VLOOKUP(O186,商品マスター!$B$7:$D$53,3,FALSE),\"\")","v":""},0,null,{"$f":"IFERROR(VLOOKUP(T186,商品マスター!$B$7:$D$53,2,FALSE),\"\")","v":""},null,{"$f":"IFERROR(VLOOKUP(T186,商品マスター!$B$7:$D$53,3,FALSE),\"\")","v":""},0,null,{"$f":"IFERROR(VLOOKUP(Y186,商品マスター!$B$7:$D$53,2,FALSE),\"\")","v":""},null,{"$f":"IFERROR(VLOOKUP(Y186,商品マスター!$B$7:$D$53,3,FALSE),\"\")","v":""},0,null,{"$f":"IFERROR(VLOOKUP(AD186,商品マスター!$B$7:$D$53,2,FALSE),\"\")","v":""},null,{"$f":"IFERROR(VLOOKUP(AD186,商品マスター!$B$7:$D$53,3,FALSE),\"\")","v":""},0,null,{"$f":"IFERROR(VLOOKUP(AI186,商品マスター!$B$7:$D$53,2,FALSE),\"\")","v":""},null,{"$f":"IFERROR(VLOOKUP(AI186,商品マスター!$B$7:$D$53,3,FALSE),\"\")","v":""},0,null,{"$f":"IFERROR(VLOOKUP(AN186,商品マスター!$B$7:$D$53,2,FALSE),\"\")","v":""},null,{"$f":"IFERROR(VLOOKUP(AN186,商品マスター!$B$7:$D$53,3,FALSE),\"\")","v":""},0,null,{"$f":"IFERROR(VLOOKUP(AS186,商品マスター!$B$7:$D$53,2,FALSE),\"\")","v":""},null,{"$f":"IFERROR(VLOOKUP(AS186,商品マスター!$B$7:$D$53,3,FALSE),\"\")","v":""},0,null,{"$f":"IFERROR(VLOOKUP(AX186,商品マスター!$B$7:$D$53,2,FALSE),\"\")","v":""},null,{"$f":"IFERROR(VLOOKUP(AX186,商品マスター!$B$7:$D$53,3,FALSE),\"\")","v":""},0,null,{"$f":"IFERROR(VLOOKUP(BC186,商品マスター!$B$7:$D$53,2,FALSE),\"\")","v":""},null,{"$f":"IFERROR(VLOOKUP(BC186,商品マスター!$B$7:$D$53,3,FALSE),\"\")","v":""},0,null,{"$f":"IFERROR(VLOOKUP(BH186,商品マスター!$B$7:$D$53,2,FALSE),\"\")","v":""},null,{"$f":"IFERROR(VLOOKUP(BH186,商品マスター!$B$7:$D$53,3,FALSE),\"\")","v":""},0,0,0.1,0,null,0]
["",null,null,null,null,null,null,null,{"$f":"IFERROR(VLOOKUP(H187,得意先マスター!$B$7:$H$103,2,FALSE),\"\")","v":""},{"$f":"IFERROR(VLOOKUP(H187,得意先マスター!$B$7:$H$103,3,FALSE),\"\")","v":""},{"$f":"IFERROR(VLOOKUP(H187,得意先マスター!$B$7:$H$103,4,FALSE),\"\")","v":""},{"$f":"IFERROR(VLOOKUP(H187,得意先マスター!$B$7:$H$103,5,FALSE),\"\")","v":""},{"$f":"IFERROR(VLOOKUP(H187,得意先マスター!$B$7:$H$103,6,FALSE),\"\")","v":""},null,null,{"$f":"IFERROR(VLOOKUP(O187,商品マスター!$B$7:$D$53,2,FALSE),\"\")","v":""},null,{"$f":"IFERROR(VLOOKUP(O187,商品マスター!$B$7:$D$53,3,FALSE),\"\")","v":""},0,null,{"$f":"IFERROR(VLOOKUP(T187,商品マスター!$B$7:$D$53,2,FALSE),\"\")","v":""},null,{"$f":"IFERROR(VLOOKUP(T187,商品マスター!$B$7:$D$53,3,FALSE),\"\")","v":""},0,null,{"$f":"IFERROR(VLOOKUP(Y187,商品マスター!$B$7:$D$53,2,FALSE),\"\")","v":""},null,{"$f":"IFERROR(VLOOKUP(Y187,商品マスター!$B$7:$D$53,3,FALSE),\"\")","v":""},0,null,{"$f":"IFERROR(VLOOKUP(AD187,商品マスター!$B$7:$D$53,2,FALSE),\"\")","v":""},null,{"$f":"IFERROR(VLOOKUP(AD187,商品マスター!$B$7:$D$53,3,FALSE),\"\")","v":""},0,null,{"$f":"IFERROR(VLOOKUP(AI187,商品マスター!$B$7:$D$53,2,FALSE),\"\")","v":""},null,{"$f":"IFERROR(VLOOKUP(AI187,商品マスター!$B$7:$D$53,3,FALSE),\"\")","v":""},0,null,{"$f":"IFERROR(VLOOKUP(AN187,商品マスター!$B$7:$D$53,2,FALSE),\"\")","v":""},null,{"$f":"IFERROR(VLOOKUP(AN187,商品マスター!$B$7:$D$53,3,FALSE),\"\")","v":""},0,null,{"$f":"IFERROR(VLOOKUP(AS187,商品マスター!$B$7:$D$53,2,FALSE),\"\")","v":""},null,{"$f":"IFERROR(VLOOKUP(AS187,商品マスター!$B$7:$D$53,3,FALSE),\"\")","v":""},0,null,{"$f":"IFERROR(VLOOKUP(AX187,商品マスター!$B$7:$D$53,2,FALSE),\"\")","v":""},null,{"$f":"IFERROR(VLOOKUP(AX187,商品マスター!$B$7:$D$53,3,FALSE),\"\")","v":""},0,null,{"$f":"IFERROR(VLOOKUP(BC187,商品マスター!$B$7:$D$53,2,FALSE),\"\")","v":""},null,{"$f":"IFERROR(VLOOKUP(BC187,商品マスター!$B$7:$D$53,3,FALSE),\"\")","v":""},0,null,{"$f":"IFERROR(VLOOKUP(BH187,商品マスター!$B$7:$D$53,2,FALSE),\"\")","v":""},null,{"$f":"IFERROR(VLOOKUP(BH187,商品マスター!$B$7:$D$53,3,FALSE),\"\")","v":""},0,0,0.1,0,null,0]
["",null,null,null,null,null,null,null,{"$f":"IFERROR(VLOOKUP(H188,得意先マスター!$B$7:$H$103,2,FALSE),\"\")","v":""},{"$f":"IFERROR(VLOOKUP(H188,得意先マスター!$B$7:$H$103,3,FALSE),\"\")","v":""},{"$f":"IFERROR(VLOOKUP(H188,得意先マスター!$B$7:$H$103,4,FALSE),\"\")","v":""},{"$f":"IFERROR(VLOOKUP(H188,得意先マスター!$B$7:$H$103,5,FALSE),\"\")","v":""},{"$f":"IFERROR(VLOOKUP(H188,得意先マスター!$B$7:$H$103,6,FALSE),\"\")","v":""},null,null,{"$f":"IFERROR(VLOOKUP(O188,商品マスター!$B$7:$D$53,2,FALSE),\"\")","v":""},null,{"$f":"IFERROR(VLOOKUP(O188,商品マスター!$B$7:$D$53,3,FALSE),\"\")","v":""},0,null,{"$f":"IFERROR(VLOOKUP(T188,商品マスター!$B$7:$D$53,2,FALSE),\"\")","v":""},null,{"$f":"IFERROR(VLOOKUP(T188,商品マスター!$B$7:$D$53,3,FALSE),\"\")","v":""},0,null,{"$f":"IFERROR(VLOOKUP(Y188,商品マスター!$B$7:$D$53,2,FALSE),\"\")","v":""},null,{"$f":"IFERROR(VLOOKUP(Y188,商品マスター!$B$7:$D$53,3,FALSE),\"\")","v":""},0,null,{"$f":"IFERROR(VLOOKUP(AD188,商品マスター!$B$7:$D$53,2,FALSE),\"\")","v":""},null,{"$f":"IFERROR(VLOOKUP(AD188,商品マスター!$B$7:$D$53,3,FALSE),\"\")","v":""},0,null,{"$f":"IFERROR(VLOOKUP(AI188,商品マスター!$B$7:$D$53,2,FALSE),\"\")","v":""},null,{"$f":"IFERROR(VLOOKUP(AI188,商品マスター!$B$7:$D$53,3,FALSE),\"\")","v":""},0,null,{"$f":"IFERROR(VLOOKUP(AN188,商品マスター!$B$7:$D$53,2,FALSE),\"\")","v":""},null,{"$f":"IFERROR(VLOOKUP(AN188,商品マスター!$B$7:$D$53,3,FALSE),\"\")","v":""},0,null,{"$f":"IFERROR(VLOOKUP(AS188,商品マスター!$B$7:$D$53,2,FALSE),\"\")","v":""},null,{"$f":"IFERROR(VLOOKUP(AS188,商品マスター!$B$7:$D$53,3,FALSE),\"\")","v":""},0,null,{"$f":"IFERROR(VLOOKUP(AX188,商品マスター!$B$7:$D$53,2,FALSE),\"\")","v":""},null,{"$f":"IFERROR(VLOOKUP(AX188,商品マスター!$B$7:$D$53,3,FALSE),\"\")","v":""},0,null,{"$f":"IFERROR(VLOOKUP(BC188,商品マスター!$B$7:$D$53,2,FALSE),\"\")","v":""},null,{"$f":"IFERROR(VLOOKUP(BC188,商品マスター!$B$7:$D$53,3,FALSE),\"\")","v":""},0,null,{"$f":"IFERROR(VLOOKUP(BH188,商品マスター!$B$7:$D$53,2,FALSE),\"\")","v":""},null,{"$f":"IFERROR(VLOOKUP(BH188,商品マスター!$B$7:$D$53,3,FALSE),\"\")","v":""},0,0,0.1,0,null,0]
["",null,null,null,null,null,null,null,{"$f":"IFERROR(VLOOKUP(H189,得意先マスター!$B$7:$H$103,2,FALSE),\"\")","v":""},{"$f":"IFERROR(VLOOKUP(H189,得意先マスター!$B$7:$H$103,3,FALSE),\"\")","v":""},{"$f":"IFERROR(VLOOKUP(H189,得意先マスター!$B$7:$H$103,4,FALSE),\"\")","v":""},{"$f":"IFERROR(VLOOKUP(H189,得意先マスター!$B$7:$H$103,5,FALSE),\"\")","v":""},{"$f":"IFERROR(VLOOKUP(H189,得意先マスター!$B$7:$H$103,6,FALSE),\"\")","v":""},null,null,{"$f":"IFERROR(VLOOKUP(O189,商品マスター!$B$7:$D$53,2,FALSE),\"\")","v":""},null,{"$f":"IFERROR(VLOOKUP(O189,商品マスター!$B$7:$D$53,3,FALSE),\"\")","v":""},0,null,{"$f":"IFERROR(VLOOKUP(T189,商品マスター!$B$7:$D$53,2,FALSE),\"\")","v":""},null,{"$f":"IFERROR(VLOOKUP(T189,商品マスター!$B$7:$D$53,3,FALSE),\"\")","v":""},0,null,{"$f":"IFERROR(VLOOKUP(Y189,商品マスター!$B$7:$D$53,2,FALSE),\"\")","v":""},null,{"$f":"IFERROR(VLOOKUP(Y189,商品マスター!$B$7:$D$53,3,FALSE),\"\")","v":""},0,null,{"$f":"IFERROR(VLOOKUP(AD189,商品マスター!$B$7:$D$53,2,FALSE),\"\")","v":""},null,{"$f":"IFERROR(VLOOKUP(AD189,商品マスター!$B$7:$D$53,3,FALSE),\"\")","v":""},0,null,{"$f":"IFERROR(VLOOKUP(AI189,商品マスター!$B$7:$D$53,2,FALSE),\"\")","v":""},null,{"$f":"IFERROR(VLOOKUP(AI189,商品マスター!$B$7:$D$53,3,FALSE),\"\")","v":""},0,null,{"$f":"IFERROR(VLOOKUP(AN189,商品マスター!$B$7:$D$53,2,FALSE),\"\")","v":""},null,{"$f":"IFERROR(VLOOKUP(AN189,商品マスター!$B$7:$D$53,3,FALSE),\"\")","v":""},0,null,{"$f":"IFERROR(VLOOKUP(AS189,商品マスター!$B$7:$D$53,2,FALSE),\"\")","v":""},null,{"$f":"IFERROR(VLOOKUP(AS189,商品マスター!$B$7:$D$53,3,FALSE),\"\")","v":""},0,null,{"$f":"IFERROR(VLOOKUP(AX189,商品マスター!$B$7:$D$53,2,FALSE),\"\")","v":""},null,{"$f":"IFERROR(VLOOKUP(AX189,商品マスター!$B$7:$D$53,3,FALSE),\"\")","v":""},0,null,{"$f":"IFERROR(VLOOKUP(BC189,商品マスター!$B$7:$D$53,2,FALSE),\"\")","v":""},null,{"$f":"IFERROR(VLOOKUP(BC189,商品マスター!$B$7:$D$53,3,FALSE),\"\")","v":""},0,null,{"$f":"IFERROR(VLOOKUP(BH189,商品マスター!$B$7:$D$53,2,FALSE),\"\")","v":""},null,{"$f":"IFERROR(VLOOKUP(BH189,商品マスター!$B$7:$D$53,3,FALSE),\"\")","v":""},0,0,0.1,0,null,0]
["",null,null,null,null,null,null,null,{"$f":"IFERROR(VLOOKUP(H190,得意先マスター!$B$7:$H$103,2,FALSE),\"\")","v":""},{"$f":"IFERROR(VLOOKUP(H190,得意先マスター!$B$7:$H$103,3,FALSE),\"\")","v":""},{"$f":"IFERROR(VLOOKUP(H190,得意先マスター!$B$7:$H$103,4,FALSE),\"\")","v":""},{"$f":"IFERROR(VLOOKUP(H190,得意先マスター!$B$7:$H$103,5,FALSE),\"\")","v":""},{"$f":"IFERROR(VLOOKUP(H190,得意先マスター!$B$7:$H$103,6,FALSE),\"\")","v":""},null,null,{"$f":"IFERROR(VLOOKUP(O190,商品マスター!$B$7:$D$53,2,FALSE),\"\")","v":""},null,{"$f":"IFERROR(VLOOKUP(O190,商品マスター!$B$7:$D$53,3,FALSE),\"\")","v":""},0,null,{"$f":"IFERROR(VLOOKUP(T190,商品マスター!$B$7:$D$53,2,FALSE),\"\")","v":""},null,{"$f":"IFERROR(VLOOKUP(T190,商品マスター!$B$7:$D$53,3,FALSE),\"\")","v":""},0,null,{"$f":"IFERROR(VLOOKUP(Y190,商品マスター!$B$7:$D$53,2,FALSE),\"\")","v":""},null,{"$f":"IFERROR(VLOOKUP(Y190,商品マスター!$B$7:$D$53,3,FALSE),\"\")","v":""},0,null,{"$f":"IFERROR(VLOOKUP(AD190,商品マスター!$B$7:$D$53,2,FALSE),\"\")","v":""},null,{"$f":"IFERROR(VLOOKUP(AD190,商品マスター!$B$7:$D$53,3,FALSE),\"\")","v":""},0,null,{"$f":"IFERROR(VLOOKUP(AI190,商品マスター!$B$7:$D$53,2,FALSE),\"\")","v":""},null,{"$f":"IFERROR(VLOOKUP(AI190,商品マスター!$B$7:$D$53,3,FALSE),\"\")","v":""},0,null,{"$f":"IFERROR(VLOOKUP(AN190,商品マスター!$B$7:$D$53,2,FALSE),\"\")","v":""},null,{"$f":"IFERROR(VLOOKUP(AN190,商品マスター!$B$7:$D$53,3,FALSE),\"\")","v":""},0,null,{"$f":"IFERROR(VLOOKUP(AS190,商品マスター!$B$7:$D$53,2,FALSE),\"\")","v":""},null,{"$f":"IFERROR(VLOOKUP(AS190,商品マスター!$B$7:$D$53,3,FALSE),\"\")","v":""},0,null,{"$f":"IFERROR(VLOOKUP(AX190,商品マスター!$B$7:$D$53,2,FALSE),\"\")","v":""},null,{"$f":"IFERROR(VLOOKUP(AX190,商品マスター!$B$7:$D$53,3,FALSE),\"\")","v":""},0,null,{"$f":"IFERROR(VLOOKUP(BC190,商品マスター!$B$7:$D$53,2,FALSE),\"\")","v":""},null,{"$f":"IFERROR(VLOOKUP(BC190,商品マスター!$B$7:$D$53,3,FALSE),\"\")","v":""},0,null,{"$f":"IFERROR(VLOOKUP(BH190,商品マスター!$B$7:$D$53,2,FALSE),\"\")","v":""},null,{"$f":"IFERROR(VLOOKUP(BH190,商品マスター!$B$7:$D$53,3,FALSE),\"\")","v":""},0,0,0.1,0,null,0]
["",null,null,null,null,null,null,null,{"$f":"IFERROR(VLOOKUP(H191,得意先マスター!$B$7:$H$103,2,FALSE),\"\")","v":""},{"$f":"IFERROR(VLOOKUP(H191,得意先マスター!$B$7:$H$103,3,FALSE),\"\")","v":""},{"$f":"IFERROR(VLOOKUP(H191,得意先マスター!$B$7:$H$103,4,FALSE),\"\")","v":""},{"$f":"IFERROR(VLOOKUP(H191,得意先マスター!$B$7:$H$103,5,FALSE),\"\")","v":""},{"$f":"IFERROR(VLOOKUP(H191,得意先マスター!$B$7:$H$103,6,FALSE),\"\")","v":""},null,null,{"$f":"IFERROR(VLOOKUP(O191,商品マスター!$B$7:$D$53,2,FALSE),\"\")","v":""},null,{"$f":"IFERROR(VLOOKUP(O191,商品マスター!$B$7:$D$53,3,FALSE),\"\")","v":""},0,null,{"$f":"IFERROR(VLOOKUP(T191,商品マスター!$B$7:$D$53,2,FALSE),\"\")","v":""},null,{"$f":"IFERROR(VLOOKUP(T191,商品マスター!$B$7:$D$53,3,FALSE),\"\")","v":""},0,null,{"$f":"IFERROR(VLOOKUP(Y191,商品マスター!$B$7:$D$53,2,FALSE),\"\")","v":""},null,{"$f":"IFERROR(VLOOKUP(Y191,商品マスター!$B$7:$D$53,3,FALSE),\"\")","v":""},0,null,{"$f":"IFERROR(VLOOKUP(AD191,商品マスター!$B$7:$D$53,2,FALSE),\"\")","v":""},null,{"$f":"IFERROR(VLOOKUP(AD191,商品マスター!$B$7:$D$53,3,FALSE),\"\")","v":""},0,null,{"$f":"IFERROR(VLOOKUP(AI191,商品マスター!$B$7:$D$53,2,FALSE),\"\")","v":""},null,{"$f":"IFERROR(VLOOKUP(AI191,商品マスター!$B$7:$D$53,3,FALSE),\"\")","v":""},0,null,{"$f":"IFERROR(VLOOKUP(AN191,商品マスター!$B$7:$D$53,2,FALSE),\"\")","v":""},null,{"$f":"IFERROR(VLOOKUP(AN191,商品マスター!$B$7:$D$53,3,FALSE),\"\")","v":""},0,null,{"$f":"IFERROR(VLOOKUP(AS191,商品マスター!$B$7:$D$53,2,FALSE),\"\")","v":""},null,{"$f":"IFERROR(VLOOKUP(AS191,商品マスター!$B$7:$D$53,3,FALSE),\"\")","v":""},0,null,{"$f":"IFERROR(VLOOKUP(AX191,商品マスター!$B$7:$D$53,2,FALSE),\"\")","v":""},null,{"$f":"IFERROR(VLOOKUP(AX191,商品マスター!$B$7:$D$53,3,FALSE),\"\")","v":""},0,null,{"$f":"IFERROR(VLOOKUP(BC191,商品マスター!$B$7:$D$53,2,FALSE),\"\")","v":""},null,{"$f":"IFERROR(VLOOKUP(BC191,商品マスター!$B$7:$D$53,3,FALSE),\"\")","v":""},0,null,{"$f":"IFERROR(VLOOKUP(BH191,商品マスター!$B$7:$D$53,2,FALSE),\"\")","v":""},null,{"$f":"IFERROR(VLOOKUP(BH191,商品マスター!$B$7:$D$53,3,FALSE),\"\")","v":""},0,0,0.1,0,null,0]
["",null,null,null,null,null,null,null,{"$f":"IFERROR(VLOOKUP(H192,得意先マスター!$B$7:$H$103,2,FALSE),\"\")","v":""},{"$f":"IFERROR(VLOOKUP(H192,得意先マスター!$B$7:$H$103,3,FALSE),\"\")","v":""},{"$f":"IFERROR(VLOOKUP(H192,得意先マスター!$B$7:$H$103,4,FALSE),\"\")","v":""},{"$f":"IFERROR(VLOOKUP(H192,得意先マスター!$B$7:$H$103,5,FALSE),\"\")","v":""},{"$f":"IFERROR(VLOOKUP(H192,得意先マスター!$B$7:$H$103,6,FALSE),\"\")","v":""},null,null,{"$f":"IFERROR(VLOOKUP(O192,商品マスター!$B$7:$D$53,2,FALSE),\"\")","v":""},null,{"$f":"IFERROR(VLOOKUP(O192,商品マスター!$B$7:$D$53,3,FALSE),\"\")","v":""},0,null,{"$f":"IFERROR(VLOOKUP(T192,商品マスター!$B$7:$D$53,2,FALSE),\"\")","v":""},null,{"$f":"IFERROR(VLOOKUP(T192,商品マスター!$B$7:$D$53,3,FALSE),\"\")","v":""},0,null,{"$f":"IFERROR(VLOOKUP(Y192,商品マスター!$B$7:$D$53,2,FALSE),\"\")","v":""},null,{"$f":"IFERROR(VLOOKUP(Y192,商品マスター!$B$7:$D$53,3,FALSE),\"\")","v":""},0,null,{"$f":"IFERROR(VLOOKUP(AD192,商品マスター!$B$7:$D$53,2,FALSE),\"\")","v":""},null,{"$f":"IFERROR(VLOOKUP(AD192,商品マスター!$B$7:$D$53,3,FALSE),\"\")","v":""},0,null,{"$f":"IFERROR(VLOOKUP(AI192,商品マスター!$B$7:$D$53,2,FALSE),\"\")","v":""},null,{"$f":"IFERROR(VLOOKUP(AI192,商品マスター!$B$7:$D$53,3,FALSE),\"\")","v":""},0,null,{"$f":"IFERROR(VLOOKUP(AN192,商品マスター!$B$7:$D$53,2,FALSE),\"\")","v":""},null,{"$f":"IFERROR(VLOOKUP(AN192,商品マスター!$B$7:$D$53,3,FALSE),\"\")","v":""},0,null,{"$f":"IFERROR(VLOOKUP(AS192,商品マスター!$B$7:$D$53,2,FALSE),\"\")","v":""},null,{"$f":"IFERROR(VLOOKUP(AS192,商品マスター!$B$7:$D$53,3,FALSE),\"\")","v":""},0,null,{"$f":"IFERROR(VLOOKUP(AX192,商品マスター!$B$7:$D$53,2,FALSE),\"\")","v":""},null,{"$f":"IFERROR(VLOOKUP(AX192,商品マスター!$B$7:$D$53,3,FALSE),\"\")","v":""},0,null,{"$f":"IFERROR(VLOOKUP(BC192,商品マスター!$B$7:$D$53,2,FALSE),\"\")","v":""},null,{"$f":"IFERROR(VLOOKUP(BC192,商品マスター!$B$7:$D$53,3,FALSE),\"\")","v":""},0,null,{"$f":"IFERROR(VLOOKUP(BH192,商品マスター!$B$7:$D$53,2,FALSE),\"\")","v":""},null,{"$f":"IFERROR(VLOOKUP(BH192,商品マスター!$B$7:$D$53,3,FALSE),\"\")","v":""},0,0,0.1,0,null,0]
[{"$f":"IF(ISBLANK(C193),\"\",MONTH(C193))","v":""},null,null,null,null,null,null,null,{"$f":"IFERROR(VLOOKUP(H193,得意先マスター!$B$7:$H$103,2,FALSE),\"\")","v":""},{"$f":"IFERROR(VLOOKUP(H193,得意先マスター!$B$7:$H$103,3,FALSE),\"\")","v":""},{"$f":"IFERROR(VLOOKUP(H193,得意先マスター!$B$7:$H$103,4,FALSE),\"\")","v":""},{"$f":"IFERROR(VLOOKUP(H193,得意先マスター!$B$7:$H$103,5,FALSE),\"\")","v":""},{"$f":"IFERROR(VLOOKUP(H193,得意先マスター!$B$7:$H$103,6,FALSE),\"\")","v":""},null,null,{"$f":"IFERROR(VLOOKUP(O193,商品マスター!$B$7:$D$53,2,FALSE),\"\")","v":""},null,{"$f":"IFERROR(VLOOKUP(O193,商品マスター!$B$7:$D$53,3,FALSE),\"\")","v":""},{"$f":"IFERROR(Q193*R193,0)","v":0},null,{"$f":"IFERROR(VLOOKUP(T193,商品マスター!$B$7:$D$53,2,FALSE),\"\")","v":""},null,{"$f":"IFERROR(VLOOKUP(T193,商品マスター!$B$7:$D$53,3,FALSE),\"\")","v":""},{"$f":"IFERROR(V193*W193,0)","v":0},null,{"$f":"IFERROR(VLOOKUP(Y193,商品マスター!$B$7:$D$53,2,FALSE),\"\")","v":""},null,{"$f":"IFERROR(VLOOKUP(Y193,商品マスター!$B$7:$D$53,3,FALSE),\"\")","v":""},{"$f":"IFERROR(AA193*AB193,0)","v":0},null,{"$f":"IFERROR(VLOOKUP(AD193,商品マスター!$B$7:$D$53,2,FALSE),\"\")","v":""},null,{"$f":"IFERROR(VLOOKUP(AD193,商品マスター!$B$7:$D$53,3,FALSE),\"\")","v":""},{"$f":"IFERROR(AF193*AG193,0)","v":0},null,{"$f":"IFERROR(VLOOKUP(AI193,商品マスター!$B$7:$D$53,2,FALSE),\"\")","v":""},null,{"$f":"IFERROR(VLOOKUP(AI193,商品マスター!$B$7:$D$53,3,FALSE),\"\")","v":""},{"$f":"IFERROR(AK193*AL193,0)","v":0},null,{"$f":"IFERROR(VLOOKUP(AN193,商品マスター!$B$7:$D$53,2,FALSE),\"\")","v":""},null,{"$f":"IFERROR(VLOOKUP(AN193,商品マスター!$B$7:$D$53,3,FALSE),\"\")","v":""},{"$f":"IFERROR(AP193*AQ193,0)","v":0},null,{"$f":"IFERROR(VLOOKUP(AS193,商品マスター!$B$7:$D$53,2,FALSE),\"\")","v":""},null,{"$f":"IFERROR(VLOOKUP(AS193,商品マスター!$B$7:$D$53,3,FALSE),\"\")","v":""},{"$f":"IFERROR(AU193*AV193,0)","v":0},null,{"$f":"IFERROR(VLOOKUP(AX193,商品マスター!$B$7:$D$53,2,FALSE),\"\")","v":""},null,{"$f":"IFERROR(VLOOKUP(AX193,商品マスター!$B$7:$D$53,3,FALSE),\"\")","v":""},{"$f":"IFERROR(AZ193*BA193,0)","v":0},null,{"$f":"IFERROR(VLOOKUP(BC193,商品マスター!$B$7:$D$53,2,FALSE),\"\")","v":""},null,{"$f":"IFERROR(VLOOKUP(BC193,商品マスター!$B$7:$D$53,3,FALSE),\"\")","v":""},{"$f":"IFERROR(BE193*BF193,0)","v":0},null,{"$f":"IFERROR(VLOOKUP(BH193,商品マスター!$B$7:$D$53,2,FALSE),\"\")","v":""},null,{"$f":"IFERROR(VLOOKUP(BH193,商品マスター!$B$7:$D$53,3,FALSE),\"\")","v":""},{"$f":"IFERROR(BJ193*BK193,0)","v":0},{"$f":"IFERROR(S193+X193+AC193+AH193+AM193+AR193+AW193+BB193+BG193+BL193, \"\")","v":0},0.1,{"$f":"IFERROR(BM193*BN193, \"\")","v":0},null,{"$f":"BM193+BO193-BP193","v":0}]
["",null,null,null,null,null,null,null,{"$f":"IFERROR(VLOOKUP(H194,得意先マスター!$B$7:$H$103,2,FALSE),\"\")","v":""},{"$f":"IFERROR(VLOOKUP(H194,得意先マスター!$B$7:$H$103,3,FALSE),\"\")","v":""},{"$f":"IFERROR(VLOOKUP(H194,得意先マスター!$B$7:$H$103,4,FALSE),\"\")","v":""},{"$f":"IFERROR(VLOOKUP(H194,得意先マスター!$B$7:$H$103,5,FALSE),\"\")","v":""},{"$f":"IFERROR(VLOOKUP(H194,得意先マスター!$B$7:$H$103,6,FALSE),\"\")","v":""},null,null,{"$f":"IFERROR(VLOOKUP(O194,商品マスター!$B$7:$D$53,2,FALSE),\"\")","v":""},null,{"$f":"IFERROR(VLOOKUP(O194,商品マスター!$B$7:$D$53,3,FALSE),\"\")","v":""},0,null,{"$f":"IFERROR(VLOOKUP(T194,商品マスター!$B$7:$D$53,2,FALSE),\"\")","v":""},null,{"$f":"IFERROR(VLOOKUP(T194,商品マスター!$B$7:$D$53,3,FALSE),\"\")","v":""},0,null,{"$f":"IFERROR(VLOOKUP(Y194,商品マスター!$B$7:$D$53,2,FALSE),\"\")","v":""},null,{"$f":"IFERROR(VLOOKUP(Y194,商品マスター!$B$7:$D$53,3,FALSE),\"\")","v":""},0,null,{"$f":"IFERROR(VLOOKUP(AD194,商品マスター!$B$7:$D$53,2,FALSE),\"\")","v":""},null,{"$f":"IFERROR(VLOOKUP(AD194,商品マスター!$B$7:$D$53,3,FALSE),\"\")","v":""},0,null,{"$f":"IFERROR(VLOOKUP(AI194,商品マスター!$B$7:$D$53,2,FALSE),\"\")","v":""},null,{"$f":"IFERROR(VLOOKUP(AI194,商品マスター!$B$7:$D$53,3,FALSE),\"\")","v":""},0,null,{"$f":"IFERROR(VLOOKUP(AN194,商品マスター!$B$7:$D$53,2,FALSE),\"\")","v":""},null,{"$f":"IFERROR(VLOOKUP(AN194,商品マスター!$B$7:$D$53,3,FALSE),\"\")","v":""},0,null,{"$f":"IFERROR(VLOOKUP(AS194,商品マスター!$B$7:$D$53,2,FALSE),\"\")","v":""},null,{"$f":"IFERROR(VLOOKUP(AS194,商品マスター!$B$7:$D$53,3,FALSE),\"\")","v":""},0,null,{"$f":"IFERROR(VLOOKUP(AX194,商品マスター!$B$7:$D$53,2,FALSE),\"\")","v":""},null,{"$f":"IFERROR(VLOOKUP(AX194,商品マスター!$B$7:$D$53,3,FALSE),\"\")","v":""},0,null,{"$f":"IFERROR(VLOOKUP(BC194,商品マスター!$B$7:$D$53,2,FALSE),\"\")","v":""},null,{"$f":"IFERROR(VLOOKUP(BC194,商品マスター!$B$7:$D$53,3,FALSE),\"\")","v":""},0,null,{"$f":"IFERROR(VLOOKUP(BH194,商品マスター!$B$7:$D$53,2,FALSE),\"\")","v":""},null,{"$f":"IFERROR(VLOOKUP(BH194,商品マスター!$B$7:$D$53,3,FALSE),\"\")","v":""},0,0,0.1,0,null,0]
["",null,null,null,null,null,null,null,{"$f":"IFERROR(VLOOKUP(H195,得意先マスター!$B$7:$H$103,2,FALSE),\"\")","v":""},{"$f":"IFERROR(VLOOKUP(H195,得意先マスター!$B$7:$H$103,3,FALSE),\"\")","v":""},{"$f":"IFERROR(VLOOKUP(H195,得意先マスター!$B$7:$H$103,4,FALSE),\"\")","v":""},{"$f":"IFERROR(VLOOKUP(H195,得意先マスター!$B$7:$H$103,5,FALSE),\"\")","v":""},{"$f":"IFERROR(VLOOKUP(H195,得意先マスター!$B$7:$H$103,6,FALSE),\"\")","v":""},null,null,{"$f":"IFERROR(VLOOKUP(O195,商品マスター!$B$7:$D$53,2,FALSE),\"\")","v":""},null,{"$f":"IFERROR(VLOOKUP(O195,商品マスター!$B$7:$D$53,3,FALSE),\"\")","v":""},0,null,{"$f":"IFERROR(VLOOKUP(T195,商品マスター!$B$7:$D$53,2,FALSE),\"\")","v":""},null,{"$f":"IFERROR(VLOOKUP(T195,商品マスター!$B$7:$D$53,3,FALSE),\"\")","v":""},0,null,{"$f":"IFERROR(VLOOKUP(Y195,商品マスター!$B$7:$D$53,2,FALSE),\"\")","v":""},null,{"$f":"IFERROR(VLOOKUP(Y195,商品マスター!$B$7:$D$53,3,FALSE),\"\")","v":""},0,null,{"$f":"IFERROR(VLOOKUP(AD195,商品マスター!$B$7:$D$53,2,FALSE),\"\")","v":""},null,{"$f":"IFERROR(VLOOKUP(AD195,商品マスター!$B$7:$D$53,3,FALSE),\"\")","v":""},0,null,{"$f":"IFERROR(VLOOKUP(AI195,商品マスター!$B$7:$D$53,2,FALSE),\"\")","v":""},null,{"$f":"IFERROR(VLOOKUP(AI195,商品マスター!$B$7:$D$53,3,FALSE),\"\")","v":""},0,null,{"$f":"IFERROR(VLOOKUP(AN195,商品マスター!$B$7:$D$53,2,FALSE),\"\")","v":""},null,{"$f":"IFERROR(VLOOKUP(AN195,商品マスター!$B$7:$D$53,3,FALSE),\"\")","v":""},0,null,{"$f":"IFERROR(VLOOKUP(AS195,商品マスター!$B$7:$D$53,2,FALSE),\"\")","v":""},null,{"$f":"IFERROR(VLOOKUP(AS195,商品マスター!$B$7:$D$53,3,FALSE),\"\")","v":""},0,null,{"$f":"IFERROR(VLOOKUP(AX195,商品マスター!$B$7:$D$53,2,FALSE),\"\")","v":""},null,{"$f":"IFERROR(VLOOKUP(AX195,商品マスター!$B$7:$D$53,3,FALSE),\"\")","v":""},0,null,{"$f":"IFERROR(VLOOKUP(BC195,商品マスター!$B$7:$D$53,2,FALSE),\"\")","v":""},null,{"$f":"IFERROR(VLOOKUP(BC195,商品マスター!$B$7:$D$53,3,FALSE),\"\")","v":""},0,null,{"$f":"IFERROR(VLOOKUP(BH195,商品マスター!$B$7:$D$53,2,FALSE),\"\")","v":""},null,{"$f":"IFERROR(VLOOKUP(BH195,商品マスター!$B$7:$D$53,3,FALSE),\"\")","v":""},0,0,0.1,0,null,0]
["",null,null,null,null,null,null,null,{"$f":"IFERROR(VLOOKUP(H196,得意先マスター!$B$7:$H$103,2,FALSE),\"\")","v":""},{"$f":"IFERROR(VLOOKUP(H196,得意先マスター!$B$7:$H$103,3,FALSE),\"\")","v":""},{"$f":"IFERROR(VLOOKUP(H196,得意先マスター!$B$7:$H$103,4,FALSE),\"\")","v":""},{"$f":"IFERROR(VLOOKUP(H196,得意先マスター!$B$7:$H$103,5,FALSE),\"\")","v":""},{"$f":"IFERROR(VLOOKUP(H196,得意先マスター!$B$7:$H$103,6,FALSE),\"\")","v":""},null,null,{"$f":"IFERROR(VLOOKUP(O196,商品マスター!$B$7:$D$53,2,FALSE),\"\")","v":""},null,{"$f":"IFERROR(VLOOKUP(O196,商品マスター!$B$7:$D$53,3,FALSE),\"\")","v":""},0,null,{"$f":"IFERROR(VLOOKUP(T196,商品マスター!$B$7:$D$53,2,FALSE),\"\")","v":""},null,{"$f":"IFERROR(VLOOKUP(T196,商品マスター!$B$7:$D$53,3,FALSE),\"\")","v":""},0,null,{"$f":"IFERROR(VLOOKUP(Y196,商品マスター!$B$7:$D$53,2,FALSE),\"\")","v":""},null,{"$f":"IFERROR(VLOOKUP(Y196,商品マスター!$B$7:$D$53,3,FALSE),\"\")","v":""},0,null,{"$f":"IFERROR(VLOOKUP(AD196,商品マスター!$B$7:$D$53,2,FALSE),\"\")","v":""},null,{"$f":"IFERROR(VLOOKUP(AD196,商品マスター!$B$7:$D$53,3,FALSE),\"\")","v":""},0,null,{"$f":"IFERROR(VLOOKUP(AI196,商品マスター!$B$7:$D$53,2,FALSE),\"\")","v":""},null,{"$f":"IFERROR(VLOOKUP(AI196,商品マスター!$B$7:$D$53,3,FALSE),\"\")","v":""},0,null,{"$f":"IFERROR(VLOOKUP(AN196,商品マスター!$B$7:$D$53,2,FALSE),\"\")","v":""},null,{"$f":"IFERROR(VLOOKUP(AN196,商品マスター!$B$7:$D$53,3,FALSE),\"\")","v":""},0,null,{"$f":"IFERROR(VLOOKUP(AS196,商品マスター!$B$7:$D$53,2,FALSE),\"\")","v":""},null,{"$f":"IFERROR(VLOOKUP(AS196,商品マスター!$B$7:$D$53,3,FALSE),\"\")","v":""},0,null,{"$f":"IFERROR(VLOOKUP(AX196,商品マスター!$B$7:$D$53,2,FALSE),\"\")","v":""},null,{"$f":"IFERROR(VLOOKUP(AX196,商品マスター!$B$7:$D$53,3,FALSE),\"\")","v":""},0,null,{"$f":"IFERROR(VLOOKUP(BC196,商品マスター!$B$7:$D$53,2,FALSE),\"\")","v":""},null,{"$f":"IFERROR(VLOOKUP(BC196,商品マスター!$B$7:$D$53,3,FALSE),\"\")","v":""},0,null,{"$f":"IFERROR(VLOOKUP(BH196,商品マスター!$B$7:$D$53,2,FALSE),\"\")","v":""},null,{"$f":"IFERROR(VLOOKUP(BH196,商品マスター!$B$7:$D$53,3,FALSE),\"\")","v":""},0,0,0.1,0,null,0]
["",null,null,null,null,null,null,null,{"$f":"IFERROR(VLOOKUP(H197,得意先マスター!$B$7:$H$103,2,FALSE),\"\")","v":""},{"$f":"IFERROR(VLOOKUP(H197,得意先マスター!$B$7:$H$103,3,FALSE),\"\")","v":""},{"$f":"IFERROR(VLOOKUP(H197,得意先マスター!$B$7:$H$103,4,FALSE),\"\")","v":""},{"$f":"IFERROR(VLOOKUP(H197,得意先マスター!$B$7:$H$103,5,FALSE),\"\")","v":""},{"$f":"IFERROR(VLOOKUP(H197,得意先マスター!$B$7:$H$103,6,FALSE),\"\")","v":""},null,null,{"$f":"IFERROR(VLOOKUP(O197,商品マスター!$B$7:$D$53,2,FALSE),\"\")","v":""},null,{"$f":"IFERROR(VLOOKUP(O197,商品マスター!$B$7:$D$53,3,FALSE),\"\")","v":""},0,null,{"$f":"IFERROR(VLOOKUP(T197,商品マスター!$B$7:$D$53,2,FALSE),\"\")","v":""},null,{"$f":"IFERROR(VLOOKUP(T197,商品マスター!$B$7:$D$53,3,FALSE),\"\")","v":""},0,null,{"$f":"IFERROR(VLOOKUP(Y197,商品マスター!$B$7:$D$53,2,FALSE),\"\")","v":""},null,{"$f":"IFERROR(VLOOKUP(Y197,商品マスター!$B$7:$D$53,3,FALSE),\"\")","v":""},0,null,{"$f":"IFERROR(VLOOKUP(AD197,商品マスター!$B$7:$D$53,2,FALSE),\"\")","v":""},null,{"$f":"IFERROR(VLOOKUP(AD197,商品マスター!$B$7:$D$53,3,FALSE),\"\")","v":""},0,null,{"$f":"IFERROR(VLOOKUP(AI197,商品マスター!$B$7:$D$53,2,FALSE),\"\")","v":""},null,{"$f":"IFERROR(VLOOKUP(AI197,商品マスター!$B$7:$D$53,3,FALSE),\"\")","v":""},0,null,{"$f":"IFERROR(VLOOKUP(AN197,商品マスター!$B$7:$D$53,2,FALSE),\"\")","v":""},null,{"$f":"IFERROR(VLOOKUP(AN197,商品マスター!$B$7:$D$53,3,FALSE),\"\")","v":""},0,null,{"$f":"IFERROR(VLOOKUP(AS197,商品マスター!$B$7:$D$53,2,FALSE),\"\")","v":""},null,{"$f":"IFERROR(VLOOKUP(AS197,商品マスター!$B$7:$D$53,3,FALSE),\"\")","v":""},0,null,{"$f":"IFERROR(VLOOKUP(AX197,商品マスター!$B$7:$D$53,2,FALSE),\"\")","v":""},null,{"$f":"IFERROR(VLOOKUP(AX197,商品マスター!$B$7:$D$53,3,FALSE),\"\")","v":""},0,null,{"$f":"IFERROR(VLOOKUP(BC197,商品マスター!$B$7:$D$53,2,FALSE),\"\")","v":""},null,{"$f":"IFERROR(VLOOKUP(BC197,商品マスター!$B$7:$D$53,3,FALSE),\"\")","v":""},0,null,{"$f":"IFERROR(VLOOKUP(BH197,商品マスター!$B$7:$D$53,2,FALSE),\"\")","v":""},null,{"$f":"IFERROR(VLOOKUP(BH197,商品マスター!$B$7:$D$53,3,FALSE),\"\")","v":""},0,0,0.1,0,null,0]
["",null,null,null,null,null,null,null,{"$f":"IFERROR(VLOOKUP(H198,得意先マスター!$B$7:$H$103,2,FALSE),\"\")","v":""},{"$f":"IFERROR(VLOOKUP(H198,得意先マスター!$B$7:$H$103,3,FALSE),\"\")","v":""},{"$f":"IFERROR(VLOOKUP(H198,得意先マスター!$B$7:$H$103,4,FALSE),\"\")","v":""},{"$f":"IFERROR(VLOOKUP(H198,得意先マスター!$B$7:$H$103,5,FALSE),\"\")","v":""},{"$f":"IFERROR(VLOOKUP(H198,得意先マスター!$B$7:$H$103,6,FALSE),\"\")","v":""},null,null,{"$f":"IFERROR(VLOOKUP(O198,商品マスター!$B$7:$D$53,2,FALSE),\"\")","v":""},null,{"$f":"IFERROR(VLOOKUP(O198,商品マスター!$B$7:$D$53,3,FALSE),\"\")","v":""},0,null,{"$f":"IFERROR(VLOOKUP(T198,商品マスター!$B$7:$D$53,2,FALSE),\"\")","v":""},null,{"$f":"IFERROR(VLOOKUP(T198,商品マスター!$B$7:$D$53,3,FALSE),\"\")","v":""},0,null,{"$f":"IFERROR(VLOOKUP(Y198,商品マスター!$B$7:$D$53,2,FALSE),\"\")","v":""},null,{"$f":"IFERROR(VLOOKUP(Y198,商品マスター!$B$7:$D$53,3,FALSE),\"\")","v":""},0,null,{"$f":"IFERROR(VLOOKUP(AD198,商品マスター!$B$7:$D$53,2,FALSE),\"\")","v":""},null,{"$f":"IFERROR(VLOOKUP(AD198,商品マスター!$B$7:$D$53,3,FALSE),\"\")","v":""},0,null,{"$f":"IFERROR(VLOOKUP(AI198,商品マスター!$B$7:$D$53,2,FALSE),\"\")","v":""},null,{"$f":"IFERROR(VLOOKUP(AI198,商品マスター!$B$7:$D$53,3,FALSE),\"\")","v":""},0,null,{"$f":"IFERROR(VLOOKUP(AN198,商品マスター!$B$7:$D$53,2,FALSE),\"\")","v":""},null,{"$f":"IFERROR(VLOOKUP(AN198,商品マスター!$B$7:$D$53,3,FALSE),\"\")","v":""},0,null,{"$f":"IFERROR(VLOOKUP(AS198,商品マスター!$B$7:$D$53,2,FALSE),\"\")","v":""},null,{"$f":"IFERROR(VLOOKUP(AS198,商品マスター!$B$7:$D$53,3,FALSE),\"\")","v":""},0,null,{"$f":"IFERROR(VLOOKUP(AX198,商品マスター!$B$7:$D$53,2,FALSE),\"\")","v":""},null,{"$f":"IFERROR(VLOOKUP(AX198,商品マスター!$B$7:$D$53,3,FALSE),\"\")","v":""},0,null,{"$f":"IFERROR(VLOOKUP(BC198,商品マスター!$B$7:$D$53,2,FALSE),\"\")","v":""},null,{"$f":"IFERROR(VLOOKUP(BC198,商品マスター!$B$7:$D$53,3,FALSE),\"\")","v":""},0,null,{"$f":"IFERROR(VLOOKUP(BH198,商品マスター!$B$7:$D$53,2,FALSE),\"\")","v":""},null,{"$f":"IFERROR(VLOOKUP(BH198,商品マスター!$B$7:$D$53,3,FALSE),\"\")","v":""},0,0,0.1,0,null,0]
["",null,null,null,null,null,null,null,{"$f":"IFERROR(VLOOKUP(H199,得意先マスター!$B$7:$H$103,2,FALSE),\"\")","v":""},{"$f":"IFERROR(VLOOKUP(H199,得意先マスター!$B$7:$H$103,3,FALSE),\"\")","v":""},{"$f":"IFERROR(VLOOKUP(H199,得意先マスター!$B$7:$H$103,4,FALSE),\"\")","v":""},{"$f":"IFERROR(VLOOKUP(H199,得意先マスター!$B$7:$H$103,5,FALSE),\"\")","v":""},{"$f":"IFERROR(VLOOKUP(H199,得意先マスター!$B$7:$H$103,6,FALSE),\"\")","v":""},null,null,{"$f":"IFERROR(VLOOKUP(O199,商品マスター!$B$7:$D$53,2,FALSE),\"\")","v":""},null,{"$f":"IFERROR(VLOOKUP(O199,商品マスター!$B$7:$D$53,3,FALSE),\"\")","v":""},0,null,{"$f":"IFERROR(VLOOKUP(T199,商品マスター!$B$7:$D$53,2,FALSE),\"\")","v":""},null,{"$f":"IFERROR(VLOOKUP(T199,商品マスター!$B$7:$D$53,3,FALSE),\"\")","v":""},0,null,{"$f":"IFERROR(VLOOKUP(Y199,商品マスター!$B$7:$D$53,2,FALSE),\"\")","v":""},null,{"$f":"IFERROR(VLOOKUP(Y199,商品マスター!$B$7:$D$53,3,FALSE),\"\")","v":""},0,null,{"$f":"IFERROR(VLOOKUP(AD199,商品マスター!$B$7:$D$53,2,FALSE),\"\")","v":""},null,{"$f":"IFERROR(VLOOKUP(AD199,商品マスター!$B$7:$D$53,3,FALSE),\"\")","v":""},0,null,{"$f":"IFERROR(VLOOKUP(AI199,商品マスター!$B$7:$D$53,2,FALSE),\"\")","v":""},null,{"$f":"IFERROR(VLOOKUP(AI199,商品マスター!$B$7:$D$53,3,FALSE),\"\")","v":""},0,null,{"$f":"IFERROR(VLOOKUP(AN199,商品マスター!$B$7:$D$53,2,FALSE),\"\")","v":""},null,{"$f":"IFERROR(VLOOKUP(AN199,商品マスター!$B$7:$D$53,3,FALSE),\"\")","v":""},0,null,{"$f":"IFERROR(VLOOKUP(AS199,商品マスター!$B$7:$D$53,2,FALSE),\"\")","v":""},null,{"$f":"IFERROR(VLOOKUP(AS199,商品マスター!$B$7:$D$53,3,FALSE),\"\")","v":""},0,null,{"$f":"IFERROR(VLOOKUP(AX199,商品マスター!$B$7:$D$53,2,FALSE),\"\")","v":""},null,{"$f":"IFERROR(VLOOKUP(AX199,商品マスター!$B$7:$D$53,3,FALSE),\"\")","v":""},0,null,{"$f":"IFERROR(VLOOKUP(BC199,商品マスター!$B$7:$D$53,2,FALSE),\"\")","v":""},null,{"$f":"IFERROR(VLOOKUP(BC199,商品マスター!$B$7:$D$53,3,FALSE),\"\")","v":""},0,null,{"$f":"IFERROR(VLOOKUP(BH199,商品マスター!$B$7:$D$53,2,FALSE),\"\")","v":""},null,{"$f":"IFERROR(VLOOKUP(BH199,商品マスター!$B$7:$D$53,3,FALSE),\"\")","v":""},0,0,0.1,0,null,0]
["",null,null,null,null,null,null,null,{"$f":"IFERROR(VLOOKUP(H200,得意先マスター!$B$7:$H$103,2,FALSE),\"\")","v":""},{"$f":"IFERROR(VLOOKUP(H200,得意先マスター!$B$7:$H$103,3,FALSE),\"\")","v":""},{"$f":"IFERROR(VLOOKUP(H200,得意先マスター!$B$7:$H$103,4,FALSE),\"\")","v":""},{"$f":"IFERROR(VLOOKUP(H200,得意先マスター!$B$7:$H$103,5,FALSE),\"\")","v":""},{"$f":"IFERROR(VLOOKUP(H200,得意先マスター!$B$7:$H$103,6,FALSE),\"\")","v":""},null,null,{"$f":"IFERROR(VLOOKUP(O200,商品マスター!$B$7:$D$53,2,FALSE),\"\")","v":""},null,{"$f":"IFERROR(VLOOKUP(O200,商品マスター!$B$7:$D$53,3,FALSE),\"\")","v":""},0,null,{"$f":"IFERROR(VLOOKUP(T200,商品マスター!$B$7:$D$53,2,FALSE),\"\")","v":""},null,{"$f":"IFERROR(VLOOKUP(T200,商品マスター!$B$7:$D$53,3,FALSE),\"\")","v":""},0,null,{"$f":"IFERROR(VLOOKUP(Y200,商品マスター!$B$7:$D$53,2,FALSE),\"\")","v":""},null,{"$f":"IFERROR(VLOOKUP(Y200,商品マスター!$B$7:$D$53,3,FALSE),\"\")","v":""},0,null,{"$f":"IFERROR(VLOOKUP(AD200,商品マスター!$B$7:$D$53,2,FALSE),\"\")","v":""},null,{"$f":"IFERROR(VLOOKUP(AD200,商品マスター!$B$7:$D$53,3,FALSE),\"\")","v":""},0,null,{"$f":"IFERROR(VLOOKUP(AI200,商品マスター!$B$7:$D$53,2,FALSE),\"\")","v":""},null,{"$f":"IFERROR(VLOOKUP(AI200,商品マスター!$B$7:$D$53,3,FALSE),\"\")","v":""},0,null,{"$f":"IFERROR(VLOOKUP(AN200,商品マスター!$B$7:$D$53,2,FALSE),\"\")","v":""},null,{"$f":"IFERROR(VLOOKUP(AN200,商品マスター!$B$7:$D$53,3,FALSE),\"\")","v":""},0,null,{"$f":"IFERROR(VLOOKUP(AS200,商品マスター!$B$7:$D$53,2,FALSE),\"\")","v":""},null,{"$f":"IFERROR(VLOOKUP(AS200,商品マスター!$B$7:$D$53,3,FALSE),\"\")","v":""},0,null,{"$f":"IFERROR(VLOOKUP(AX200,商品マスター!$B$7:$D$53,2,FALSE),\"\")","v":""},null,{"$f":"IFERROR(VLOOKUP(AX200,商品マスター!$B$7:$D$53,3,FALSE),\"\")","v":""},0,null,{"$f":"IFERROR(VLOOKUP(BC200,商品マスター!$B$7:$D$53,2,FALSE),\"\")","v":""},null,{"$f":"IFERROR(VLOOKUP(BC200,商品マスター!$B$7:$D$53,3,FALSE),\"\")","v":""},0,null,{"$f":"IFERROR(VLOOKUP(BH200,商品マスター!$B$7:$D$53,2,FALSE),\"\")","v":""},null,{"$f":"IFERROR(VLOOKUP(BH200,商品マスター!$B$7:$D$53,3,FALSE),\"\")","v":""},0,0,0.1,0,null,0]

{"sheet":"印刷対象データ","index":2,"n_rows":23,"n_cols":69,"rows_kept":23,"cut":false,"hidden":false,"merged":[[18,3,18,4],[22,3,22,4],[2,7,2,12],[0,64,0,68],[2,14,2,18],[2,19,2,23],[2,24,2,28],[2,29,2,33],[2,34,2,38],[2,39,2,43],[2,44,2,48],[2,49,2,53],[2,54,2,58],[2,59,2,63],[2,64,2,68],[14,3,14,4],[10,3,10,4],[2,5,3,5],[2,6,3,6],[2,0,3,0],[2,1,3,1],[2,2,3,2],[2,3,3,3],[2,4,3,4]]}
[null,null,null,"印刷対象データ抽出データ",null,null,null,null,null,null,"←塗りつぶしセルは入力不可保護扱い",null,null,null,null,null,null,null,null,null,null,null,null,null,null,null,null,null,null,null,null,null,null,null,null,null,null,null,null,null,null,null,null,null,null,null,null,null,null,null,null,null,null,null,null,null,null,null,null,null,null,null,null,null,"総合計"]
[null,null,null,null,null,null,null,null,null,null,null,null,null,null,null,null,null,null,null,null,null,null,null,null,null,null,null,null,null,null,null,null,null,null,null,null,null,null,null,null,null,null,null,null,null,null,null,null,null,null,null,null,null,null,null,null,null,null,null,null,null,null,null,null,{"$f":"SUM(BM5:BM198)","v":53500},null,{"$f":"SUM(BO5:BO198)","v":5350},{"$f":"SUM(BP5:BP198)","v":50},{"$f":"SUM(BQ5:BQ198)","v":58800}]
["月度","見積日","受注日","納品日","請求日","入金日","伝票番号","注文",null,null,null,null,null,null,"１項目",null,null,null,null,"２項目",null,null,null,null,"３項目",null,null,null,null,"４項目",null,null,null,null,"５項目",null,null,null,null,"６項目",null,null,null,null,"７項目",null,null,null,null,"８項目",null,null,null,null,"９項目",null,null,null,null,"１０項目",null,null,null,null,"合計"]
[null,null,null,null,null,null,null,"得意先コード","会社名","担当者","郵便番号","住所1","住所2",null,"商品コード","商品名","数量","単価","金額","商品コード","商品名","数量","単価","金額","商品コード","商品名","数量","単価","金額","商品コード","商品名","数量","単価","金額","商品コード","商品名","数量","単価","金額","商品コード","商品名","数量","単価","金額","商品コード","商品名","数量","単価","金額","商品コード","商品名","数量","単価","金額","商品コード","商品名","数量","単価","金額","商品コード","商品名","数量","単価","金額","合計金額","税率","消費税","値引き","合計"]
[{"$f":"IF(ISBLANK(C5),\"\",MONTH(C5))","v":6},"2022-06-10","2022-06-11","2022-06-15","2022-06-15","2022-06-30",22004,2101,{"$f":"IFERROR(VLOOKUP(H5,得意先マスター!$B$7:$H$103,2,FALSE),\"\")","v":"東京ヒルズ"},{"$f":"IFERROR(VLOOKUP(H5,得意先マスター!$B$7:$H$103,3,FALSE),\"\")","v":"営業部　山下"},{"$f":"IFERROR(VLOOKUP(H5,得意先マスター!$B$7:$H$103,4,FALSE),\"\")","v":"123-4567"},{"$f":"IFERROR(VLOOKUP(H5,得意先マスター!$B$7:$H$103,5,FALSE),\"\")","v":"東京都港区"},{"$f":"IFERROR(VLOOKUP(H5,得意先マスター!$B$7:$H$103,6,FALSE),\"\")","v":"六本木10-20-30"},null,12102,{"$f":"IFERROR(VLOOKUP(O5,商品マスター!$B$7:$D$53,2,FALSE),\"\")","v":"バタフライチェア　ネイビー"},5,{"$f":"IFERROR(VLOOKUP(O5,商品マスター!$B$7:$D$53,3,FALSE),\"\")","v":4900},{"$f":"IFERROR(Q5*R5,0)","v":24500},13102,{"$f":"IFERROR(VLOOKUP(T5,商品マスター!$B$7:$D$53,2,FALSE),\"\")","v":"木製折りたたみラック"},10,{"$f":"IFERROR(VLOOKUP(T5,商品マスター!$B$7:$D$53,3,FALSE),\"\")","v":2900},{"$f":"IFERROR(V5*W5,0)","v":29000},null,{"$f":"IFERROR(VLOOKUP(Y5,商品マスター!$B$7:$D$53,2,FALSE),\"\")","v":""},null,{"$f":"IFERROR(VLOOKUP(Y5,商品マスター!$B$7:$D$53,3,FALSE),\"\")","v":""},{"$f":"IFERROR(AA5*AB5,0)","v":0},null,{"$f":"IFERROR(VLOOKUP(AD5,商品マスター!$B$7:$D$53,2,FALSE),\"\")","v":""},null,{"$f":"IFERROR(VLOOKUP(AD5,商品マスター!$B$7:$D$53,3,FALSE),\"\")","v":""},{"$f":"IFERROR(AF5*AG5,0)","v":0},null,{"$f":"IFERROR(VLOOKUP(AI5,商品マスター!$B$7:$D$53,2,FALSE),\"\")","v":""},null,{"$f":"IFERROR(VLOOKUP(AI5,商品マスター!$B$7:$D$53,3,FALSE),\"\")","v":""},{"$f":"IFERROR(AK5*AL5,0)","v":0},null,{"$f":"IFERROR(VLOOKUP(AN5,商品マスター!$B$7:$D$53,2,FALSE),\"\")","v":""},null,{"$f":"IFERROR(VLOOKUP(AN5,商品マスター!$B$7:$D$53,3,FALSE),\"\")","v":""},{"$f":"IFERROR(AP5*AQ5,0)","v":0},null,{"$f":"IFERROR(VLOOKUP(AS5,商品マスター!$B$7:$D$53,2,FALSE),\"\")","v":""},null,{"$f":"IFERROR(VLOOKUP(AS5,商品マスター!$B$7:$D$53,3,FALSE),\"\")","v":""},{"$f":"IFERROR(AU5*AV5,0)","v":0},null,{"$f":"IFERROR(VLOOKUP(AX5,商品マスター!$B$7:$D$53,2,FALSE),\"\")","v":""},null,{"$f":"IFERROR(VLOOKUP(AX5,商品マスター!$B$7:$D$53,3,FALSE),\"\")","v":""},{"$f":"IFERROR(AZ5*BA5,0)","v":0},null,{"$f":"IFERROR(VLOOKUP(BC5,商品マスター!$B$7:$D$53,2,FALSE),\"\")","v":""},null,{"$f":"IFERROR(VLOOKUP(BC5,商品マスター!$B$7:$D$53,3,FALSE),\"\")","v":""},{"$f":"IFERROR(BE5*BF5,0)","v":0},null,{"$f":"IFERROR(VLOOKUP(BH5,商品マスター!$B$7:$D$53,2,FALSE),\"\")","v":""},null,{"$f":"IFERROR(VLOOKUP(BH5,商品マスター!$B$7:$D$53,3,FALSE),\"\")","v":""},{"$f":"IFERROR(BJ5*BK5,0)","v":0},{"$f":"IFERROR(S5+X5+AC5+AH5+AM5+AR5+AW5+BB5+BG5+BL5, \"\")","v":53500},0.1,{"$f":"IFERROR(BM5*BN5, \"\")","v":5350},50,{"$f":"BM5+BO5-BP5","v":58800}]
[]
["↑コピペ指示したデータが、貼り付けされていますか？"]
[]
[]
[null,null,null,{"$f":"IF(ISNUMBER(B5)*1,\"→　見積書印刷可能です\",\"→　見積日入力して下さい\")","v":"→　見積書印刷可能です"}]
[null,null,null,{"$f":"IF(ISNUMBER(B5)*1,B5,\"\")","v":"2022-06-10"}]
[]
[]
[null,null,null,{"$f":"IF(ISNUMBER(D5)*1,\"→　納品・受領書印刷可能です\",\"→　納品日入力して下さい\")","v":"→　納品・受領書印刷可能です"}]
[null,null,null,{"$f":"IF(ISNUMBER(D5)*1,D5,\"\")","v":"2022-06-15"}]
[]
[]
[null,null,null,{"$f":"IF(ISNUMBER(E5)*1,\"→　請求書印刷可能です\",\"→　請求日入力して下さい\")","v":"→　請求書印刷可能です"}]
[null,null,null,{"$f":"IF(ISNUMBER(E5)*1,E5,\"\")","v":"2022-06-15"}]
[]
[]
[null,null,null,{"$f":"IF(ISNUMBER(F5)*1,\"→　領収書印刷可能です\",\"→　入金日入力して下さい\")","v":"→　領収書印刷可能です"}]
[null,null,null,{"$f":"IF(ISNUMBER(F5)*1,F5,\"\")","v":"2022-06-30"}]

{"sheet":"見積書","index":3,"n_rows":35,"n_cols":15,"rows_kept":35,"cut":false,"hidden":false,"merged":[[0,1,0,14],[1,1,1,14],[3,1,4,8],[3,11,3,13],[4,11,4,13],[7,1,7,8],[7,10,7,13],[8,10,8,13],[9,10,9,13],[5,1,6,8],[10,10,10,13],[11,10,11,13],[13,1,14,3],[13,4,14,7],[13,8,14,8],[17,1,17,8],[17,9,17,10],[17,11,17,12],[17,13,17,14],[18,1,18,8],[18,9,18,10],[18,11,18,12],[18,13,18,14],[19,1,19,8],[19,9,19,10],[19,11,19,12],[19,13,19,14],[20,1,20,8],[20,9,20,10],[20,11,20,12],[20,13,20,14],[21,1,21,8],[21,9,21,10],[21,11,21,12],[21,13,21,14],[22,1,22,8],[22,9,22,10],[22,11,22,12],[22,13,22,14],[23,1,23,8],[23,9,23,10],[23,11,23,12],[23,13,23,14],[24,1,24,8],[24,9,24,10],[24,11,24,12],[24,13,24,14],[25,1,25,8],[25,9,25,10],[25,11,25,12],[25,13,25,14],[26,1,26,8],[26,9,26,10],[26,11,26,12],[26,13,26,14],[27,1,27,8],[27,9,27,10],[27,11,27,12],[27,13,27,14],[28,9,28,10],[28,11,28,14],[35,1,37,14],[34,1,34,14],[29,9,29,10],[29,11,29,14],[30,9,30,10],[30,11,30,14],[31,9,31,10],[31,11,31,14]]}
[null,"見　積　書"]
[null,"Quotation"]
[]
[null,{"$f":"印刷対象データ!I5","v":"東京ヒルズ"},null,null,null,null,null,null,null,null,"見積日：",{"$f":"印刷対象データ!B5","v":"2022-06-10"}]
[null,null,null,null,null,null,null,null,null,null,"伝票番号：",{"$f":"印刷対象データ!G5","v":22004},null,null,{"$f":"印刷対象データ!H5","v":2101}]
[null,{"$f":"CONCATENATE(印刷対象データ!J5,\"　様\")","v":"営業部　山下　様"}]
[]
[null,"下記の通り、お見積もりさせていただきます。ご検討のほど、よろしくお願いいたします。",null,null,null,null,null,null,null,null,{"$f":"事業主情報!C6","v":"Sample 株式会社"}]
[null,null,null,null,null,null,null,null,null,null,{"$f":"事業主情報!C7","v":"〒100-0005"}]
[null,null,null,null,null,null,null,null,null,null,{"$f":"事業主情報!C8","v":"東京都千代田区丸の内１丁目"}]
[null,null,null,null,null,null,null,null,null,null,{"$f":"事業主情報!C9","v":"　TEL.11-2222-3333"}]
[null,null,null,null,null,null,null,null,null,null,{"$f":"事業主情報!C10","v":"　FAX.12-3456-7890"}]
[]
[null,"お見積り金額",null,null,{"$f":"L32","v":58800},null,null,null,"（税込）"]
[]
[]
[]
[null,"品 番 • 品 名",null,null,null,null,null,null,null,"数 量",null,"単 価",null,"金 額"]
[null,{"$f":"印刷対象データ!P5","v":"バタフライチェア　ネイビー"},null,null,null,null,null,null,null,{"$f":"印刷対象データ!Q5","v":5},null,{"$f":"印刷対象データ!R5","v":4900},null,{"$f":"印刷対象データ!S5","v":24500}]
[null,{"$f":"印刷対象データ!U5","v":"木製折りたたみラック"},null,null,null,null,null,null,null,{"$f":"印刷対象データ!V5","v":10},null,{"$f":"印刷対象データ!W5","v":2900},null,{"$f":"印刷対象データ!X5","v":29000}]
[null,{"$f":"印刷対象データ!Z5","v":""},null,null,null,null,null,null,null,{"$f":"印刷対象データ!AA5","v":0},null,{"$f":"印刷対象データ!AB5","v":""},null,{"$f":"印刷対象データ!AC5","v":0}]
[null,{"$f":"印刷対象データ!AE5","v":""},null,null,null,null,null,null,null,{"$f":"印刷対象データ!AF5","v":0},null,{"$f":"印刷対象データ!AG5","v":""},null,{"$f":"印刷対象データ!AH5","v":0}]
[null,{"$f":"印刷対象データ!AJ5","v":""},null,null,null,null,null,null,null,{"$f":"印刷対象データ!AK5","v":0},null,{"$f":"印刷対象データ!AL5","v":""},null,{"$f":"印刷対象データ!AM5","v":0}]
[null,{"$f":"印刷対象データ!AO5","v":""},null,null,null,null,null,null,null,{"$f":"印刷対象データ!AP5","v":0},null,{"$f":"印刷対象データ!AQ5","v":""},null,{"$f":"印刷対象データ!AR5","v":0}]
[null,{"$f":"印刷対象データ!AT5","v":""},null,null,null,null,null,null,null,{"$f":"印刷対象データ!AU5","v":0},null,{"$f":"印刷対象データ!AV5","v":""},null,{"$f":"印刷対象データ!AW5","v":0}]
[null,{"$f":"印刷対象データ!AY5","v":""},null,null,null,null,null,null,null,{"$f":"印刷対象データ!AZ5","v":0},null,{"$f":"印刷対象データ!BA5","v":""},null,{"$f":"印刷対象データ!BB5","v":0}]
[null,{"$f":"印刷対象データ!BD5","v":""},null,null,null,null,null,null,null,{"$f":"印刷対象データ!BE5","v":0},null,{"$f":"印刷対象データ!BF5","v":""},null,{"$f":"印刷対象データ!BG5","v":0}]
[null,{"$f":"印刷対象データ!BI5","v":""},null,null,null,null,null,null,null,{"$f":"印刷対象データ!BJ5","v":0},null,{"$f":"印刷対象データ!BK5","v":""},null,{"$f":"印刷対象データ!BL5","v":0}]
[null,null,null,null,null,null,null,null,null,"小計",null,{"$f":"印刷対象データ!BM5","v":53500}]
[null,null,null,null,null,null,null,null,null,"消費税",null,{"$f":"印刷対象データ!BO5","v":5350}]
[null,null,null,null,null,null,null,null,null,"値引き",null,{"$f":"印刷対象データ!BP5","v":50}]
[null,null,null,null,null,null,null,null,null,"合計金額",null,{"$f":"印刷対象データ!BQ5","v":58800}]
[]
[]
[null,"備考"]

{"sheet":"納品書受領書","index":4,"n_rows":60,"n_cols":15,"rows_kept":60,"cut":false,"hidden":false,"merged":[[5,10,5,13],[6,10,6,13],[7,10,7,13],[0,1,0,14],[1,1,2,8],[1,11,1,13],[2,11,2,13],[3,1,4,8],[11,1,11,8],[11,9,11,10],[11,11,11,12],[11,13,11,14],[12,1,12,8],[12,9,12,10],[12,11,12,12],[12,13,12,14],[8,10,8,13],[9,10,9,13],[15,1,15,8],[15,9,15,10],[15,11,15,12],[15,13,15,14],[16,1,16,8],[16,9,16,10],[16,11,16,12],[16,13,16,14],[13,1,13,8],[13,9,13,10],[13,11,13,12],[13,13,13,14],[14,1,14,8],[14,9,14,10],[14,11,14,12],[14,13,14,14],[19,1,19,8],[19,9,19,10],[19,11,19,12],[19,13,19,14],[20,1,20,8],[20,9,20,10],[20,11,20,12],[20,13,20,14],[17,1,17,8],[17,9,17,10],[17,11,17,12],[17,13,17,14],[18,1,18,8],[18,9,18,10],[18,11,18,12],[18,13,18,14],[23,9,23,10],[23,11,23,14],[24,9,24,10],[24,11,24,14],[25,9,25,10],[25,11,25,14],[21,1,21,8],[21,9,21,10],[21,11,21,12],[21,13,21,14],[22,9,22,10],[22,11,22,14],[38,10,38,13],[39,10,39,13],[34,1,35,8],[36,10,36,13],[37,10,37,13],[31,1,31,14],[32,1,33,8],[32,11,32,13],[33,11,33,13],[40,10,40,13],[42,1,42,8],[42,9,42,10],[42,11,42,12],[42,13,42,14],[43,1,43,8],[43,9,43,10],[43,11,43,12],[43,13,43,14],[46,1,46,8],[46,9,46,10],[46,11,46,12],[46,13,46,14],[47,1,47,8],[47,9,47,10],[47,11,47,12],[47,13,47,14],[44,1,44,8],[44,9,44,10],[44,11,44,12],[44,13,44,14],[45,1,45,8],[45,9,45,10],[45,11,45,12],[45,13,45,14],[50,1,50,8],[50,9,50,10],[50,11,50,12],[50,13,50,14],[51,1,51,8],[51,9,51,10],[51,11,51,12],[51,13,51,14],[48,1,48,8],[48,9,48,10],[48,11,48,12],[48,13,48,14],[49,1,49,8],[49,9,49,10],[49,11,49,12],[49,13,49,14],[54,9,54,10],[54,11,54,14],[55,9,55,10],[55,11,55,14],[56,9,56,10],[56,11,56,14],[52,1,52,8],[52,9,52,10],[52,11,52,12],[52,13,52,14],[53,9,53,10],[53,11,53,14]]}
[null,"納　品　書"]
[null,{"$f":"印刷対象データ!I5","v":"東京ヒルズ"},null,null,null,null,null,null,null,null,"納品日：",{"$f":"印刷対象データ!D5","v":"2022-06-15"}]
[null,null,null,null,null,null,null,null,null,null,"伝票番号：",{"$f":"印刷対象データ!G5","v":22004},null,null,{"$f":"印刷対象データ!H5","v":2101}]
[null,{"$f":"CONCATENATE(印刷対象データ!J5,\"　様\")","v":"営業部　山下　様"}]
[]
[null,null,null,null,null,null,null,null,null,null,{"$f":"事業主情報!C6","v":"Sample 株式会社"}]
[null,null,null,null,null,null,null,null,null,null,{"$f":"事業主情報!C7","v":"〒100-0005"}]
[null,null,null,null,null,null,null,null,null,null,{"$f":"事業主情報!C8","v":"東京都千代田区丸の内１丁目"}]
[null,null,null,null,null,null,null,null,null,null,{"$f":"事業主情報!C9","v":"　TEL.11-2222-3333"}]
[null,null,null,null,null,null,null,null,null,null,{"$f":"事業主情報!C10","v":"　FAX.12-3456-7890"}]
[]
[null,"品 番 • 品 名",null,null,null,null,null,null,null,"数 量",null,"単 価",null,"金 額"]
[null,{"$f":"印刷対象データ!P5","v":"バタフライチェア　ネイビー"},null,null,null,null,null,null,null,{"$f":"印刷対象データ!Q5","v":5},null,{"$f":"印刷対象データ!R5","v":4900},null,{"$f":"印刷対象データ!S5","v":24500}]
[null,{"$f":"印刷対象データ!U5","v":"木製折りたたみラック"},null,null,null,null,null,null,null,{"$f":"印刷対象データ!V5","v":10},null,{"$f":"印刷対象データ!W5","v":2900},null,{"$f":"印刷対象データ!X5","v":29000}]
[null,{"$f":"印刷対象データ!Z5","v":""},null,null,null,null,null,null,null,{"$f":"印刷対象データ!AA5","v":0},null,{"$f":"印刷対象データ!AB5","v":""},null,{"$f":"印刷対象データ!AC5","v":0}]
[null,{"$f":"印刷対象データ!AE5","v":""},null,null,null,null,null,null,null,{"$f":"印刷対象データ!AF5","v":0},null,{"$f":"印刷対象データ!AG5","v":""},null,{"$f":"印刷対象データ!AH5","v":0}]
[null,{"$f":"印刷対象データ!AJ5","v":""},null,null,null,null,null,null,null,{"$f":"印刷対象データ!AK5","v":0},null,{"$f":"印刷対象データ!AL5","v":""},null,{"$f":"印刷対象データ!AM5","v":0}]
[null,{"$f":"印刷対象データ!AO5","v":""},null,null,null,null,null,null,null,{"$f":"印刷対象データ!AP5","v":0},null,{"$f":"印刷対象データ!AQ5","v":""},null,{"$f":"印刷対象データ!AR5","v":0}]
[null,{"$f":"印刷対象データ!AT5","v":""},null,null,null,null,null,null,null,{"$f":"印刷対象データ!AU5","v":0},null,{"$f":"印刷対象データ!AV5","v":""},null,{"$f":"印刷対象データ!AW5","v":0}]
[null,{"$f":"印刷対象データ!AY5","v":""},null,null,null,null,null,null,null,{"$f":"印刷対象データ!AZ5","v":0},null,{"$f":"印刷対象データ!BA5","v":""},null,{"$f":"印刷対象データ!BB5","v":0}]
[null,{"$f":"印刷対象データ!BD5","v":""},null,null,null,null,null,null,null,{"$f":"印刷対象データ!BE5","v":0},null,{"$f":"印刷対象データ!BF5","v":""},null,{"$f":"印刷対象データ!BG5","v":0}]
[null,{"$f":"印刷対象データ!BI5","v":""},null,null,null,null,null,null,null,{"$f":"印刷対象データ!BJ5","v":0},null,{"$f":"印刷対象データ!BK5","v":""},null,{"$f":"印刷対象データ!BL5","v":0}]
[null,null,null,null,null,null,null,null,null,"小計",null,{"$f":"印刷対象データ!BM5","v":53500}]
[null,null,null,null,null,null,null,null,null,"消費税",null,{"$f":"印刷対象データ!BO5","v":5350}]
[null,null,null,null,null,null,null,null,null,"値引き",null,{"$f":"印刷対象データ!BP5","v":50}]
[null,null,null,null,null,null,null,null,null,"合計金額",null,{"$f":"印刷対象データ!BQ5","v":58800}]
[]
[]
[]
[]
[]
[null,"受　領　書"]
[null,{"$f":"印刷対象データ!I5","v":"東京ヒルズ"},null,null,null,null,null,null,null,null,"納品日：",{"$f":"印刷対象データ!D5","v":"2022-06-15"}]
[null,null,null,null,null,null,null,null,null,null,"伝票番号：",{"$f":"印刷対象データ!G5","v":22004},null,null,{"$f":"印刷対象データ!H5","v":2101}]
[null,{"$f":"CONCATENATE(印刷対象データ!J5,\"　様\")","v":"営業部　山下　様"}]
[]
[null,null,null,null,null,null,null,null,null,null,{"$f":"事業主情報!C6","v":"Sample 株式会社"}]
[null,null,null,null,null,null,null,null,null,null,{"$f":"事業主情報!C7","v":"〒100-0005"}]
[null,null,null,null,null,null,null,null,null,null,{"$f":"事業主情報!C8","v":"東京都千代田区丸の内１丁目"}]
[null,null,null,null,null,null,null,null,null,null,{"$f":"事業主情報!C9","v":"　TEL.11-2222-3333"}]
[null,null,null,null,null,null,null,null,null,null,{"$f":"事業主情報!C10","v":"　FAX.12-3456-7890"}]
[]
[null,"品 番 • 品 名",null,null,null,null,null,null,null,"数 量",null,"単 価",null,"金 額"]
[null,{"$f":"印刷対象データ!P5","v":"バタフライチェア　ネイビー"},null,null,null,null,null,null,null,{"$f":"印刷対象データ!Q5","v":5},null,{"$f":"印刷対象データ!R5","v":4900},null,{"$f":"印刷対象データ!S5","v":24500}]
[null,{"$f":"印刷対象データ!U5","v":"木製折りたたみラック"},null,null,null,null,null,null,null,{"$f":"印刷対象データ!V5","v":10},null,{"$f":"印刷対象データ!W5","v":2900},null,{"$f":"印刷対象データ!X5","v":29000}]
[null,{"$f":"印刷対象データ!Z5","v":""},null,null,null,null,null,null,null,{"$f":"印刷対象データ!AA5","v":0},null,{"$f":"印刷対象データ!AB5","v":""},null,{"$f":"印刷対象データ!AC5","v":0}]
[null,{"$f":"印刷対象データ!AE5","v":""},null,null,null,null,null,null,null,{"$f":"印刷対象データ!AF5","v":0},null,{"$f":"印刷対象データ!AG5","v":""},null,{"$f":"印刷対象データ!AH5","v":0}]
[null,{"$f":"印刷対象データ!AJ5","v":""},null,null,null,null,null,null,null,{"$f":"印刷対象データ!AK5","v":0},null,{"$f":"印刷対象データ!AL5","v":""},null,{"$f":"印刷対象データ!AM5","v":0}]
[null,{"$f":"印刷対象データ!AO5","v":""},null,null,null,null,null,null,null,{"$f":"印刷対象データ!AP5","v":0},null,{"$f":"印刷対象データ!AQ5","v":""},null,{"$f":"印刷対象データ!AR5","v":0}]
[null,{"$f":"印刷対象データ!AT5","v":""},null,null,null,null,null,null,null,{"$f":"印刷対象データ!AU5","v":0},null,{"$f":"印刷対象データ!AV5","v":""},null,{"$f":"印刷対象データ!AW5","v":0}]
[null,{"$f":"印刷対象データ!AY5","v":""},null,null,null,null,null,null,null,{"$f":"印刷対象データ!AZ5","v":0},null,{"$f":"印刷対象データ!BA5","v":""},null,{"$f":"印刷対象データ!BB5","v":0}]
[null,{"$f":"印刷対象データ!BD5","v":""},null,null,null,null,null,null,null,{"$f":"印刷対象データ!BE5","v":0},null,{"$f":"印刷対象データ!BF5","v":""},null,{"$f":"印刷対象データ!BG5","v":0}]
[null,{"$f":"印刷対象データ!BI5","v":""},null,null,null,null,null,null,null,{"$f":"印刷対象データ!BJ5","v":0},null,{"$f":"印刷対象データ!BK5","v":""},null,{"$f":"印刷対象データ!BL5","v":0}]
[null,null,null,null,null,null,null,null,null,"小計",null,{"$f":"印刷対象データ!BM5","v":53500}]
[null,"上記の通り、受領いたしました。 ",null,null,null,null,null,null,null,"消費税",null,{"$f":"印刷対象データ!BO5","v":5350}]
[null,null,"受領日",null,null,null,"受領印",null,null,"値引き",null,{"$f":"印刷対象データ!BP5","v":50}]
[null,null,null,null,null,null,null,null,null,"合計金額",null,{"$f":"印刷対象データ!BQ5","v":58800}]
[]
[]
[null,"令和　　年　　　月　　　日"]

{"sheet":"請求書","index":5,"n_rows":38,"n_cols":15,"rows_kept":38,"cut":false,"hidden":false,"merged":[[31,9,31,10],[31,11,31,14],[34,1,34,14],[40,1,40,14],[29,11,29,14],[28,9,28,10],[28,11,28,14],[29,9,29,10],[30,9,30,10],[30,11,30,14],[27,1,27,8],[27,11,27,12],[27,13,27,14],[27,9,27,10],[25,1,25,8],[25,11,25,12],[25,13,25,14],[26,1,26,8],[26,11,26,12],[26,13,26,14],[25,9,25,10],[26,9,26,10],[23,1,23,8],[23,11,23,12],[23,13,23,14],[24,1,24,8],[24,11,24,12],[24,13,24,14],[23,9,23,10],[24,9,24,10],[21,1,21,8],[21,11,21,12],[21,13,21,14],[22,1,22,8],[22,11,22,12],[22,13,22,14],[21,9,21,10],[22,9,22,10],[17,13,17,14],[19,1,19,8],[19,11,19,12],[19,13,19,14],[20,1,20,8],[20,11,20,12],[20,13,20,14],[18,9,18,10],[19,9,19,10],[20,9,20,10],[18,1,18,8],[18,11,18,12],[18,13,18,14],[17,1,17,8],[17,9,17,10],[17,11,17,12],[10,1,10,2],[10,3,10,4],[10,10,10,13],[11,10,11,13],[13,1,14,3],[13,4,14,7],[13,8,14,8],[7,1,7,8],[7,10,7,13],[8,1,8,8],[8,10,8,13],[9,1,9,2],[9,3,9,4],[9,10,9,13],[5,1,6,8],[0,1,0,14],[1,1,1,14],[3,1,4,8],[3,11,3,13],[4,11,4,13]]}
[null,"請　求　書"]
[null,"INVOICE"]
[]
[null,{"$f":"印刷対象データ!I5","v":"東京ヒルズ"},null,null,null,null,null,null,null,null,"請求日：",{"$f":"印刷対象データ!E5","v":"2022-06-15"}]
[null,null,null,null,null,null,null,null,null,null,"伝票番号：",{"$f":"印刷対象データ!G5","v":22004},null,null,{"$f":"印刷対象データ!H5","v":2101}]
[null,{"$f":"CONCATENATE(印刷対象データ!J5,\"　様\")","v":"営業部　山下　様"}]
[]
[null,"下記の通りご請求申し上げます。",null,null,null,null,null,null,null,null,{"$f":"事業主情報!C6","v":"Sample 株式会社"}]
[null,null,null,null,null,null,null,null,null,null,{"$f":"事業主情報!C7","v":"〒100-0005"}]
[null,null,null,null,null,null,null,null,null,null,{"$f":"事業主情報!C8","v":"東京都千代田区丸の内１丁目"}]
[null,null,null,null,null,null,null,null,null,null,{"$f":"事業主情報!C9","v":"　TEL.11-2222-3333"}]
[null,null,null,null,null,null,null,null,null,null,{"$f":"事業主情報!C10","v":"　FAX.12-3456-7890"}]
[]
[null,"ご請求金額",null,null,{"$f":"L32","v":58800},null,null,null,"（税込）"]
[]
[]
[]
[null,"品 番 • 品 名",null,null,null,null,null,null,null,"数 量",null,"単 価",null,"金 額"]
[null,{"$f":"印刷対象データ!P5","v":"バタフライチェア　ネイビー"},null,null,null,null,null,null,null,{"$f":"印刷対象データ!Q5","v":5},null,{"$f":"印刷対象データ!R5","v":4900},null,{"$f":"印刷対象データ!S5","v":24500}]
[null,{"$f":"印刷対象データ!U5","v":"木製折りたたみラック"},null,null,null,null,null,null,null,{"$f":"印刷対象データ!V5","v":10},null,{"$f":"印刷対象データ!W5","v":2900},null,{"$f":"印刷対象データ!X5","v":29000}]
[null,{"$f":"印刷対象データ!Z5","v":""},null,null,null,null,null,null,null,{"$f":"印刷対象データ!AA5","v":0},null,{"$f":"印刷対象データ!AB5","v":""},null,{"$f":"印刷対象データ!AC5","v":0}]
[null,{"$f":"印刷対象データ!AE5","v":""},null,null,null,null,null,null,null,{"$f":"印刷対象データ!AF5","v":0},null,{"$f":"印刷対象データ!AG5","v":""},null,{"$f":"印刷対象データ!AH5","v":0}]
[null,{"$f":"印刷対象データ!AJ5","v":""},null,null,null,null,null,null,null,{"$f":"印刷対象データ!AK5","v":0},null,{"$f":"印刷対象データ!AL5","v":""},null,{"$f":"印刷対象データ!AM5","v":0}]
[null,{"$f":"印刷対象データ!AO5","v":""},null,null,null,null,null,null,null,{"$f":"印刷対象データ!AP5","v":0},null,{"$f":"印刷対象データ!AQ5","v":""},null,{"$f":"印刷対象データ!AR5","v":0}]
[null,{"$f":"印刷対象データ!AT5","v":""},null,null,null,null,null,null,null,{"$f":"印刷対象データ!AU5","v":0},null,{"$f":"印刷対象データ!AV5","v":""},null,{"$f":"印刷対象データ!AW5","v":0}]
[null,{"$f":"印刷対象データ!AY5","v":""},null,null,null,null,null,null,null,{"$f":"印刷対象データ!AZ5","v":0},null,{"$f":"印刷対象データ!BA5","v":""},null,{"$f":"印刷対象データ!BB5","v":0}]
[null,{"$f":"印刷対象データ!BD5","v":""},null,null,null,null,null,null,null,{"$f":"印刷対象データ!BE5","v":0},null,{"$f":"印刷対象データ!BF5","v":""},null,{"$f":"印刷対象データ!BG5","v":0}]
[null,{"$f":"印刷対象データ!BI5","v":""},null,null,null,null,null,null,null,{"$f":"印刷対象データ!BJ5","v":0},null,{"$f":"印刷対象データ!BK5","v":""},null,{"$f":"印刷対象データ!BL5","v":0}]
[null,null,null,null,null,null,null,null,null,"小計",null,{"$f":"印刷対象データ!BM5","v":53500}]
[null,null,null,null,null,null,null,null,null,"消費税",null,{"$f":"印刷対象データ!BO5","v":5350}]
[null,null,null,null,null,null,null,null,null,"値引き",null,{"$f":"印刷対象データ!BP5","v":50}]
[null,null,null,null,null,null,null,null,null,"合計金額",null,{"$f":"印刷対象データ!BQ5","v":58800}]
[]
[]
[null,"備考"]
[null,{"$f":"事業主情報!E6","v":"　銀行振込先：金融機関：XX銀行　　支店名：XX支店　　口座種別：普通"}]
[null,{"$f":"事業主情報!E7","v":"　口座番号：１２３４５６７　口座名義：株式会社　XX"}]
[null,{"$f":"事業主情報!E8","v":"　お振込み手数料は御社ご負担にてお願いいたします。"}]

{"sheet":"領収書","index":6,"n_rows":15,"n_cols":16,"rows_kept":15,"cut":false,"hidden":false,"merged":[[9,15,9,16],[0,1,0,12],[1,10,1,12],[2,10,2,12],[5,1,5,8],[7,1,7,2],[7,4,7,7],[4,1,4,8],[2,1,2,2],[2,3,2,8],[3,3,3,8],[10,4,10,6],[10,8,10,11],[8,3,8,9],[16,1,16,12],[11,4,11,6],[12,2,12,3],[12,4,12,6],[12,8,12,11],[13,2,13,3],[13,4,13,6],[13,8,13,11],[14,2,14,3],[14,4,14,6],[15,6,15,7],[15,9,15,10]]}
[null,"   領 収 書　"]
[null,null,null,null,null,null,null,null,null,"伝票番号",{"$f":"印刷対象データ!G5","v":22004},null,null,{"$f":"印刷対象データ!H5","v":2101}]
[null,{"$f":"印刷対象データ!K5","v":"123-4567"},null,{"$f":"印刷対象データ!L5","v":"東京都港区"},null,null,null,null,null,"発行日",{"$f":"印刷対象データ!F5","v":"2022-06-30"}]
[null,null,null,{"$f":"印刷対象データ!M5","v":"六本木10-20-30"}]
[null,{"$f":"印刷対象データ!I5","v":"東京ヒルズ"}]
[null,{"$f":"CONCATENATE(印刷対象データ!J5,\"　様\")","v":"営業部　山下　様"}]
[]
[null,"金額",null,null,{"$f":"印刷対象データ!BQ5","v":58800}]
[null,null,"但し　",{"$f":"P10","v":"事務備品品代として"},null,null,null,null,null,null,null,null,null,null,null,"但し書き"]
[null,null,"上記正に領収いたしました。",null,null,null,null,null,null,null,null,null,null,null,null,"事務備品品代として"]
[null,null,null,null,null,null,null,null,{"$f":"事業主情報!C6","v":"Sample 株式会社"}]
[null,null,null,null,null,null,null,null,{"$f":"事業主情報!C7","v":"〒100-0005"}]
[null,null,"税別金額",null,null,null,null,null,{"$f":"事業主情報!C8","v":"東京都千代田区丸の内１丁目"}]
[null,null,"消費税額",null,null,null,null,null,{"$f":"事業主情報!C9","v":"　TEL.11-2222-3333"}]
[null,null,"源泉徴収税",null,null,null,null,null,{"$f":"事業主情報!C10","v":"　FAX.12-3456-7890"}]

{"sheet":"得意先マスター","index":7,"n_rows":11,"n_cols":17,"rows_kept":11,"cut":false,"hidden":false,"merged":[[3,1,3,2]]}
[]
[]
[]
[null,"得意先マスター",null,null,null,null,null,null,null,null,"サンプルコード体系"]
[]
[null,"得意先\nコード","得意先名","担当者名","郵便番号","住所1","住所2","単価",null,null,null,"１桁目",null,"２桁目",null,"３桁目","備考"]
[null,1101,"東京アトリエ","商品開発部　新庄","131-0045","東京都墨田区","押上１丁目１−２","契約単価①",null,null,1,"定期契約",1,"Aランク","01～連番",null,"契約単価顧客"]
[null,2101,"東京ヒルズ","営業部　山下","123-4567","東京都港区","六本木10-20-30","標準単価",null,null,null,null,2,"Bランク"]
[null,null,null,null,null,null,null,null,null,null,null,null,3,"その他"]
[null,null,null,null,null,null,null,null,null,null,2,"一般顧客",1,"一般",null,null,"通常単価顧客"]
[null,null,null,null,null,null,null,null,null,null,3,"一般顧客",1,"一般",null,null,"特価単価顧客"]

{"sheet":"商品マスター","index":8,"n_rows":34,"n_cols":14,"rows_kept":34,"cut":false,"hidden":false,"merged":[[3,1,3,2]]}
[]
[]
[]
[null,"商品マスター",null,null,null,null,null,"サンプルコード体系"]
[]
[null,"商品\nコード","商品名","単価","備考",null,null,null,"１桁目",null,"２桁目",null,"３桁目","４桁目"]
[null,11101,"ミニテーブル",1200,"標準単価",null,null,1,"標準価格",1,"国内産",1,"木材","01～連番"]
[null,11201,"隙間に便利なミニテーブル",3000,"標準単価",null,null,null,null,null,null,2,"金属"]
[null,12101,"綺麗な歯ブラシ置き場",1200,"標準単価",null,null,null,null,2,"輸入物",3]
[null,12201,"スッキリさせるポケット収納",3000,"標準単価",null,null,null,null,null,null,4]
[null,13101,"紙物収納ウォールラック",1500,"標準単価",null,null,null,null,3,"自社加工",5]
[null,13201,"コンパクトなマガジンラック",2500,"標準単価",null,null,null,null,null,null,6]
[null,21101,"使いやすいマグネットボード",1500,"契約単価①",null,null,null,null,null,null,7]
[null,21201,"スマート収納壁面ラック",1500,"契約単価①",null,null,2,"契約単価①",1,null,1,null,"01～連番"]
[null,22201,"ワイヤーバスケット",3000,"契約単価①",null,null,null,null,null,null,2]
[null,23101,"高さを変えられるテーブル",1200,"契約単価①",null,null,null,null,2,null,3]
[null,23201,"便利なコンロカバー",3000,"契約単価①",null,null,null,null,null,null,4]
[null,31101,"ローテーブル",1200,"契約単価②",null,null,null,null,3,null,5]
[null,31201,"図書館のような本棚",3000,"契約単価②",null,null,null,null,null,null,6]
[null,32101,"スパイスラック",1500,"契約単価②",null,null,null,null,null,null,7]
[null,32201,"カフェトレイ",2600,"契約単価②",null,null,3,"家電",1,"テレビ",1,"国産","01～連番"]
[null,33101,"すのこ収納棚",1550,"契約単価③",null,null,null,null,null,null,2,"韓国"]
[null,33201,"野菜ストッカー",1500,"契約単価③",null,null,null,null,2,"冷蔵庫",3,"中国"]
[null,33202,"パソコンデスク",3000,"契約単価③",null,null,null,null,null,null,4,"台湾"]
[null,12102,"バタフライチェア　ネイビー",4900,"標準単価",null,null,null,null,3,"洗濯機",5,"米国"]
[null,13102,"木製折りたたみラック",2900,"標準単価",null,null,null,null,null,null,6]
[null,null,null,null,null,null,null,null,null,null,null,7]
[null,null,null,null,null,null,null,4,"事務機器",1,"机、キャビ",1,null,"01～連番"]
[null,null,null,null,null,null,null,null,null,null,null,2]
[null,null,null,null,null,null,null,null,null,2,"金庫",3]
[null,null,null,null,null,null,null,null,null,null,null,4]
[null,null,null,null,null,null,null,null,null,3,"PC",5]
[null,null,null,null,null,null,null,null,null,null,null,6]
[null,null,null,null,null,null,null,null,null,null,null,7]

{"sheet":"事業主情報","index":9,"n_rows":22,"n_cols":5,"rows_kept":22,"cut":false,"hidden":false,"merged":[]}
[]
[]
[]
[null,"事業主情報",null,null,"振込情報"]
[]
[null,"名称","Sample 株式会社",null,"　銀行振込先：金融機関：XX銀行　　支店名：XX支店　　口座種別：普通"]
[null,"郵便番号","〒100-0005",null,"　口座番号：１２３４５６７　口座名義：株式会社　XX"]
[null,"住所","東京都千代田区丸の内１丁目",null,"　お振込み手数料は御社ご負担にてお願いいたします。"]
[null,"電話","　TEL.11-2222-3333"]
[null,"ファックス","　FAX.12-3456-7890"]
[]
[]
[null,"担当印章情報"]
[]
[]
[]
[]
[]
[]
[]
[]
[null,"会社印章情報"]

{"sheet":"ログイン情報","index":10,"n_rows":5,"n_cols":2,"rows_kept":5,"cut":false,"hidden":false,"merged":[]}
["ID","パスワード"]
["admin","admin"]
["kishida","fumio"]
["東京","tokyo"]
["千葉","chiba"]